Back to Multiple platform build/check report for BioC 3.17:   simplified   long
[A]BCDEFGHIJKLMNOPQRSTUVWXYZ

This page was generated on 2023-05-29 11:04:15 -0400 (Mon, 29 May 2023).

HostnameOSArch (*)R versionInstalled pkgs
nebbiolo1Linux (Ubuntu 22.04.2 LTS)x86_644.3.0 RC (2023-04-13 r84269) -- "Already Tomorrow" 4617
palomino3Windows Server 2022 Datacenterx644.3.0 RC (2023-04-13 r84269 ucrt) -- "Already Tomorrow" 4368
merida1macOS 12.6.4 Montereyx86_644.3.0 RC (2023-04-13 r84257) -- "Already Tomorrow" 4326
Click on any hostname to see more info about the system (e.g. compilers)      (*) as reported by 'uname -p', except on Windows and Mac OS X

All results for package AnnotationDbi


To the developers/maintainers of the AnnotationDbi package:
- Allow up to 24 hours (and sometimes 48 hours) for your latest push to git@git.bioconductor.org:packages/AnnotationDbi.git to reflect on this report. See Troubleshooting Build Report for more information.

- Use the following Renviron settings to reproduce errors and warnings.

Note: If "R CMD check" recently failed on the Linux builder over a missing dependency, add the missing dependency to "Suggests" in your DESCRIPTION file. See the Renviron.bioc for details.

raw results

Package 68/2229HostnameOS / ArchINSTALLBUILDCHECKBUILD BIN
AnnotationDbi 1.62.1  (landing page)
Bioconductor Package Maintainer
Snapshot Date: 2023-05-28 14:00:13 -0400 (Sun, 28 May 2023)
git_url: https://git.bioconductor.org/packages/AnnotationDbi
git_branch: RELEASE_3_17
git_last_commit: 21f8479
git_last_commit_date: 2023-05-01 20:20:45 -0400 (Mon, 01 May 2023)
nebbiolo1Linux (Ubuntu 22.04.2 LTS) / x86_64  OK    OK    WARNINGS  UNNEEDED, same version is already published
palomino3Windows Server 2022 Datacenter / x64  OK    OK    WARNINGS    OK  UNNEEDED, same version is already published
merida1macOS 12.6.4 Monterey / x86_64  OK    OK    WARNINGS    OK  UNNEEDED, same version is already published

Results for Bioconductor software packages that depend directly on package AnnotationDbi

QUICK STATSOS / ArchINSTALLBUILDCHECKBUILD BIN
nebbiolo1Linux (Ubuntu 22.04.2 LTS) / x86_64
01193
08186
01136139
palomino3Windows Server 2022 Datacenter / x64
01193
010184
0438142
00184
merida1macOS 12.6.4 Monterey / x86_64
03191
111182
2337140
00182
Package 1/194HostnameOS / ArchINSTALLBUILDCHECKBUILD BIN
adSplit 1.70.0  (landing page)
Claudio Lottaz
git_last_commit: a08a994
git_last_commit_date: 2023-04-25 09:43:13 -0400
nebbiolo1Linux (Ubuntu 22.04.2 LTS) / x86_64  OK    OK    OK  UNNEEDED, same version is already published
palomino3Windows Server 2022 Datacenter / x64  OK    OK    OK    OK  UNNEEDED, same version is already published
merida1macOS 12.6.4 Monterey / x86_64  OK    OK    OK    OK  UNNEEDED, same version is already published
Package 2/194HostnameOS / ArchINSTALLBUILDCHECKBUILD BIN
affycoretools 1.72.0  (landing page)
James W. MacDonald
git_last_commit: 229ae09
git_last_commit_date: 2023-04-25 09:42:43 -0400
nebbiolo1Linux (Ubuntu 22.04.2 LTS) / x86_64  OK    OK    OK  UNNEEDED, same version is already published
palomino3Windows Server 2022 Datacenter / x64  OK    OK    OK    OK  UNNEEDED, same version is already published
merida1macOS 12.6.4 Monterey / x86_64  OK    OK    OK    OK  NO, package depends on 'ReportingTools' which is not available
Package 3/194HostnameOS / ArchINSTALLBUILDCHECKBUILD BIN
affylmGUI 1.74.0  (landing page)
Gordon Smyth
git_last_commit: 060770a
git_last_commit_date: 2023-04-25 09:40:14 -0400
nebbiolo1Linux (Ubuntu 22.04.2 LTS) / x86_64  OK    OK    OK  UNNEEDED, same version is already published
palomino3Windows Server 2022 Datacenter / x64  OK    OK    OK    OK  UNNEEDED, same version is already published
merida1macOS 12.6.4 Monterey / x86_64  OK    OK    OK    OK  UNNEEDED, same version is already published
Package 4/194HostnameOS / ArchINSTALLBUILDCHECKBUILD BIN
AllelicImbalance 1.38.0  (landing page)
Jesper R Gadin
git_last_commit: 75a3b0f
git_last_commit_date: 2023-04-25 10:28:56 -0400
nebbiolo1Linux (Ubuntu 22.04.2 LTS) / x86_64  OK    OK    OK  UNNEEDED, same version is already published
palomino3Windows Server 2022 Datacenter / x64  OK    OK    OK    OK  UNNEEDED, same version is already published
merida1macOS 12.6.4 Monterey / x86_64  OK    OK    OK    OK  UNNEEDED, same version is already published
Package 5/194HostnameOS / ArchINSTALLBUILDCHECKBUILD BIN
annaffy 1.72.0  (landing page)
Colin A. Smith
git_last_commit: 7cb4397
git_last_commit_date: 2023-04-25 09:39:13 -0400
nebbiolo1Linux (Ubuntu 22.04.2 LTS) / x86_64  OK    OK    WARNINGS  UNNEEDED, same version is already published
palomino3Windows Server 2022 Datacenter / x64  OK    OK    WARNINGS    OK  UNNEEDED, same version is already published
merida1macOS 12.6.4 Monterey / x86_64  OK    OK    WARNINGS    OK  UNNEEDED, same version is already published
Package 6/194HostnameOS / ArchINSTALLBUILDCHECKBUILD BIN
annotate 1.78.0  (landing page)
Bioconductor Package Maintainer
git_last_commit: ca6415a
git_last_commit_date: 2023-04-25 09:38:15 -0400
nebbiolo1Linux (Ubuntu 22.04.2 LTS) / x86_64  OK    OK    OK  UNNEEDED, same version is already published
palomino3Windows Server 2022 Datacenter / x64  OK    OK    ERROR    OK  
merida1macOS 12.6.4 Monterey / x86_64  OK    OK    OK    OK  UNNEEDED, same version is already published
Package 7/194HostnameOS / ArchINSTALLBUILDCHECKBUILD BIN
AnnotationForge 1.42.0  (landing page)
Bioconductor Package Maintainer
git_last_commit: 2eac005
git_last_commit_date: 2023-04-25 10:23:24 -0400
nebbiolo1Linux (Ubuntu 22.04.2 LTS) / x86_64  OK    OK    WARNINGS  UNNEEDED, same version is already published
palomino3Windows Server 2022 Datacenter / x64  OK    OK    WARNINGS    OK  UNNEEDED, same version is already published
merida1macOS 12.6.4 Monterey / x86_64  OK    OK    WARNINGS    OK  UNNEEDED, same version is already published
Package 8/194HostnameOS / ArchINSTALLBUILDCHECKBUILD BIN
AnnotationHub 3.8.0  (landing page)
Bioconductor Package Maintainer
git_last_commit: 975022d
git_last_commit_date: 2023-04-25 10:26:37 -0400
nebbiolo1Linux (Ubuntu 22.04.2 LTS) / x86_64  OK    OK    WARNINGS  UNNEEDED, same version is already published
palomino3Windows Server 2022 Datacenter / x64  OK    OK    WARNINGS    OK  UNNEEDED, same version is already published
merida1macOS 12.6.4 Monterey / x86_64  OK    OK    WARNINGS    OK  UNNEEDED, same version is already published
Package 9/194HostnameOS / ArchINSTALLBUILDCHECKBUILD BIN
AnnotationHubData 1.30.0  (landing page)
Bioconductor Package Maintainer
git_last_commit: 3cf163f
git_last_commit_date: 2023-04-25 10:41:16 -0400
nebbiolo1Linux (Ubuntu 22.04.2 LTS) / x86_64  OK    OK    WARNINGS  UNNEEDED, same version is already published
palomino3Windows Server 2022 Datacenter / x64  OK    OK    WARNINGS    OK  UNNEEDED, same version is already published
merida1macOS 12.6.4 Monterey / x86_64  OK    OK    WARNINGS    OK  UNNEEDED, same version is already published
Package 10/194HostnameOS / ArchINSTALLBUILDCHECKBUILD BIN
annotatr 1.26.0  (landing page)
Raymond G. Cavalcante
git_last_commit: 2a45d0a
git_last_commit_date: 2023-04-25 10:50:36 -0400
nebbiolo1Linux (Ubuntu 22.04.2 LTS) / x86_64  OK    OK    OK  UNNEEDED, same version is already published
palomino3Windows Server 2022 Datacenter / x64  OK    OK    OK    OK  UNNEEDED, same version is already published
merida1macOS 12.6.4 Monterey / x86_64  OK    OK    OK    OK  UNNEEDED, same version is already published
Package 11/194HostnameOS / ArchINSTALLBUILDCHECKBUILD BIN
artMS 1.18.0  (landing page)
David Jimenez-Morales
git_last_commit: 06049bc
git_last_commit_date: 2023-04-25 11:06:01 -0400
nebbiolo1Linux (Ubuntu 22.04.2 LTS) / x86_64  OK    OK    OK  UNNEEDED, same version is already published
palomino3Windows Server 2022 Datacenter / x64  OK    OK    OK    OK  UNNEEDED, same version is already published
merida1macOS 12.6.4 Monterey / x86_64  OK    OK    OK    OK  UNNEEDED, same version is already published
Package 12/194HostnameOS / ArchINSTALLBUILDCHECKBUILD BIN
ASpli 2.10.0  (landing page)
Estefania Mancini
git_last_commit: 2686a85
git_last_commit_date: 2023-04-25 10:48:38 -0400
nebbiolo1Linux (Ubuntu 22.04.2 LTS) / x86_64  OK    OK    ERROR  
palomino3Windows Server 2022 Datacenter / x64  OK    OK    WARNINGS    OK  UNNEEDED, same version is already published
merida1macOS 12.6.4 Monterey / x86_64  OK    OK    WARNINGS    OK  UNNEEDED, same version is already published
Package 13/194HostnameOS / ArchINSTALLBUILDCHECKBUILD BIN
attract 1.52.0  (landing page)
Samuel Zimmerman
git_last_commit: 5ceff70
git_last_commit_date: 2023-04-25 09:51:08 -0400
nebbiolo1Linux (Ubuntu 22.04.2 LTS) / x86_64  OK    OK    OK  UNNEEDED, same version is already published
palomino3Windows Server 2022 Datacenter / x64  OK    OK    OK    OK  UNNEEDED, same version is already published
merida1macOS 12.6.4 Monterey / x86_64  OK    OK    OK    OK  UNNEEDED, same version is already published
Package 14/194HostnameOS / ArchINSTALLBUILDCHECKBUILD BIN
beadarray 2.50.0  (landing page)
Mark Dunning
git_last_commit: 715d372
git_last_commit_date: 2023-04-25 09:43:07 -0400
nebbiolo1Linux (Ubuntu 22.04.2 LTS) / x86_64  OK    OK    OK  UNNEEDED, same version is already published
palomino3Windows Server 2022 Datacenter / x64  OK    OK    OK    OK  UNNEEDED, same version is already published
merida1macOS 12.6.4 Monterey / x86_64  OK    OK    OK    OK  UNNEEDED, same version is already published
Package 15/194HostnameOS / ArchINSTALLBUILDCHECKBUILD BIN
bioCancer 1.28.0  (landing page)
Karim Mezhoud
git_last_commit: 86b4e44
git_last_commit_date: 2023-04-25 10:47:14 -0400
nebbiolo1Linux (Ubuntu 22.04.2 LTS) / x86_64  OK    OK    OK  UNNEEDED, same version is already published
palomino3Windows Server 2022 Datacenter / x64  OK    OK    OK    OK  UNNEEDED, same version is already published
merida1macOS 12.6.4 Monterey / x86_64  OK    OK    OK    OK  UNNEEDED, same version is already published
Package 16/194HostnameOS / ArchINSTALLBUILDCHECKBUILD BIN
BiocSet 1.14.0  (landing page)
Kayla Morrell
git_last_commit: 6254b15
git_last_commit_date: 2023-04-25 11:14:15 -0400
nebbiolo1Linux (Ubuntu 22.04.2 LTS) / x86_64  OK    OK    OK  UNNEEDED, same version is already published
palomino3Windows Server 2022 Datacenter / x64  OK    OK    OK    OK  UNNEEDED, same version is already published
merida1macOS 12.6.4 Monterey / x86_64  OK    OK    OK    OK  UNNEEDED, same version is already published
Package 17/194HostnameOS / ArchINSTALLBUILDCHECKBUILD BIN
biomaRt 2.56.0  (landing page)
Mike Smith
git_last_commit: 91ca89e
git_last_commit_date: 2023-04-25 09:41:32 -0400
nebbiolo1Linux (Ubuntu 22.04.2 LTS) / x86_64  OK    OK    ERROR  
palomino3Windows Server 2022 Datacenter / x64  OK    OK    ERROR    OK  
merida1macOS 12.6.4 Monterey / x86_64  OK    OK    ERROR    OK  
Package 18/194HostnameOS / ArchINSTALLBUILDCHECKBUILD BIN
BioNAR 1.2.0  (landing page)
Anatoly Sorokin
git_last_commit: 0e65716
git_last_commit_date: 2023-04-25 11:40:57 -0400
nebbiolo1Linux (Ubuntu 22.04.2 LTS) / x86_64  OK    OK    OK  UNNEEDED, same version is already published
palomino3Windows Server 2022 Datacenter / x64  OK    OK    OK    OK  UNNEEDED, same version is already published
merida1macOS 12.6.4 Monterey / x86_64  OK    OK    OK    OK  UNNEEDED, same version is already published
Package 19/194HostnameOS / ArchINSTALLBUILDCHECKBUILD BIN
BioNet 1.60.0  (landing page)
Marcus Dittrich
git_last_commit: 28566a3
git_last_commit_date: 2023-04-25 10:17:41 -0400
nebbiolo1Linux (Ubuntu 22.04.2 LTS) / x86_64  OK    OK    OK  UNNEEDED, same version is already published
palomino3Windows Server 2022 Datacenter / x64  OK    OK    OK    OK  UNNEEDED, same version is already published
merida1macOS 12.6.4 Monterey / x86_64  OK    OK    OK    OK  UNNEEDED, same version is already published
Package 20/194HostnameOS / ArchINSTALLBUILDCHECKBUILD BIN
biovizBase 1.48.0  (landing page)
Michael Lawrence
git_last_commit: 534db77
git_last_commit_date: 2023-04-25 10:21:06 -0400
nebbiolo1Linux (Ubuntu 22.04.2 LTS) / x86_64  OK    OK    WARNINGS  UNNEEDED, same version is already published
palomino3Windows Server 2022 Datacenter / x64  OK    OK    WARNINGS    OK  UNNEEDED, same version is already published
merida1macOS 12.6.4 Monterey / x86_64  OK    OK    WARNINGS    OK  UNNEEDED, same version is already published
Package 21/194HostnameOS / ArchINSTALLBUILDCHECKBUILD BIN
bumphunter 1.42.0  (landing page)
Tamilselvi Guharaj
git_last_commit: 0eb2808
git_last_commit_date: 2023-04-25 10:24:57 -0400
nebbiolo1Linux (Ubuntu 22.04.2 LTS) / x86_64  OK    OK    OK  UNNEEDED, same version is already published
palomino3Windows Server 2022 Datacenter / x64  OK    OK    OK    OK  UNNEEDED, same version is already published
merida1macOS 12.6.4 Monterey / x86_64  OK    OK    OK    OK  UNNEEDED, same version is already published
Package 22/194HostnameOS / ArchINSTALLBUILDCHECKBUILD BIN
BUSpaRse 1.14.1  (landing page)
Lambda Moses
git_last_commit: 3eac292
git_last_commit_date: 2023-05-01 20:03:03 -0400
nebbiolo1Linux (Ubuntu 22.04.2 LTS) / x86_64  OK    OK    OK  UNNEEDED, same version is already published
palomino3Windows Server 2022 Datacenter / x64  OK    OK    OK    OK  UNNEEDED, same version is already published
merida1macOS 12.6.4 Monterey / x86_64  OK    OK    OK    OK  UNNEEDED, same version is already published
Package 23/194HostnameOS / ArchINSTALLBUILDCHECKBUILD BIN
Category 2.66.0  (landing page)
Bioconductor Package Maintainer
git_last_commit: 404c5e4
git_last_commit_date: 2023-04-25 09:42:05 -0400
nebbiolo1Linux (Ubuntu 22.04.2 LTS) / x86_64  OK    OK    OK  UNNEEDED, same version is already published
palomino3Windows Server 2022 Datacenter / x64  OK    OK    OK    OK  UNNEEDED, same version is already published
merida1macOS 12.6.4 Monterey / x86_64  OK    OK    OK    OK  UNNEEDED, same version is already published
Package 24/194HostnameOS / ArchINSTALLBUILDCHECKBUILD BIN
categoryCompare 1.44.0  (landing page)
Robert M. Flight
git_last_commit: 9d848ab
git_last_commit_date: 2023-04-25 10:22:59 -0400
nebbiolo1Linux (Ubuntu 22.04.2 LTS) / x86_64  OK    OK    OK  UNNEEDED, same version is already published
palomino3Windows Server 2022 Datacenter / x64  OK    OK    OK    OK  UNNEEDED, same version is already published
merida1macOS 12.6.4 Monterey / x86_64  OK    OK    OK    OK  UNNEEDED, same version is already published
Package 25/194HostnameOS / ArchINSTALLBUILDCHECKBUILD BIN
ccmap 1.26.0  (landing page)
Alex Pickering
git_last_commit: 79661df
git_last_commit_date: 2023-04-25 10:47:50 -0400
nebbiolo1Linux (Ubuntu 22.04.2 LTS) / x86_64  OK    OK    WARNINGS  UNNEEDED, same version is already published
palomino3Windows Server 2022 Datacenter / x64  OK    OK    WARNINGS    OK  UNNEEDED, same version is already published
merida1macOS 12.6.4 Monterey / x86_64  OK    OK    WARNINGS    OK  UNNEEDED, same version is already published
Package 26/194HostnameOS / ArchINSTALLBUILDCHECKBUILD BIN
cellity 1.28.0  (landing page)
Tomislav Ilicic
git_last_commit: 07ff339
git_last_commit_date: 2023-04-25 10:44:31 -0400
nebbiolo1Linux (Ubuntu 22.04.2 LTS) / x86_64  OK    OK    OK  UNNEEDED, same version is already published
palomino3Windows Server 2022 Datacenter / x64  OK    OK    OK    OK  UNNEEDED, same version is already published
merida1macOS 12.6.4 Monterey / x86_64  OK    OK    OK    OK  UNNEEDED, same version is already published
Package 27/194HostnameOS / ArchINSTALLBUILDCHECKBUILD BIN
chimeraviz 1.26.0  (landing page)
Stian LÃ¥gstad
git_last_commit: 9ce5919
git_last_commit_date: 2023-04-25 10:51:20 -0400
nebbiolo1Linux (Ubuntu 22.04.2 LTS) / x86_64  OK    OK    OK  UNNEEDED, same version is already published
palomino3Windows Server 2022 Datacenter / x64  OK    OK    OK    OK  UNNEEDED, same version is already published
merida1macOS 12.6.4 Monterey / x86_64  OK    OK    OK    OK  UNNEEDED, same version is already published
Package 28/194HostnameOS / ArchINSTALLBUILDCHECKBUILD BIN
chipenrich 2.24.0  (landing page)
Kai Wang
git_last_commit: 4f411dc
git_last_commit_date: 2023-04-25 10:28:35 -0400
nebbiolo1Linux (Ubuntu 22.04.2 LTS) / x86_64  OK    OK    OK  UNNEEDED, same version is already published
palomino3Windows Server 2022 Datacenter / x64  OK    OK    OK    OK  UNNEEDED, same version is already published
merida1macOS 12.6.4 Monterey / x86_64  OK    OK    OK    OK  UNNEEDED, same version is already published
Package 29/194HostnameOS / ArchINSTALLBUILDCHECKBUILD BIN
ChIPpeakAnno 3.34.1  (landing page)
Jianhong Ou
git_last_commit: 1a47186
git_last_commit_date: 2023-04-26 18:52:20 -0400
nebbiolo1Linux (Ubuntu 22.04.2 LTS) / x86_64  OK    OK    OK  UNNEEDED, same version is already published
palomino3Windows Server 2022 Datacenter / x64  OK    OK    OK    OK  UNNEEDED, same version is already published
merida1macOS 12.6.4 Monterey / x86_64  OK    OK    OK    OK  UNNEEDED, same version is already published
Package 30/194HostnameOS / ArchINSTALLBUILDCHECKBUILD BIN
ChIPseeker 1.36.0  (landing page)
Guangchuang Yu
git_last_commit: 3179a1f
git_last_commit_date: 2023-04-25 10:32:01 -0400
nebbiolo1Linux (Ubuntu 22.04.2 LTS) / x86_64  OK    OK    OK  UNNEEDED, same version is already published
palomino3Windows Server 2022 Datacenter / x64  OK    OK    OK    OK  UNNEEDED, same version is already published
merida1macOS 12.6.4 Monterey / x86_64  OK    OK    TIMEOUT    OK  
Package 31/194HostnameOS / ArchINSTALLBUILDCHECKBUILD BIN
ChromHeatMap 1.54.0  (landing page)
Tim F. Rayner
git_last_commit: de12140
git_last_commit_date: 2023-04-25 09:49:41 -0400
nebbiolo1Linux (Ubuntu 22.04.2 LTS) / x86_64  OK    OK    OK  UNNEEDED, same version is already published
palomino3Windows Server 2022 Datacenter / x64  OK    OK    OK    OK  UNNEEDED, same version is already published
merida1macOS 12.6.4 Monterey / x86_64  OK    OK    OK    OK  UNNEEDED, same version is already published
Package 32/194HostnameOS / ArchINSTALLBUILDCHECKBUILD BIN
clusterProfiler 4.8.1  (landing page)
Guangchuang Yu
git_last_commit: 3238fcd
git_last_commit_date: 2023-05-03 03:21:59 -0400
nebbiolo1Linux (Ubuntu 22.04.2 LTS) / x86_64  OK    OK    OK  UNNEEDED, same version is already published
palomino3Windows Server 2022 Datacenter / x64  OK    OK    OK    OK  UNNEEDED, same version is already published
merida1macOS 12.6.4 Monterey / x86_64  OK    OK    OK    OK  UNNEEDED, same version is already published
Package 33/194HostnameOS / ArchINSTALLBUILDCHECKBUILD BIN
CoCiteStats 1.72.0  (landing page)
Bioconductor Package Maintainer
git_last_commit: 67ad5ba
git_last_commit_date: 2023-04-25 09:41:23 -0400
nebbiolo1Linux (Ubuntu 22.04.2 LTS) / x86_64  OK    OK    OK  UNNEEDED, same version is already published
palomino3Windows Server 2022 Datacenter / x64  OK    OK    OK    OK  UNNEEDED, same version is already published
merida1macOS 12.6.4 Monterey / x86_64  OK    OK    OK    OK  UNNEEDED, same version is already published
Package 34/194HostnameOS / ArchINSTALLBUILDCHECKBUILD BIN
Cogito 1.6.0  (landing page)
Annika Bürger
git_last_commit: caa4ce9
git_last_commit_date: 2023-04-25 11:33:44 -0400
nebbiolo1Linux (Ubuntu 22.04.2 LTS) / x86_64  OK    OK    OK  UNNEEDED, same version is already published
palomino3Windows Server 2022 Datacenter / x64  OK    OK    OK    OK  UNNEEDED, same version is already published
merida1macOS 12.6.4 Monterey / x86_64  OK    OK    OK    OK  UNNEEDED, same version is already published
Package 35/194HostnameOS / ArchINSTALLBUILDCHECKBUILD BIN
compEpiTools 1.34.1  (landing page)
Mattia Furlan
git_last_commit: 4f44f42
git_last_commit_date: 2023-05-02 15:23:53 -0400
nebbiolo1Linux (Ubuntu 22.04.2 LTS) / x86_64  OK    OK    WARNINGS  UNNEEDED, same version is already published
palomino3Windows Server 2022 Datacenter / x64  OK    OK    WARNINGS    OK  UNNEEDED, same version is already published
merida1macOS 12.6.4 Monterey / x86_64  OK    OK    WARNINGS    OK  NO, package depends on 'methylPipe' which is not available
Package 36/194HostnameOS / ArchINSTALLBUILDCHECKBUILD BIN
consensusDE 1.18.0  (landing page)
Ashley J. Waardenberg
git_last_commit: 58c20f9
git_last_commit_date: 2023-04-25 11:05:52 -0400
nebbiolo1Linux (Ubuntu 22.04.2 LTS) / x86_64  OK    OK    OK  UNNEEDED, same version is already published
palomino3Windows Server 2022 Datacenter / x64  OK    OK    OK    OK  UNNEEDED, same version is already published
merida1macOS 12.6.4 Monterey / x86_64  OK    OK    OK    OK  UNNEEDED, same version is already published
Package 37/194HostnameOS / ArchINSTALLBUILDCHECKBUILD BIN
CoSIA 1.0.0  (landing page)
Amanda D. Clark
git_last_commit: d7f2302
git_last_commit_date: 2023-04-25 11:44:57 -0400
nebbiolo1Linux (Ubuntu 22.04.2 LTS) / x86_64  OK    OK    OK  UNNEEDED, same version is already published
palomino3Windows Server 2022 Datacenter / x64  OK    OK    OK    OK  UNNEEDED, same version is already published
merida1macOS 12.6.4 Monterey / x86_64  OK    OK    OK    OK  UNNEEDED, same version is already published
Package 38/194HostnameOS / ArchINSTALLBUILDCHECKBUILD BIN
crisprDesign 1.2.0  (landing page)
Jean-Philippe Fortin
git_last_commit: 16ad3b4
git_last_commit_date: 2023-04-25 11:39:18 -0400
nebbiolo1Linux (Ubuntu 22.04.2 LTS) / x86_64  OK    OK    OK  UNNEEDED, same version is already published
palomino3Windows Server 2022 Datacenter / x64  OK    OK    OK    OK  UNNEEDED, same version is already published
merida1macOS 12.6.4 Monterey / x86_64  OK    OK    OK    OK  NO, package depends on 'crisprScore' which is not available
Package 39/194HostnameOS / ArchINSTALLBUILDCHECKBUILD BIN
crisprseekplus 1.26.0  (landing page)
Alper Kucukural
git_last_commit: 5172ddb
git_last_commit_date: 2023-04-25 10:50:33 -0400
nebbiolo1Linux (Ubuntu 22.04.2 LTS) / x86_64  OK    OK    ERROR  
palomino3Windows Server 2022 Datacenter / x64  OK    OK    OK    OK  UNNEEDED, same version is already published
merida1macOS 12.6.4 Monterey / x86_64  OK    OK    OK    OK  NO, package depends on 'CRISPRseek' which is not available
Package 40/194HostnameOS / ArchINSTALLBUILDCHECKBUILD BIN
CrispRVariants 1.28.0  (landing page)
Helen Lindsay
git_last_commit: 8694ad0
git_last_commit_date: 2023-04-25 10:43:23 -0400
nebbiolo1Linux (Ubuntu 22.04.2 LTS) / x86_64  OK    OK    WARNINGS  UNNEEDED, same version is already published
palomino3Windows Server 2022 Datacenter / x64  OK    OK    WARNINGS    OK  UNNEEDED, same version is already published
merida1macOS 12.6.4 Monterey / x86_64  OK    OK    WARNINGS    OK  UNNEEDED, same version is already published
Package 41/194HostnameOS / ArchINSTALLBUILDCHECKBUILD BIN
crossmeta 1.26.0  (landing page)
Alex Pickering
git_last_commit: b7438d5
git_last_commit_date: 2023-04-25 10:47:37 -0400
nebbiolo1Linux (Ubuntu 22.04.2 LTS) / x86_64  OK    OK    ERROR  
palomino3Windows Server 2022 Datacenter / x64  OK    OK    OK    OK  UNNEEDED, same version is already published
merida1macOS 12.6.4 Monterey / x86_64  OK    OK    OK    OK  UNNEEDED, same version is already published
Package 42/194HostnameOS / ArchINSTALLBUILDCHECKBUILD BIN
cTRAP 1.18.0  (landing page)
Nuno Saraiva-Agostinho
git_last_commit: 781acdc
git_last_commit_date: 2023-04-25 11:05:43 -0400
nebbiolo1Linux (Ubuntu 22.04.2 LTS) / x86_64  OK    OK    OK  UNNEEDED, same version is already published
palomino3Windows Server 2022 Datacenter / x64  OK    OK    WARNINGS    OK  UNNEEDED, same version is already published
merida1macOS 12.6.4 Monterey / x86_64  OK    OK    OK    OK  UNNEEDED, same version is already published
Package 43/194HostnameOS / ArchINSTALLBUILDCHECKBUILD BIN
customProDB 1.40.0  (landing page)
Xiaojing Wang
git_last_commit: 267665c
git_last_commit_date: 2023-04-25 10:27:25 -0400
nebbiolo1Linux (Ubuntu 22.04.2 LTS) / x86_64  OK    OK    OK  UNNEEDED, same version is already published
palomino3Windows Server 2022 Datacenter / x64  OK    OK    OK    OK  UNNEEDED, same version is already published
merida1macOS 12.6.4 Monterey / x86_64  OK    OK    OK    OK  UNNEEDED, same version is already published
Package 44/194HostnameOS / ArchINSTALLBUILDCHECKBUILD BIN
debrowser 1.28.0  (landing page)
Alper Kucukural
git_last_commit: 7f39983
git_last_commit_date: 2023-04-25 10:45:24 -0400
nebbiolo1Linux (Ubuntu 22.04.2 LTS) / x86_64  OK    ERROR  skipped
palomino3Windows Server 2022 Datacenter / x64  OK    ERROR  skippedskipped
merida1macOS 12.6.4 Monterey / x86_64  OK    ERROR  skippedskipped
Package 45/194HostnameOS / ArchINSTALLBUILDCHECKBUILD BIN
deco 1.16.0  (landing page)
Francisco Jose Campos Laborie
git_last_commit: 22e8d36
git_last_commit_date: 2023-04-25 11:06:50 -0400
nebbiolo1Linux (Ubuntu 22.04.2 LTS) / x86_64  OK    ERROR  skipped
palomino3Windows Server 2022 Datacenter / x64  OK    ERROR  skippedskipped
merida1macOS 12.6.4 Monterey / x86_64  OK    ERROR  skippedskipped
Package 46/194HostnameOS / ArchINSTALLBUILDCHECKBUILD BIN
derfinder 1.34.0  (landing page)
Leonardo Collado-Torres
git_last_commit: dd81839
git_last_commit_date: 2023-04-25 10:35:03 -0400
nebbiolo1Linux (Ubuntu 22.04.2 LTS) / x86_64  OK    OK    OK  UNNEEDED, same version is already published
palomino3Windows Server 2022 Datacenter / x64  OK    OK    OK    OK  UNNEEDED, same version is already published
merida1macOS 12.6.4 Monterey / x86_64  OK    OK    OK    OK  UNNEEDED, same version is already published
Package 47/194HostnameOS / ArchINSTALLBUILDCHECKBUILD BIN
DEXSeq 1.46.0  (landing page)
Alejandro Reyes
git_last_commit: 074c0bf
git_last_commit_date: 2023-04-25 10:20:02 -0400
nebbiolo1Linux (Ubuntu 22.04.2 LTS) / x86_64  OK    OK    ERROR  
palomino3Windows Server 2022 Datacenter / x64  OK    OK    OK    OK  UNNEEDED, same version is already published
merida1macOS 12.6.4 Monterey / x86_64  OK    ERROR  skippedskipped
Package 48/194HostnameOS / ArchINSTALLBUILDCHECKBUILD BIN
DominoEffect 1.20.0  (landing page)
Marija Buljan
git_last_commit: cee6a68
git_last_commit_date: 2023-04-25 10:59:32 -0400
nebbiolo1Linux (Ubuntu 22.04.2 LTS) / x86_64  OK    OK    OK  UNNEEDED, same version is already published
palomino3Windows Server 2022 Datacenter / x64  OK    OK    OK    OK  UNNEEDED, same version is already published
merida1macOS 12.6.4 Monterey / x86_64  OK    OK    OK    OK  UNNEEDED, same version is already published
Package 49/194HostnameOS / ArchINSTALLBUILDCHECKBUILD BIN
DOSE 3.26.1  (landing page)
Guangchuang Yu
git_last_commit: 5f145e2
git_last_commit_date: 2023-05-03 03:25:38 -0400
nebbiolo1Linux (Ubuntu 22.04.2 LTS) / x86_64  OK    OK    OK  UNNEEDED, same version is already published
palomino3Windows Server 2022 Datacenter / x64  OK    OK    OK    OK  UNNEEDED, same version is already published
merida1macOS 12.6.4 Monterey / x86_64  OK    OK    OK    OK  UNNEEDED, same version is already published
Package 50/194HostnameOS / ArchINSTALLBUILDCHECKBUILD BIN
EasyCellType 1.2.0  (landing page)
Ruoxing Li
git_last_commit: f33505a
git_last_commit_date: 2023-04-25 11:39:45 -0400
nebbiolo1Linux (Ubuntu 22.04.2 LTS) / x86_64  OK    OK    ERROR  
palomino3Windows Server 2022 Datacenter / x64  OK    OK    OK    OK  UNNEEDED, same version is already published
merida1macOS 12.6.4 Monterey / x86_64  OK    OK    OK    OK  UNNEEDED, same version is already published
Package 51/194HostnameOS / ArchINSTALLBUILDCHECKBUILD BIN
EDASeq 2.34.0  (landing page)
Davide Risso
git_last_commit: 71b52e3
git_last_commit_date: 2023-04-25 10:20:57 -0400
nebbiolo1Linux (Ubuntu 22.04.2 LTS) / x86_64  OK    OK    OK  UNNEEDED, same version is already published
palomino3Windows Server 2022 Datacenter / x64  OK    OK    OK    OK  UNNEEDED, same version is already published
merida1macOS 12.6.4 Monterey / x86_64  OK    OK    OK    OK  UNNEEDED, same version is already published
Package 52/194HostnameOS / ArchINSTALLBUILDCHECKBUILD BIN
eegc 1.26.0  (landing page)
Xiaoyuan Zhou
git_last_commit: beea790
git_last_commit_date: 2023-04-25 10:49:11 -0400
nebbiolo1Linux (Ubuntu 22.04.2 LTS) / x86_64  OK    OK    ERROR  
palomino3Windows Server 2022 Datacenter / x64  OK    OK    WARNINGS    OK  UNNEEDED, same version is already published
merida1macOS 12.6.4 Monterey / x86_64  OK    OK    WARNINGS    OK  UNNEEDED, same version is already published
Package 53/194HostnameOS / ArchINSTALLBUILDCHECKBUILD BIN
EGSEA 1.28.0  (landing page)
Monther Alhamdoosh
git_last_commit: b8c1a62
git_last_commit_date: 2023-04-25 10:46:53 -0400
nebbiolo1Linux (Ubuntu 22.04.2 LTS) / x86_64  OK    OK    ERROR  
palomino3Windows Server 2022 Datacenter / x64  OK    OK    WARNINGS    OK  UNNEEDED, same version is already published
merida1macOS 12.6.4 Monterey / x86_64  OK    OK    WARNINGS    OK  UNNEEDED, same version is already published
Package 54/194HostnameOS / ArchINSTALLBUILDCHECKBUILD BIN
EnrichmentBrowser 2.30.1  (landing page)
Ludwig Geistlinger
git_last_commit: 1f6368d
git_last_commit_date: 2023-05-13 14:29:04 -0400
nebbiolo1Linux (Ubuntu 22.04.2 LTS) / x86_64  OK    OK    OK  UNNEEDED, same version is already published
palomino3Windows Server 2022 Datacenter / x64  OK    OK    OK    OK  UNNEEDED, same version is already published
merida1macOS 12.6.4 Monterey / x86_64  OK    OK    OK    OK  UNNEEDED, same version is already published
Package 55/194HostnameOS / ArchINSTALLBUILDCHECKBUILD BIN
ensembldb 2.24.0  (landing page)
Johannes Rainer
git_last_commit: 45a79a4
git_last_commit_date: 2023-04-25 10:38:28 -0400
nebbiolo1Linux (Ubuntu 22.04.2 LTS) / x86_64  OK    OK    OK  UNNEEDED, same version is already published
palomino3Windows Server 2022 Datacenter / x64  OK    OK    OK    OK  UNNEEDED, same version is already published
merida1macOS 12.6.4 Monterey / x86_64  OK    OK    OK    OK  UNNEEDED, same version is already published
Package 56/194HostnameOS / ArchINSTALLBUILDCHECKBUILD BIN
EpiMix 1.2.0  (landing page)
Yuanning Zheng
git_last_commit: 68204f3
git_last_commit_date: 2023-04-25 11:39:07 -0400
nebbiolo1Linux (Ubuntu 22.04.2 LTS) / x86_64  OK    ERROR  skipped
palomino3Windows Server 2022 Datacenter / x64  OK    ERROR  skippedskipped
merida1macOS 12.6.4 Monterey / x86_64  OK    ERROR  skippedskipped
Package 57/194HostnameOS / ArchINSTALLBUILDCHECKBUILD BIN
epimutacions 1.4.0  (landing page)
Dolors Pelegri-Siso
git_last_commit: 78170ad
git_last_commit_date: 2023-04-25 11:37:33 -0400
nebbiolo1Linux (Ubuntu 22.04.2 LTS) / x86_64  OK    OK    OK  UNNEEDED, same version is already published
palomino3Windows Server 2022 Datacenter / x64  OK    OK    OK    OK  UNNEEDED, same version is already published
merida1macOS 12.6.4 Monterey / x86_64  OK    OK    OK    OK  UNNEEDED, same version is already published
Package 58/194HostnameOS / ArchINSTALLBUILDCHECKBUILD BIN
EpiTxDb 1.12.0  (landing page)
Felix G.M. Ernst
git_last_commit: f967697
git_last_commit_date: 2023-04-25 11:16:15 -0400
nebbiolo1Linux (Ubuntu 22.04.2 LTS) / x86_64  OK    OK    OK  UNNEEDED, same version is already published
palomino3Windows Server 2022 Datacenter / x64  OK    OK    OK    OK  UNNEEDED, same version is already published
merida1macOS 12.6.4 Monterey / x86_64  OK    OK    OK    OK  UNNEEDED, same version is already published
Package 59/194HostnameOS / ArchINSTALLBUILDCHECKBUILD BIN
erma 1.16.0  (landing page)
VJ Carey
git_last_commit: 52c2891
git_last_commit_date: 2023-04-25 10:40:09 -0400
nebbiolo1Linux (Ubuntu 22.04.2 LTS) / x86_64  OK    OK    OK  UNNEEDED, same version is already published
palomino3Windows Server 2022 Datacenter / x64  OK    OK    OK    OK  UNNEEDED, same version is already published
merida1macOS 12.6.4 Monterey / x86_64  OK    OK    OK    OK  UNNEEDED, same version is already published
Package 60/194HostnameOS / ArchINSTALLBUILDCHECKBUILD BIN
esATAC 1.22.0  (landing page)
Zheng Wei
git_last_commit: 02846bd
git_last_commit_date: 2023-04-25 10:58:10 -0400
nebbiolo1Linux (Ubuntu 22.04.2 LTS) / x86_64  OK    OK    OK  UNNEEDED, same version is already published
palomino3Windows Server 2022 Datacenter / x64  OK    OK    OK    OK  UNNEEDED, same version is already published
merida1macOS 12.6.4 Monterey / x86_64  OK    OK    OK    OK  NO, package depends on 'ChIPseeker' which is not available
Package 61/194HostnameOS / ArchINSTALLBUILDCHECKBUILD BIN
FRASER 1.12.1  (landing page)
Christian Mertes
git_last_commit: 72d97bf
git_last_commit_date: 2023-05-01 20:07:22 -0400
nebbiolo1Linux (Ubuntu 22.04.2 LTS) / x86_64  OK    OK    OK  UNNEEDED, same version is already published
palomino3Windows Server 2022 Datacenter / x64  OK    OK    OK    OK  UNNEEDED, same version is already published
merida1macOS 12.6.4 Monterey / x86_64  OK    OK    OK    OK  UNNEEDED, same version is already published
Package 62/194HostnameOS / ArchINSTALLBUILDCHECKBUILD BIN
GA4GHshiny 1.22.0  (landing page)
Welliton Souza
git_last_commit: bbc83ac
git_last_commit_date: 2023-04-25 10:54:25 -0400
nebbiolo1Linux (Ubuntu 22.04.2 LTS) / x86_64  OK    OK    OK  UNNEEDED, same version is already published
palomino3Windows Server 2022 Datacenter / x64  OK    OK    OK    OK  UNNEEDED, same version is already published
merida1macOS 12.6.4 Monterey / x86_64  OK    OK    OK    OK  UNNEEDED, same version is already published
Package 63/194HostnameOS / ArchINSTALLBUILDCHECKBUILD BIN
gage 2.50.0  (landing page)
Weijun Luo
git_last_commit: a6d1e96
git_last_commit_date: 2023-04-25 10:18:08 -0400
nebbiolo1Linux (Ubuntu 22.04.2 LTS) / x86_64  OK    OK    WARNINGS  UNNEEDED, same version is already published
palomino3Windows Server 2022 Datacenter / x64  OK    OK    WARNINGS    OK  UNNEEDED, same version is already published
merida1macOS 12.6.4 Monterey / x86_64  OK    OK    WARNINGS    OK  UNNEEDED, same version is already published
Package 64/194HostnameOS / ArchINSTALLBUILDCHECKBUILD BIN
GAPGOM 1.16.0  (landing page)
Rezvan Ehsani
git_last_commit: 76e22d5
git_last_commit_date: 2023-04-25 11:07:31 -0400
nebbiolo1Linux (Ubuntu 22.04.2 LTS) / x86_64  OK    ERROR  skipped
palomino3Windows Server 2022 Datacenter / x64  OK    ERROR  skippedskipped
merida1macOS 12.6.4 Monterey / x86_64  OK    ERROR  skippedskipped
Package 65/194HostnameOS / ArchINSTALLBUILDCHECKBUILD BIN
genefilter 1.82.1  (landing page)
Bioconductor Package Maintainer
git_last_commit: f4dadae
git_last_commit_date: 2023-05-01 20:10:27 -0400
nebbiolo1Linux (Ubuntu 22.04.2 LTS) / x86_64  OK    OK    WARNINGS  UNNEEDED, same version is already published
palomino3Windows Server 2022 Datacenter / x64  OK    OK    WARNINGS    OK  UNNEEDED, same version is already published
merida1macOS 12.6.4 Monterey / x86_64  OK    OK    WARNINGS    OK  UNNEEDED, same version is already published
Package 66/194HostnameOS / ArchINSTALLBUILDCHECKBUILD BIN
geneplotter 1.78.0  (landing page)
Bioconductor Package Maintainer
git_last_commit: a105c51
git_last_commit_date: 2023-04-25 09:38:21 -0400
nebbiolo1Linux (Ubuntu 22.04.2 LTS) / x86_64  OK    OK    OK  UNNEEDED, same version is already published
palomino3Windows Server 2022 Datacenter / x64  OK    OK    OK    OK  UNNEEDED, same version is already published
merida1macOS 12.6.4 Monterey / x86_64  OK    OK    OK    OK  UNNEEDED, same version is already published
Package 67/194HostnameOS / ArchINSTALLBUILDCHECKBUILD BIN
GeneTonic 2.4.0  (landing page)
Federico Marini
git_last_commit: 41dd44e
git_last_commit_date: 2023-04-25 11:15:16 -0400
nebbiolo1Linux (Ubuntu 22.04.2 LTS) / x86_64  OK    OK    OK  UNNEEDED, same version is already published
palomino3Windows Server 2022 Datacenter / x64  OK    OK    OK    OK  UNNEEDED, same version is already published
merida1macOS 12.6.4 Monterey / x86_64  OK    OK    OK    OK  UNNEEDED, same version is already published
Package 68/194HostnameOS / ArchINSTALLBUILDCHECKBUILD BIN
geneXtendeR 1.26.0  (landing page)
Bohdan Khomtchouk
git_last_commit: dbc85c4
git_last_commit_date: 2023-04-25 10:50:06 -0400
nebbiolo1Linux (Ubuntu 22.04.2 LTS) / x86_64  OK    OK    WARNINGS  UNNEEDED, same version is already published
palomino3Windows Server 2022 Datacenter / x64  OK    OK    WARNINGS    OK  UNNEEDED, same version is already published
merida1macOS 12.6.4 Monterey / x86_64  OK    OK    WARNINGS    OK  UNNEEDED, same version is already published
Package 69/194HostnameOS / ArchINSTALLBUILDCHECKBUILD BIN
GenomicFeatures 1.52.0  (landing page)
H. Pagès
git_last_commit: 207ff08
git_last_commit_date: 2023-04-25 09:49:30 -0400
nebbiolo1Linux (Ubuntu 22.04.2 LTS) / x86_64  OK    OK    WARNINGS  UNNEEDED, same version is already published
palomino3Windows Server 2022 Datacenter / x64  OK    OK    WARNINGS    OK  UNNEEDED, same version is already published
merida1macOS 12.6.4 Monterey / x86_64  OK    OK    WARNINGS    OK  UNNEEDED, same version is already published
Package 70/194HostnameOS / ArchINSTALLBUILDCHECKBUILD BIN
GenomicInteractionNodes 1.4.0  (landing page)
Jianhong Ou
git_last_commit: ba14b80
git_last_commit_date: 2023-04-25 11:37:36 -0400
nebbiolo1Linux (Ubuntu 22.04.2 LTS) / x86_64  OK    OK    OK  UNNEEDED, same version is already published
palomino3Windows Server 2022 Datacenter / x64  OK    OK    OK    OK  UNNEEDED, same version is already published
merida1macOS 12.6.4 Monterey / x86_64  OK    OK    OK    OK  UNNEEDED, same version is already published
Package 71/194HostnameOS / ArchINSTALLBUILDCHECKBUILD BIN
GenVisR 1.32.0  (landing page)
Zachary Skidmore
git_last_commit: 8b1b564
git_last_commit_date: 2023-04-25 10:43:51 -0400
nebbiolo1Linux (Ubuntu 22.04.2 LTS) / x86_64  OK    OK    ERROR  
palomino3Windows Server 2022 Datacenter / x64  OK    OK    ERROR    OK  
merida1macOS 12.6.4 Monterey / x86_64  OK    OK    ERROR    OK  
Package 72/194HostnameOS / ArchINSTALLBUILDCHECKBUILD BIN
ggbio 1.48.0  (landing page)
Michael Lawrence
git_last_commit: fd4ebca
git_last_commit_date: 2023-04-25 10:21:27 -0400
nebbiolo1Linux (Ubuntu 22.04.2 LTS) / x86_64  OK    OK    WARNINGS  UNNEEDED, same version is already published
palomino3Windows Server 2022 Datacenter / x64  OK    OK    WARNINGS    OK  UNNEEDED, same version is already published
merida1macOS 12.6.4 Monterey / x86_64  OK    OK    WARNINGS    OK  UNNEEDED, same version is already published
Package 73/194HostnameOS / ArchINSTALLBUILDCHECKBUILD BIN
GlobalAncova 4.18.0  (landing page)
Manuela Hummel
git_last_commit: 198084f
git_last_commit_date: 2023-04-25 09:42:34 -0400
nebbiolo1Linux (Ubuntu 22.04.2 LTS) / x86_64  OK    OK    OK  UNNEEDED, same version is already published
palomino3Windows Server 2022 Datacenter / x64  OK    OK    OK    OK  UNNEEDED, same version is already published
merida1macOS 12.6.4 Monterey / x86_64  OK    OK    OK    OK  UNNEEDED, same version is already published
Package 74/194HostnameOS / ArchINSTALLBUILDCHECKBUILD BIN
globaltest 5.54.0  (landing page)
Jelle Goeman
git_last_commit: bb8bc5f
git_last_commit_date: 2023-04-25 09:40:39 -0400
nebbiolo1Linux (Ubuntu 22.04.2 LTS) / x86_64  OK    OK    OK  UNNEEDED, same version is already published
palomino3Windows Server 2022 Datacenter / x64  OK    OK    OK    OK  UNNEEDED, same version is already published
merida1macOS 12.6.4 Monterey / x86_64  OK    OK    OK    OK  UNNEEDED, same version is already published
Package 75/194HostnameOS / ArchINSTALLBUILDCHECKBUILD BIN
GmicR 1.14.0  (landing page)
Richard Virgen-Slane
git_last_commit: 09743f5
git_last_commit_date: 2023-04-25 11:12:49 -0400
nebbiolo1Linux (Ubuntu 22.04.2 LTS) / x86_64  OK    OK    WARNINGS  UNNEEDED, same version is already published
palomino3Windows Server 2022 Datacenter / x64  OK    OK    WARNINGS    OK  UNNEEDED, same version is already published
merida1macOS 12.6.4 Monterey / x86_64  OK    OK    TIMEOUT    OK  
Package 76/194HostnameOS / ArchINSTALLBUILDCHECKBUILD BIN
GOfuncR 1.20.0  (landing page)
Steffi Grote
git_last_commit: 2374d68
git_last_commit_date: 2023-04-25 10:58:27 -0400
nebbiolo1Linux (Ubuntu 22.04.2 LTS) / x86_64  OK    OK    OK  UNNEEDED, same version is already published
palomino3Windows Server 2022 Datacenter / x64  OK    OK    OK    OK  UNNEEDED, same version is already published
merida1macOS 12.6.4 Monterey / x86_64  ERROR    ERROR  skippedskipped
Package 77/194HostnameOS / ArchINSTALLBUILDCHECKBUILD BIN
GOpro 1.26.0  (landing page)
Lidia Chrabaszcz
git_last_commit: 7cebbeb
git_last_commit_date: 2023-04-25 10:49:55 -0400
nebbiolo1Linux (Ubuntu 22.04.2 LTS) / x86_64  OK    OK    OK  UNNEEDED, same version is already published
palomino3Windows Server 2022 Datacenter / x64  OK    OK    OK    OK  UNNEEDED, same version is already published
merida1macOS 12.6.4 Monterey / x86_64  OK    OK    OK    OK  UNNEEDED, same version is already published
Package 78/194HostnameOS / ArchINSTALLBUILDCHECKBUILD BIN
goProfiles 1.62.0  (landing page)
Alex Sanchez
git_last_commit: b34f21c
git_last_commit_date: 2023-04-25 09:46:44 -0400
nebbiolo1Linux (Ubuntu 22.04.2 LTS) / x86_64  OK    OK    OK  UNNEEDED, same version is already published
palomino3Windows Server 2022 Datacenter / x64  OK    OK    OK    OK  UNNEEDED, same version is already published
merida1macOS 12.6.4 Monterey / x86_64  OK    OK    OK    OK  UNNEEDED, same version is already published
Package 79/194HostnameOS / ArchINSTALLBUILDCHECKBUILD BIN
GOSemSim 2.26.0  (landing page)
Guangchuang Yu
git_last_commit: ef3d5a7
git_last_commit_date: 2023-04-25 09:48:05 -0400
nebbiolo1Linux (Ubuntu 22.04.2 LTS) / x86_64  OK    OK    OK  UNNEEDED, same version is already published
palomino3Windows Server 2022 Datacenter / x64  OK    OK    OK    OK  UNNEEDED, same version is already published
merida1macOS 12.6.4 Monterey / x86_64  OK    OK    OK    OK  UNNEEDED, same version is already published
Package 80/194HostnameOS / ArchINSTALLBUILDCHECKBUILD BIN
goseq 1.52.0  (landing page)
Matthew Young , Nadia Davidson
git_last_commit: d6b0cfd
git_last_commit_date: 2023-04-25 09:50:42 -0400
nebbiolo1Linux (Ubuntu 22.04.2 LTS) / x86_64  OK    OK    OK  UNNEEDED, same version is already published
palomino3Windows Server 2022 Datacenter / x64  OK    OK    OK    OK  UNNEEDED, same version is already published
merida1macOS 12.6.4 Monterey / x86_64  OK    OK    OK    OK  UNNEEDED, same version is already published
Package 81/194HostnameOS / ArchINSTALLBUILDCHECKBUILD BIN
GOSim 1.38.0  (landing page)
Holger Froehlich
git_last_commit: b817750
git_last_commit_date: 2023-04-25 10:28:44 -0400
nebbiolo1Linux (Ubuntu 22.04.2 LTS) / x86_64  OK    OK    WARNINGS  UNNEEDED, same version is already published
palomino3Windows Server 2022 Datacenter / x64  OK    OK    OK    OK  UNNEEDED, same version is already published
merida1macOS 12.6.4 Monterey / x86_64  OK    OK    OK    OK  UNNEEDED, same version is already published
Package 82/194HostnameOS / ArchINSTALLBUILDCHECKBUILD BIN
goSTAG 1.24.0  (landing page)
Brian D. Bennett
git_last_commit: ac3808b
git_last_commit_date: 2023-04-25 10:52:04 -0400
nebbiolo1Linux (Ubuntu 22.04.2 LTS) / x86_64  OK    OK    OK  UNNEEDED, same version is already published
palomino3Windows Server 2022 Datacenter / x64  OK    OK    OK    OK  UNNEEDED, same version is already published
merida1macOS 12.6.4 Monterey / x86_64  OK    OK    OK    OK  UNNEEDED, same version is already published
Package 83/194HostnameOS / ArchINSTALLBUILDCHECKBUILD BIN
GOstats 2.66.0  (landing page)
Bioconductor Package Maintainer
git_last_commit: dbfc8a7
git_last_commit_date: 2023-04-25 09:40:28 -0400
nebbiolo1Linux (Ubuntu 22.04.2 LTS) / x86_64  OK    OK    OK  UNNEEDED, same version is already published
palomino3Windows Server 2022 Datacenter / x64  OK    OK    OK    OK  UNNEEDED, same version is already published
merida1macOS 12.6.4 Monterey / x86_64  OK    OK    OK    OK  UNNEEDED, same version is already published
Package 84/194HostnameOS / ArchINSTALLBUILDCHECKBUILD BIN
goTools 1.74.0  (landing page)
Agnes Paquet
git_last_commit: 11f8acf
git_last_commit_date: 2023-04-25 09:40:11 -0400
nebbiolo1Linux (Ubuntu 22.04.2 LTS) / x86_64  OK    OK    OK  UNNEEDED, same version is already published
palomino3Windows Server 2022 Datacenter / x64  OK    OK    OK    OK  UNNEEDED, same version is already published
merida1macOS 12.6.4 Monterey / x86_64  OK    OK    OK    OK  UNNEEDED, same version is already published
Package 85/194HostnameOS / ArchINSTALLBUILDCHECKBUILD BIN
graphite 1.46.0  (landing page)
Gabriele Sales
git_last_commit: c59c522
git_last_commit_date: 2023-04-25 10:20:44 -0400
nebbiolo1Linux (Ubuntu 22.04.2 LTS) / x86_64  OK    OK    OK  UNNEEDED, same version is already published
palomino3Windows Server 2022 Datacenter / x64  OK    OK    OK    OK  UNNEEDED, same version is already published
merida1macOS 12.6.4 Monterey / x86_64  OK    OK    OK    OK  UNNEEDED, same version is already published
Package 86/194HostnameOS / ArchINSTALLBUILDCHECKBUILD BIN
GSEABase 1.62.0  (landing page)
Bioconductor Package Maintainer
git_last_commit: fc20cbc
git_last_commit_date: 2023-04-25 09:45:30 -0400
nebbiolo1Linux (Ubuntu 22.04.2 LTS) / x86_64  OK    OK    OK  UNNEEDED, same version is already published
palomino3Windows Server 2022 Datacenter / x64  OK    OK    OK    OK  UNNEEDED, same version is already published
merida1macOS 12.6.4 Monterey / x86_64  OK    OK    OK    OK  UNNEEDED, same version is already published
Package 87/194HostnameOS / ArchINSTALLBUILDCHECKBUILD BIN
GSEABenchmarkeR 1.20.0  (landing page)
Ludwig Geistlinger
git_last_commit: e81805a
git_last_commit_date: 2023-04-25 11:00:18 -0400
nebbiolo1Linux (Ubuntu 22.04.2 LTS) / x86_64  OK    OK    OK  UNNEEDED, same version is already published
palomino3Windows Server 2022 Datacenter / x64  OK    OK    OK    OK  UNNEEDED, same version is already published
merida1macOS 12.6.4 Monterey / x86_64  OK    OK    OK    OK  UNNEEDED, same version is already published
Package 88/194HostnameOS / ArchINSTALLBUILDCHECKBUILD BIN
GSReg 1.34.0  (landing page)
Bahman Afsari , Elana J. Fertig
git_last_commit: 4a32b9a
git_last_commit_date: 2023-04-25 10:33:08 -0400
nebbiolo1Linux (Ubuntu 22.04.2 LTS) / x86_64  OK    OK    WARNINGS  UNNEEDED, same version is already published
palomino3Windows Server 2022 Datacenter / x64  OK    OK    WARNINGS    OK  UNNEEDED, same version is already published
merida1macOS 12.6.4 Monterey / x86_64  OK    OK    WARNINGS    OK  UNNEEDED, same version is already published
Package 89/194HostnameOS / ArchINSTALLBUILDCHECKBUILD BIN
Guitar 2.16.0  (landing page)
Jia Meng
git_last_commit: 8b7b2fe
git_last_commit_date: 2023-04-25 10:41:40 -0400
nebbiolo1Linux (Ubuntu 22.04.2 LTS) / x86_64  OK    OK    OK  UNNEEDED, same version is already published
palomino3Windows Server 2022 Datacenter / x64  OK    OK    OK    OK  UNNEEDED, same version is already published
merida1macOS 12.6.4 Monterey / x86_64  OK    OK    OK    OK  UNNEEDED, same version is already published
Package 90/194HostnameOS / ArchINSTALLBUILDCHECKBUILD BIN
Gviz 1.44.0  (landing page)
Robert Ivanek
git_last_commit: e70aaa7
git_last_commit_date: 2023-04-25 10:22:19 -0400
nebbiolo1Linux (Ubuntu 22.04.2 LTS) / x86_64  OK    OK    OK  UNNEEDED, same version is already published
palomino3Windows Server 2022 Datacenter / x64  OK    OK    OK    OK  UNNEEDED, same version is already published
merida1macOS 12.6.4 Monterey / x86_64  OK    OK    OK    OK  UNNEEDED, same version is already published
Package 91/194HostnameOS / ArchINSTALLBUILDCHECKBUILD BIN
gwascat 2.32.0  (landing page)
VJ Carey
git_last_commit: 8c1533d
git_last_commit_date: 2023-04-25 10:22:24 -0400
nebbiolo1Linux (Ubuntu 22.04.2 LTS) / x86_64  OK    OK    OK  UNNEEDED, same version is already published
palomino3Windows Server 2022 Datacenter / x64  OK    OK    OK    OK  UNNEEDED, same version is already published
merida1macOS 12.6.4 Monterey / x86_64  OK    OK    OK    OK  UNNEEDED, same version is already published
Package 92/194HostnameOS / ArchINSTALLBUILDCHECKBUILD BIN
ideal 1.24.1  (landing page)
Federico Marini
git_last_commit: 82c7e8b
git_last_commit_date: 2023-04-28 17:05:35 -0400
nebbiolo1Linux (Ubuntu 22.04.2 LTS) / x86_64  OK    OK    OK  UNNEEDED, same version is already published
palomino3Windows Server 2022 Datacenter / x64  OK    OK    OK    OK  UNNEEDED, same version is already published
merida1macOS 12.6.4 Monterey / x86_64  ERROR    ERROR  skippedskipped
Package 93/194HostnameOS / ArchINSTALLBUILDCHECKBUILD BIN
IMAS 1.24.0  (landing page)
Seonggyun Han
git_last_commit: 2a5c9ed
git_last_commit_date: 2023-04-25 10:53:46 -0400
nebbiolo1Linux (Ubuntu 22.04.2 LTS) / x86_64  OK    OK    OK  UNNEEDED, same version is already published
palomino3Windows Server 2022 Datacenter / x64  OK    OK    OK    OK  UNNEEDED, same version is already published
merida1macOS 12.6.4 Monterey / x86_64  OK    OK    OK    OK  UNNEEDED, same version is already published
Package 94/194HostnameOS / ArchINSTALLBUILDCHECKBUILD BIN
InPAS 2.8.0  (landing page)
Jianhong Ou
git_last_commit: 0a681a9
git_last_commit_date: 2023-04-25 10:38:23 -0400
nebbiolo1Linux (Ubuntu 22.04.2 LTS) / x86_64  OK    OK    OK  UNNEEDED, same version is already published
palomino3Windows Server 2022 Datacenter / x64  OK    OK    OK    OK  UNNEEDED, same version is already published
merida1macOS 12.6.4 Monterey / x86_64  OK    OK    OK    OK  UNNEEDED, same version is already published
Package 95/194HostnameOS / ArchINSTALLBUILDCHECKBUILD BIN
interactiveDisplay 1.38.0  (landing page)
Bioconductor Package Maintainer
git_last_commit: c7e9524
git_last_commit_date: 2023-04-25 10:29:27 -0400
nebbiolo1Linux (Ubuntu 22.04.2 LTS) / x86_64  OK    OK    OK  UNNEEDED, same version is already published
palomino3Windows Server 2022 Datacenter / x64  OK    OK    OK    OK  UNNEEDED, same version is already published
merida1macOS 12.6.4 Monterey / x86_64  OK    OK    OK    OK  UNNEEDED, same version is already published
Package 96/194HostnameOS / ArchINSTALLBUILDCHECKBUILD BIN
ipdDb 1.18.0  (landing page)
Steffen Klasberg
git_last_commit: de41d05
git_last_commit_date: 2023-04-25 11:02:53 -0400
nebbiolo1Linux (Ubuntu 22.04.2 LTS) / x86_64  OK    OK    OK  UNNEEDED, same version is already published
palomino3Windows Server 2022 Datacenter / x64  OK    OK    OK    OK  UNNEEDED, same version is already published
merida1macOS 12.6.4 Monterey / x86_64  OK    OK    OK    OK  UNNEEDED, same version is already published
Package 97/194HostnameOS / ArchINSTALLBUILDCHECKBUILD BIN
IRISFGM 1.8.0  (landing page)
Yuzhou Chang
git_last_commit: 337ae88
git_last_commit_date: 2023-04-25 11:26:52 -0400
nebbiolo1Linux (Ubuntu 22.04.2 LTS) / x86_64  OK    OK    ERROR  
palomino3Windows Server 2022 Datacenter / x64  OK    OK    WARNINGS    OK  UNNEEDED, same version is already published
merida1macOS 12.6.4 Monterey / x86_64  OK    OK    WARNINGS    OK  NO, package depends on 'scater' which is not available
Package 98/194HostnameOS / ArchINSTALLBUILDCHECKBUILD BIN
isomiRs 1.28.0  (landing page)
Lorena Pantano
git_last_commit: cd76cdf
git_last_commit_date: 2023-04-25 10:45:46 -0400
nebbiolo1Linux (Ubuntu 22.04.2 LTS) / x86_64  OK    OK    OK  UNNEEDED, same version is already published
palomino3Windows Server 2022 Datacenter / x64  OK    OK    OK    OK  UNNEEDED, same version is already published
merida1macOS 12.6.4 Monterey / x86_64  OK    OK    OK    OK  UNNEEDED, same version is already published
Package 99/194HostnameOS / ArchINSTALLBUILDCHECKBUILD BIN
IVAS 2.20.0  (landing page)
Seonggyun Han
git_last_commit: e2f07a5
git_last_commit_date: 2023-04-25 10:37:26 -0400
nebbiolo1Linux (Ubuntu 22.04.2 LTS) / x86_64  OK    OK    WARNINGS  UNNEEDED, same version is already published
palomino3Windows Server 2022 Datacenter / x64  OK    OK    WARNINGS    OK  UNNEEDED, same version is already published
merida1macOS 12.6.4 Monterey / x86_64  OK    OK    WARNINGS    OK  UNNEEDED, same version is already published
Package 100/194HostnameOS / ArchINSTALLBUILDCHECKBUILD BIN
karyoploteR 1.26.0  (landing page)
Bernat Gel
git_last_commit: 473f8eb
git_last_commit_date: 2023-04-25 10:52:09 -0400
nebbiolo1Linux (Ubuntu 22.04.2 LTS) / x86_64  OK    OK    OK  UNNEEDED, same version is already published
palomino3Windows Server 2022 Datacenter / x64  OK    OK    OK    OK  UNNEEDED, same version is already published
merida1macOS 12.6.4 Monterey / x86_64  OK    OK    OK    OK  UNNEEDED, same version is already published
Package 101/194HostnameOS / ArchINSTALLBUILDCHECKBUILD BIN
KEGGlincs 1.26.0  (landing page)
Shana White , Mario Medvedovic
git_last_commit: db3f2b3
git_last_commit_date: 2023-04-25 10:50:09 -0400
nebbiolo1Linux (Ubuntu 22.04.2 LTS) / x86_64  OK    OK    OK  UNNEEDED, same version is already published
palomino3Windows Server 2022 Datacenter / x64  OK    OK    OK    OK  UNNEEDED, same version is already published
merida1macOS 12.6.4 Monterey / x86_64  OK    OK    OK    OK  UNNEEDED, same version is already published
Package 102/194HostnameOS / ArchINSTALLBUILDCHECKBUILD BIN
keggorthology 2.52.0  (landing page)
VJ Carey
git_last_commit: cfb4c1f
git_last_commit_date: 2023-04-25 09:45:38 -0400
nebbiolo1Linux (Ubuntu 22.04.2 LTS) / x86_64  OK    OK    OK  UNNEEDED, same version is already published
palomino3Windows Server 2022 Datacenter / x64  OK    OK    OK    OK  UNNEEDED, same version is already published
merida1macOS 12.6.4 Monterey / x86_64  OK    OK    OK    OK  UNNEEDED, same version is already published
Package 103/194HostnameOS / ArchINSTALLBUILDCHECKBUILD BIN
LRBaseDbi 2.10.0  (landing page)
Koki Tsuyuzaki
git_last_commit: c2adea8
git_last_commit_date: 2023-04-25 11:03:15 -0400
nebbiolo1Linux (Ubuntu 22.04.2 LTS) / x86_64  OK    OK    WARNINGS  UNNEEDED, same version is already published
palomino3Windows Server 2022 Datacenter / x64  OK    OK    OK    OK  UNNEEDED, same version is already published
merida1macOS 12.6.4 Monterey / x86_64  OK    OK    OK    OK  UNNEEDED, same version is already published
Package 104/194HostnameOS / ArchINSTALLBUILDCHECKBUILD BIN
lumi 2.52.0  (landing page)
Lei Huang
git_last_commit: c6aa992
git_last_commit_date: 2023-04-25 09:44:43 -0400
nebbiolo1Linux (Ubuntu 22.04.2 LTS) / x86_64  OK    OK    WARNINGS  UNNEEDED, same version is already published
palomino3Windows Server 2022 Datacenter / x64  OK    OK    WARNINGS    OK  UNNEEDED, same version is already published
merida1macOS 12.6.4 Monterey / x86_64  OK    OK    WARNINGS    OK  UNNEEDED, same version is already published
Package 105/194HostnameOS / ArchINSTALLBUILDCHECKBUILD BIN
magpie 1.0.0  (landing page)
Daoyu Duan
git_last_commit: 6a69484
git_last_commit_date: 2023-04-25 11:43:24 -0400
nebbiolo1Linux (Ubuntu 22.04.2 LTS) / x86_64  OK    OK    OK  UNNEEDED, same version is already published
palomino3Windows Server 2022 Datacenter / x64  OK    OK    OK    OK  NO, package depends on 'TRESS' which is not available
merida1macOS 12.6.4 Monterey / x86_64  OK    OK    OK    OK  UNNEEDED, same version is already published
Package 106/194HostnameOS / ArchINSTALLBUILDCHECKBUILD BIN
mAPKL 1.30.0  (landing page)
Argiris Sakellariou
git_last_commit: 2369411
git_last_commit_date: 2023-04-25 10:37:13 -0400
nebbiolo1Linux (Ubuntu 22.04.2 LTS) / x86_64  OK    ERROR  skipped
palomino3Windows Server 2022 Datacenter / x64  OK    ERROR  skippedskipped
merida1macOS 12.6.4 Monterey / x86_64  OK    ERROR  skippedskipped
Package 107/194HostnameOS / ArchINSTALLBUILDCHECKBUILD BIN
maPredictDSC 1.38.0  (landing page)
Adi Laurentiu Tarca
git_last_commit: 2fbf8a9
git_last_commit_date: 2023-04-25 10:27:37 -0400
nebbiolo1Linux (Ubuntu 22.04.2 LTS) / x86_64  OK    OK    OK  UNNEEDED, same version is already published
palomino3Windows Server 2022 Datacenter / x64  OK    OK    OK    OK  UNNEEDED, same version is already published
merida1macOS 12.6.4 Monterey / x86_64  OK    OK    OK    OK  UNNEEDED, same version is already published
Package 108/194HostnameOS / ArchINSTALLBUILDCHECKBUILD BIN
mastR 1.0.0  (landing page)
Jinjin Chen
git_last_commit: 78310f8
git_last_commit_date: 2023-04-25 11:44:26 -0400
nebbiolo1Linux (Ubuntu 22.04.2 LTS) / x86_64  OK    OK    OK  UNNEEDED, same version is already published
palomino3Windows Server 2022 Datacenter / x64  OK    OK    OK    OK  UNNEEDED, same version is already published
merida1macOS 12.6.4 Monterey / x86_64  OK    OK    OK    OK  UNNEEDED, same version is already published
Package 109/194HostnameOS / ArchINSTALLBUILDCHECKBUILD BIN
MCbiclust 1.24.0  (landing page)
Robert Bentham
git_last_commit: fe71457
git_last_commit_date: 2023-04-25 10:52:14 -0400
nebbiolo1Linux (Ubuntu 22.04.2 LTS) / x86_64  OK    OK    OK  UNNEEDED, same version is already published
palomino3Windows Server 2022 Datacenter / x64  OK    OK    OK    OK  UNNEEDED, same version is already published
merida1macOS 12.6.4 Monterey / x86_64  OK    OK    OK    OK  UNNEEDED, same version is already published
Package 110/194HostnameOS / ArchINSTALLBUILDCHECKBUILD BIN
MeSHDbi 1.36.0  (landing page)
Koki Tsuyuzaki
git_last_commit: b4341dc
git_last_commit_date: 2023-04-25 10:31:52 -0400
nebbiolo1Linux (Ubuntu 22.04.2 LTS) / x86_64  OK    OK    OK  UNNEEDED, same version is already published
palomino3Windows Server 2022 Datacenter / x64  OK    OK    OK    OK  UNNEEDED, same version is already published
merida1macOS 12.6.4 Monterey / x86_64  OK    OK    OK    OK  UNNEEDED, same version is already published
Package 111/194HostnameOS / ArchINSTALLBUILDCHECKBUILD BIN
meshes 1.26.0  (landing page)
Guangchuang Yu
git_last_commit: ab142fa
git_last_commit_date: 2023-04-25 10:50:38 -0400
nebbiolo1Linux (Ubuntu 22.04.2 LTS) / x86_64  OK    OK    OK  UNNEEDED, same version is already published
palomino3Windows Server 2022 Datacenter / x64  OK    OK    OK    OK  UNNEEDED, same version is already published
merida1macOS 12.6.4 Monterey / x86_64  OK    OK    OK    OK  UNNEEDED, same version is already published
Package 112/194HostnameOS / ArchINSTALLBUILDCHECKBUILD BIN
MesKit 1.10.0  (landing page)
Mengni Liu
git_last_commit: b2526ca
git_last_commit_date: 2023-04-25 11:20:51 -0400
nebbiolo1Linux (Ubuntu 22.04.2 LTS) / x86_64  OK    OK    WARNINGS  UNNEEDED, same version is already published
palomino3Windows Server 2022 Datacenter / x64  OK    OK    WARNINGS    OK  UNNEEDED, same version is already published
merida1macOS 12.6.4 Monterey / x86_64  OK    OK    WARNINGS    OK  UNNEEDED, same version is already published
Package 113/194HostnameOS / ArchINSTALLBUILDCHECKBUILD BIN
MetaboSignal 1.30.1  (landing page)
Andrea Rodriguez-Martinez
git_last_commit: 6c1d718
git_last_commit_date: 2023-05-16 03:06:44 -0400
nebbiolo1Linux (Ubuntu 22.04.2 LTS) / x86_64  OK    OK    OK  UNNEEDED, same version is already published
palomino3Windows Server 2022 Datacenter / x64  OK    OK    OK    OK  UNNEEDED, same version is already published
merida1macOS 12.6.4 Monterey / x86_64  OK    OK    OK    OK  UNNEEDED, same version is already published
Package 114/194HostnameOS / ArchINSTALLBUILDCHECKBUILD BIN
methylGSA 1.18.0  (landing page)
Xu Ren
git_last_commit: c780f48
git_last_commit_date: 2023-04-25 11:02:55 -0400
nebbiolo1Linux (Ubuntu 22.04.2 LTS) / x86_64  OK    OK    OK  UNNEEDED, same version is already published
palomino3Windows Server 2022 Datacenter / x64  OK    OK    OK    OK  UNNEEDED, same version is already published
merida1macOS 12.6.4 Monterey / x86_64  OK    OK    OK    OK  UNNEEDED, same version is already published
Package 115/194HostnameOS / ArchINSTALLBUILDCHECKBUILD BIN
methylumi 2.46.0  (landing page)
Sean Davis
git_last_commit: eb09e65
git_last_commit_date: 2023-04-25 09:48:47 -0400
nebbiolo1Linux (Ubuntu 22.04.2 LTS) / x86_64  OK    OK    OK  UNNEEDED, same version is already published
palomino3Windows Server 2022 Datacenter / x64  OK    OK    OK    OK  UNNEEDED, same version is already published
merida1macOS 12.6.4 Monterey / x86_64  OK    OK    OK    OK  UNNEEDED, same version is already published
Package 116/194HostnameOS / ArchINSTALLBUILDCHECKBUILD BIN
MGFM 1.34.0  (landing page)
Khadija El Amrani
git_last_commit: 8a2d9cb
git_last_commit_date: 2023-04-25 10:34:45 -0400
nebbiolo1Linux (Ubuntu 22.04.2 LTS) / x86_64  OK    OK    OK  UNNEEDED, same version is already published
palomino3Windows Server 2022 Datacenter / x64  OK    OK    OK    OK  UNNEEDED, same version is already published
merida1macOS 12.6.4 Monterey / x86_64  OK    OK    OK    OK  UNNEEDED, same version is already published
Package 117/194HostnameOS / ArchINSTALLBUILDCHECKBUILD BIN
MIGSA 1.24.0  (landing page)
Juan C. Rodriguez
git_last_commit: 761b335
git_last_commit_date: 2023-04-25 10:52:42 -0400
nebbiolo1Linux (Ubuntu 22.04.2 LTS) / x86_64  OK    ERROR  skipped
palomino3Windows Server 2022 Datacenter / x64  OK    ERROR  skippedskipped
merida1macOS 12.6.4 Monterey / x86_64  OK    ERROR  skippedskipped
Package 118/194HostnameOS / ArchINSTALLBUILDCHECKBUILD BIN
MineICA 1.40.0  (landing page)
Anne Biton
git_last_commit: a55771d
git_last_commit_date: 2023-04-25 10:25:45 -0400
nebbiolo1Linux (Ubuntu 22.04.2 LTS) / x86_64  OK    OK    WARNINGS  UNNEEDED, same version is already published
palomino3Windows Server 2022 Datacenter / x64  OK    OK    WARNINGS    OK  UNNEEDED, same version is already published
merida1macOS 12.6.4 Monterey / x86_64  OK    OK    WARNINGS    OK  UNNEEDED, same version is already published
Package 119/194HostnameOS / ArchINSTALLBUILDCHECKBUILD BIN
MiRaGE 1.42.0  (landing page)
Y-h. Taguchi
git_last_commit: 65182a1
git_last_commit_date: 2023-04-25 10:23:09 -0400
nebbiolo1Linux (Ubuntu 22.04.2 LTS) / x86_64  OK    OK    WARNINGS  UNNEEDED, same version is already published
palomino3Windows Server 2022 Datacenter / x64  OK    OK    WARNINGS    OK  UNNEEDED, same version is already published
merida1macOS 12.6.4 Monterey / x86_64  OK    OK    WARNINGS    OK  UNNEEDED, same version is already published
Package 120/194HostnameOS / ArchINSTALLBUILDCHECKBUILD BIN
mirIntegrator 1.30.0  (landing page)
Diana Diaz
git_last_commit: f2d4084
git_last_commit_date: 2023-04-25 10:40:06 -0400
nebbiolo1Linux (Ubuntu 22.04.2 LTS) / x86_64  OK    OK    OK  UNNEEDED, same version is already published
palomino3Windows Server 2022 Datacenter / x64  OK    OK    OK    OK  UNNEEDED, same version is already published
merida1macOS 12.6.4 Monterey / x86_64  OK    OK    OK    OK  UNNEEDED, same version is already published
Package 121/194HostnameOS / ArchINSTALLBUILDCHECKBUILD BIN
miRNAmeConverter 1.28.0  (landing page)
Stefan J. Haunsberger
git_last_commit: 3c35287
git_last_commit_date: 2023-04-25 10:44:57 -0400
nebbiolo1Linux (Ubuntu 22.04.2 LTS) / x86_64  OK    OK    WARNINGS  UNNEEDED, same version is already published
palomino3Windows Server 2022 Datacenter / x64  OK    OK    WARNINGS    OK  UNNEEDED, same version is already published
merida1macOS 12.6.4 Monterey / x86_64  OK    OK    WARNINGS    OK  UNNEEDED, same version is already published
Package 122/194HostnameOS / ArchINSTALLBUILDCHECKBUILD BIN
miRNAtap 1.34.0  (landing page)
T. Ian Simpson
git_last_commit: dc869c0
git_last_commit_date: 2023-04-25 10:33:44 -0400
nebbiolo1Linux (Ubuntu 22.04.2 LTS) / x86_64  OK    OK    OK  UNNEEDED, same version is already published
palomino3Windows Server 2022 Datacenter / x64  OK    OK    OK    OK  UNNEEDED, same version is already published
merida1macOS 12.6.4 Monterey / x86_64  OK    OK    OK    OK  UNNEEDED, same version is already published
Package 123/194HostnameOS / ArchINSTALLBUILDCHECKBUILD BIN
missMethyl 1.34.0  (landing page)
Belinda Phipson
git_last_commit: 57db57c
git_last_commit_date: 2023-04-25 10:33:22 -0400
nebbiolo1Linux (Ubuntu 22.04.2 LTS) / x86_64  OK    OK    OK  UNNEEDED, same version is already published
palomino3Windows Server 2022 Datacenter / x64  OK    OK    OK    OK  UNNEEDED, same version is already published
merida1macOS 12.6.4 Monterey / x86_64  OK    OK    OK    OK  UNNEEDED, same version is already published
Package 124/194HostnameOS / ArchINSTALLBUILDCHECKBUILD BIN
MLP 1.48.0  (landing page)
Tobias Verbeke
git_last_commit: d9736b7
git_last_commit_date: 2023-04-25 10:18:25 -0400
nebbiolo1Linux (Ubuntu 22.04.2 LTS) / x86_64  OK    OK    OK  UNNEEDED, same version is already published
palomino3Windows Server 2022 Datacenter / x64  OK    OK    OK    OK  UNNEEDED, same version is already published
merida1macOS 12.6.4 Monterey / x86_64  OK    OK    OK    OK  UNNEEDED, same version is already published
Package 125/194HostnameOS / ArchINSTALLBUILDCHECKBUILD BIN
MSnID 1.34.0  (landing page)
Vlad Petyuk
git_last_commit: 587f568
git_last_commit_date: 2023-04-25 10:34:42 -0400
nebbiolo1Linux (Ubuntu 22.04.2 LTS) / x86_64  OK    OK    OK  UNNEEDED, same version is already published
palomino3Windows Server 2022 Datacenter / x64  OK    OK    OK    OK  UNNEEDED, same version is already published
merida1macOS 12.6.4 Monterey / x86_64  OK    OK    OK    OK  UNNEEDED, same version is already published
Package 126/194HostnameOS / ArchINSTALLBUILDCHECKBUILD BIN
multiGSEA 1.10.0  (landing page)
Sebastian Canzler
git_last_commit: 8e761e8
git_last_commit_date: 2023-04-25 11:19:42 -0400
nebbiolo1Linux (Ubuntu 22.04.2 LTS) / x86_64  OK    OK    OK  UNNEEDED, same version is already published
palomino3Windows Server 2022 Datacenter / x64  OK    OK    OK    OK  UNNEEDED, same version is already published
merida1macOS 12.6.4 Monterey / x86_64  OK    TIMEOUT  skippedskipped
Package 127/194HostnameOS / ArchINSTALLBUILDCHECKBUILD BIN
multiMiR 1.22.0  (landing page)
Matt Mulvahill
git_last_commit: ba9546f
git_last_commit_date: 2023-04-25 10:56:39 -0400
nebbiolo1Linux (Ubuntu 22.04.2 LTS) / x86_64  OK    OK    OK  UNNEEDED, same version is already published
palomino3Windows Server 2022 Datacenter / x64  OK    OK    OK    OK  UNNEEDED, same version is already published
merida1macOS 12.6.4 Monterey / x86_64  OK    OK    OK    OK  UNNEEDED, same version is already published
Package 128/194HostnameOS / ArchINSTALLBUILDCHECKBUILD BIN
NanoMethViz 2.6.0  (landing page)
Shian Su
git_last_commit: 6c72058
git_last_commit_date: 2023-04-25 11:24:26 -0400
nebbiolo1Linux (Ubuntu 22.04.2 LTS) / x86_64  OK    OK    OK  UNNEEDED, same version is already published
palomino3Windows Server 2022 Datacenter / x64  OK    OK    OK    OK  UNNEEDED, same version is already published
merida1macOS 12.6.4 Monterey / x86_64  OK    OK    OK    OK  UNNEEDED, same version is already published
Package 129/194HostnameOS / ArchINSTALLBUILDCHECKBUILD BIN
NanoStringQCPro 1.32.0  (landing page)
Robert Ziman
git_last_commit: 2529d9b
git_last_commit_date: 2023-04-25 10:39:06 -0400
nebbiolo1Linux (Ubuntu 22.04.2 LTS) / x86_64  OK    OK    WARNINGS  UNNEEDED, same version is already published
palomino3Windows Server 2022 Datacenter / x64  OK    OK    ERROR    OK  
merida1macOS 12.6.4 Monterey / x86_64  OK    OK    ERROR    OK  
Package 130/194HostnameOS / ArchINSTALLBUILDCHECKBUILD BIN
nanotatoR 1.16.0  (landing page)
Surajit Bhattacharya
git_last_commit: 3b06cd8
git_last_commit_date: 2023-04-25 11:10:03 -0400
nebbiolo1Linux (Ubuntu 22.04.2 LTS) / x86_64  OK    OK    OK  UNNEEDED, same version is already published
palomino3Windows Server 2022 Datacenter / x64  OK    OK    OK    OK  UNNEEDED, same version is already published
merida1macOS 12.6.4 Monterey / x86_64  OK    OK    OK    OK  UNNEEDED, same version is already published
Package 131/194HostnameOS / ArchINSTALLBUILDCHECKBUILD BIN
netOmics 1.6.0  (landing page)
Antoine Bodein
git_last_commit: 7adf7b1
git_last_commit_date: 2023-04-25 11:34:27 -0400
nebbiolo1Linux (Ubuntu 22.04.2 LTS) / x86_64  OK    OK    OK  UNNEEDED, same version is already published
palomino3Windows Server 2022 Datacenter / x64  OK    OK    OK    OK  UNNEEDED, same version is already published
merida1macOS 12.6.4 Monterey / x86_64  OK    OK    OK    OK  UNNEEDED, same version is already published
Package 132/194HostnameOS / ArchINSTALLBUILDCHECKBUILD BIN
NetSAM 1.40.0  (landing page)
Zhiao Shi
git_last_commit: 96ecc60
git_last_commit_date: 2023-04-25 10:27:27 -0400
nebbiolo1Linux (Ubuntu 22.04.2 LTS) / x86_64  OK    OK    OK  UNNEEDED, same version is already published
palomino3Windows Server 2022 Datacenter / x64  OK    OK    OK    OK  UNNEEDED, same version is already published
merida1macOS 12.6.4 Monterey / x86_64  OK    OK    OK    OK  UNNEEDED, same version is already published
Package 133/194HostnameOS / ArchINSTALLBUILDCHECKBUILD BIN
netZooR 1.4.0  (landing page)
Marouen Ben Guebila
git_last_commit: f2c29ff
git_last_commit_date: 2023-04-25 11:35:03 -0400
nebbiolo1Linux (Ubuntu 22.04.2 LTS) / x86_64  OK    OK    OK  UNNEEDED, same version is already published
palomino3Windows Server 2022 Datacenter / x64  OK    OK    OK    OK  UNNEEDED, same version is already published
merida1macOS 12.6.4 Monterey / x86_64  OK    OK    OK    OK  UNNEEDED, same version is already published
Package 134/194HostnameOS / ArchINSTALLBUILDCHECKBUILD BIN
NoRCE 1.12.0  (landing page)
Gulden Olgun
git_last_commit: 8432e2f
git_last_commit_date: 2023-04-25 11:16:17 -0400
nebbiolo1Linux (Ubuntu 22.04.2 LTS) / x86_64  OK    OK    OK  UNNEEDED, same version is already published
palomino3Windows Server 2022 Datacenter / x64  OK    OK    OK    OK  UNNEEDED, same version is already published
merida1macOS 12.6.4 Monterey / x86_64  OK    OK    OK    OK  UNNEEDED, same version is already published
Package 135/194HostnameOS / ArchINSTALLBUILDCHECKBUILD BIN
ORFik 1.20.0  (landing page)
Haakon Tjeldnes
git_last_commit: 3124800
git_last_commit_date: 2023-04-25 11:01:57 -0400
nebbiolo1Linux (Ubuntu 22.04.2 LTS) / x86_64  OK    OK    OK  UNNEEDED, same version is already published
palomino3Windows Server 2022 Datacenter / x64  OK    ERROR  skippedskipped
merida1macOS 12.6.4 Monterey / x86_64  OK    OK    OK    OK  UNNEEDED, same version is already published
Package 136/194HostnameOS / ArchINSTALLBUILDCHECKBUILD BIN
Organism.dplyr 1.28.0  (landing page)
Martin Morgan
git_last_commit: dc941a7
git_last_commit_date: 2023-04-25 10:52:39 -0400
nebbiolo1Linux (Ubuntu 22.04.2 LTS) / x86_64  OK    OK    OK  UNNEEDED, same version is already published
palomino3Windows Server 2022 Datacenter / x64  OK    OK    OK    OK  UNNEEDED, same version is already published
merida1macOS 12.6.4 Monterey / x86_64  OK    OK    OK    OK  UNNEEDED, same version is already published
Package 137/194HostnameOS / ArchINSTALLBUILDCHECKBUILD BIN
OrganismDbi 1.42.0  (landing page)
Bioconductor Package Maintainer
git_last_commit: 29fcd5c
git_last_commit_date: 2023-04-25 10:23:59 -0400
nebbiolo1Linux (Ubuntu 22.04.2 LTS) / x86_64  OK    OK    WARNINGS  UNNEEDED, same version is already published
palomino3Windows Server 2022 Datacenter / x64  OK    OK    WARNINGS    OK  UNNEEDED, same version is already published
merida1macOS 12.6.4 Monterey / x86_64  OK    OK    WARNINGS    OK  UNNEEDED, same version is already published
Package 138/194HostnameOS / ArchINSTALLBUILDCHECKBUILD BIN
OutSplice 1.0.0  (landing page)
Theresa Guo
git_last_commit: 6582cb5
git_last_commit_date: 2023-04-25 11:44:41 -0400
nebbiolo1Linux (Ubuntu 22.04.2 LTS) / x86_64  OK    OK    OK  UNNEEDED, same version is already published
palomino3Windows Server 2022 Datacenter / x64  OK    OK    OK    OK  UNNEEDED, same version is already published
merida1macOS 12.6.4 Monterey / x86_64  OK    OK    OK    OK  UNNEEDED, same version is already published
Package 139/194HostnameOS / ArchINSTALLBUILDCHECKBUILD BIN
PADOG 1.42.0  (landing page)
Adi L. Tarca
git_last_commit: 73251d0
git_last_commit_date: 2023-04-25 10:23:39 -0400
nebbiolo1Linux (Ubuntu 22.04.2 LTS) / x86_64  OK    OK    OK  UNNEEDED, same version is already published
palomino3Windows Server 2022 Datacenter / x64  OK    OK    OK    OK  UNNEEDED, same version is already published
merida1macOS 12.6.4 Monterey / x86_64  OK    OK    OK    OK  UNNEEDED, same version is already published
Package 140/194HostnameOS / ArchINSTALLBUILDCHECKBUILD BIN
pathRender 1.68.0  (landing page)
Vince Carey
git_last_commit: 13159d1
git_last_commit_date: 2023-04-25 09:42:53 -0400
nebbiolo1Linux (Ubuntu 22.04.2 LTS) / x86_64  OK    OK    OK  UNNEEDED, same version is already published
palomino3Windows Server 2022 Datacenter / x64  OK    OK    OK    OK  UNNEEDED, same version is already published
merida1macOS 12.6.4 Monterey / x86_64  OK    OK    OK    OK  UNNEEDED, same version is already published
Package 141/194HostnameOS / ArchINSTALLBUILDCHECKBUILD BIN
pathview 1.40.0  (landing page)
Weijun Luo
git_last_commit: 6546c61
git_last_commit_date: 2023-04-25 10:26:08 -0400
nebbiolo1Linux (Ubuntu 22.04.2 LTS) / x86_64  OK    OK    WARNINGS  UNNEEDED, same version is already published
palomino3Windows Server 2022 Datacenter / x64  OK    OK    WARNINGS    OK  UNNEEDED, same version is already published
merida1macOS 12.6.4 Monterey / x86_64  OK    OK    WARNINGS    OK  UNNEEDED, same version is already published
Package 142/194HostnameOS / ArchINSTALLBUILDCHECKBUILD BIN
pcaExplorer 2.26.1  (landing page)
Federico Marini
git_last_commit: 2fced96
git_last_commit_date: 2023-04-28 17:04:12 -0400
nebbiolo1Linux (Ubuntu 22.04.2 LTS) / x86_64  OK    OK    OK  UNNEEDED, same version is already published
palomino3Windows Server 2022 Datacenter / x64  OK    OK    OK    OK  UNNEEDED, same version is already published
merida1macOS 12.6.4 Monterey / x86_64  OK    OK    OK    OK  UNNEEDED, same version is already published
Package 143/194HostnameOS / ArchINSTALLBUILDCHECKBUILD BIN
phantasus 1.20.2  (landing page)
Alexey Sergushichev
git_last_commit: d1cc142
git_last_commit_date: 2023-04-26 11:35:51 -0400
nebbiolo1Linux (Ubuntu 22.04.2 LTS) / x86_64  OK    OK    OK  UNNEEDED, same version is already published
palomino3Windows Server 2022 Datacenter / x64  OK    OK    OK    OK  UNNEEDED, same version is already published
merida1macOS 12.6.4 Monterey / x86_64  OK    OK    OK    OK  UNNEEDED, same version is already published
Package 144/194HostnameOS / ArchINSTALLBUILDCHECKBUILD BIN
phenoTest 1.48.0  (landing page)
Evarist Planet
git_last_commit: 19df6ab
git_last_commit_date: 2023-04-25 10:18:42 -0400
nebbiolo1Linux (Ubuntu 22.04.2 LTS) / x86_64  OK    OK    WARNINGS  UNNEEDED, same version is already published
palomino3Windows Server 2022 Datacenter / x64  OK    OK    WARNINGS    OK  UNNEEDED, same version is already published
merida1macOS 12.6.4 Monterey / x86_64  OK    OK    WARNINGS    OK  UNNEEDED, same version is already published
Package 145/194HostnameOS / ArchINSTALLBUILDCHECKBUILD BIN
proActiv 1.10.0  (landing page)
Joseph Lee
git_last_commit: da3d324
git_last_commit_date: 2023-04-25 11:22:38 -0400
nebbiolo1Linux (Ubuntu 22.04.2 LTS) / x86_64  OK    OK    OK  UNNEEDED, same version is already published
palomino3Windows Server 2022 Datacenter / x64  OK    OK    OK    OK  UNNEEDED, same version is already published
merida1macOS 12.6.4 Monterey / x86_64  OK    OK    OK    OK  UNNEEDED, same version is already published
Package 146/194HostnameOS / ArchINSTALLBUILDCHECKBUILD BIN
proBAMr 1.34.0  (landing page)
Xiaojing Wang
git_last_commit: 60bf197
git_last_commit_date: 2023-04-25 10:35:18 -0400
nebbiolo1Linux (Ubuntu 22.04.2 LTS) / x86_64  OK    OK    OK  UNNEEDED, same version is already published
palomino3Windows Server 2022 Datacenter / x64  OK    OK    OK    OK  UNNEEDED, same version is already published
merida1macOS 12.6.4 Monterey / x86_64  OK    OK    OK    OK  UNNEEDED, same version is already published
Package 147/194HostnameOS / ArchINSTALLBUILDCHECKBUILD BIN
psichomics 1.26.0  (landing page)
Nuno Saraiva-Agostinho
git_last_commit: 44fe230
git_last_commit_date: 2023-04-25 10:50:25 -0400
nebbiolo1Linux (Ubuntu 22.04.2 LTS) / x86_64  OK    OK    WARNINGS  UNNEEDED, same version is already published
palomino3Windows Server 2022 Datacenter / x64  OK    OK    WARNINGS    OK  UNNEEDED, same version is already published
merida1macOS 12.6.4 Monterey / x86_64  OK    OK    WARNINGS    OK  UNNEEDED, same version is already published
Package 148/194HostnameOS / ArchINSTALLBUILDCHECKBUILD BIN
pwOmics 1.32.0  (landing page)
Maren Sitte
git_last_commit: b7a7328
git_last_commit_date: 2023-04-25 10:39:39 -0400
nebbiolo1Linux (Ubuntu 22.04.2 LTS) / x86_64  OK    OK    ERROR  
palomino3Windows Server 2022 Datacenter / x64  OK    OK    WARNINGS    OK  UNNEEDED, same version is already published
merida1macOS 12.6.4 Monterey / x86_64  OK    OK    WARNINGS    OK  UNNEEDED, same version is already published
Package 149/194HostnameOS / ArchINSTALLBUILDCHECKBUILD BIN
qpgraph 2.34.2  (landing page)
Robert Castelo
git_last_commit: 521abb0
git_last_commit_date: 2023-05-01 20:11:38 -0400
nebbiolo1Linux (Ubuntu 22.04.2 LTS) / x86_64  OK    OK    OK  UNNEEDED, same version is already published
palomino3Windows Server 2022 Datacenter / x64  OK    OK    OK    OK  UNNEEDED, same version is already published
merida1macOS 12.6.4 Monterey / x86_64  OK    OK    OK    OK  UNNEEDED, same version is already published
Package 150/194HostnameOS / ArchINSTALLBUILDCHECKBUILD BIN
QuasR 1.40.0  (landing page)
Michael Stadler
git_last_commit: ad385c1
git_last_commit_date: 2023-04-25 10:25:14 -0400
nebbiolo1Linux (Ubuntu 22.04.2 LTS) / x86_64  OK    OK    WARNINGS  UNNEEDED, same version is already published
palomino3Windows Server 2022 Datacenter / x64  OK    OK    OK    OK  UNNEEDED, same version is already published
merida1macOS 12.6.4 Monterey / x86_64  OK    OK    WARNINGS    OK  UNNEEDED, same version is already published
Package 151/194HostnameOS / ArchINSTALLBUILDCHECKBUILD BIN
rCGH 1.30.0  (landing page)
Frederic Commo
git_last_commit: c7ca480
git_last_commit_date: 2023-04-25 10:40:26 -0400
nebbiolo1Linux (Ubuntu 22.04.2 LTS) / x86_64  OK    OK    OK  UNNEEDED, same version is already published
palomino3Windows Server 2022 Datacenter / x64  OK    OK    OK    OK  UNNEEDED, same version is already published
merida1macOS 12.6.4 Monterey / x86_64  OK    OK    OK    OK  UNNEEDED, same version is already published
Package 152/194HostnameOS / ArchINSTALLBUILDCHECKBUILD BIN
ReactomePA 1.44.0  (landing page)
Guangchuang Yu
git_last_commit: 86d6ade
git_last_commit_date: 2023-04-25 10:22:39 -0400
nebbiolo1Linux (Ubuntu 22.04.2 LTS) / x86_64  OK    OK    OK  UNNEEDED, same version is already published
palomino3Windows Server 2022 Datacenter / x64  OK    OK    OK    OK  UNNEEDED, same version is already published
merida1macOS 12.6.4 Monterey / x86_64  OK    OK    OK    OK  UNNEEDED, same version is already published
Package 153/194HostnameOS / ArchINSTALLBUILDCHECKBUILD BIN
REDseq 1.46.0  (landing page)
Lihua Julie Zhu
git_last_commit: 4a4b132
git_last_commit_date: 2023-04-25 10:19:52 -0400
nebbiolo1Linux (Ubuntu 22.04.2 LTS) / x86_64  OK    OK    OK  UNNEEDED, same version is already published
palomino3Windows Server 2022 Datacenter / x64  OK    OK    OK    OK  UNNEEDED, same version is already published
merida1macOS 12.6.4 Monterey / x86_64  OK    OK    OK    OK  UNNEEDED, same version is already published
Package 154/194HostnameOS / ArchINSTALLBUILDCHECKBUILD BIN
regutools 1.12.0  (landing page)
Joselyn Chavez
git_last_commit: a823588
git_last_commit_date: 2023-04-25 11:17:58 -0400
nebbiolo1Linux (Ubuntu 22.04.2 LTS) / x86_64  OK    OK    OK  UNNEEDED, same version is already published
palomino3Windows Server 2022 Datacenter / x64  OK    OK    OK    OK  UNNEEDED, same version is already published
merida1macOS 12.6.4 Monterey / x86_64  OK    OK    OK    OK  UNNEEDED, same version is already published
Package 155/194HostnameOS / ArchINSTALLBUILDCHECKBUILD BIN
ReportingTools 2.40.0  (landing page)
Jason A. Hackney , Gabriel Becker
git_last_commit: 808af36
git_last_commit_date: 2023-04-25 10:24:14 -0400
nebbiolo1Linux (Ubuntu 22.04.2 LTS) / x86_64  OK    ERROR  skipped
palomino3Windows Server 2022 Datacenter / x64  OK    ERROR  skippedskipped
merida1macOS 12.6.4 Monterey / x86_64  OK    ERROR  skippedskipped
Package 156/194HostnameOS / ArchINSTALLBUILDCHECKBUILD BIN
restfulSE 1.22.0  (landing page)
Shweta Gopaulakrishnan
git_last_commit: 882a17b
git_last_commit_date: 2023-04-25 10:56:49 -0400
nebbiolo1Linux (Ubuntu 22.04.2 LTS) / x86_64  OK    OK    OK  UNNEEDED, same version is already published
palomino3Windows Server 2022 Datacenter / x64  OK    OK    OK    OK  UNNEEDED, same version is already published
merida1macOS 12.6.4 Monterey / x86_64  OK    OK    OK    OK  UNNEEDED, same version is already published
Package 157/194HostnameOS / ArchINSTALLBUILDCHECKBUILD BIN
rGREAT 2.2.0  (landing page)
Zuguang Gu
git_last_commit: 1089370
git_last_commit_date: 2023-04-25 10:37:39 -0400
nebbiolo1Linux (Ubuntu 22.04.2 LTS) / x86_64  OK    OK    OK  UNNEEDED, same version is already published
palomino3Windows Server 2022 Datacenter / x64  OK    OK    OK    OK  UNNEEDED, same version is already published
merida1macOS 12.6.4 Monterey / x86_64  OK    OK    OK    OK  UNNEEDED, same version is already published
Package 158/194HostnameOS / ArchINSTALLBUILDCHECKBUILD BIN
rgsepd 1.32.0  (landing page)
Karl Stamm
git_last_commit: 87a4b33
git_last_commit_date: 2023-04-25 10:36:57 -0400
nebbiolo1Linux (Ubuntu 22.04.2 LTS) / x86_64  OK    OK    OK  UNNEEDED, same version is already published
palomino3Windows Server 2022 Datacenter / x64  OK    OK    OK    OK  UNNEEDED, same version is already published
merida1macOS 12.6.4 Monterey / x86_64  OK    OK    OK    OK  UNNEEDED, same version is already published
Package 159/194HostnameOS / ArchINSTALLBUILDCHECKBUILD BIN
ribosomeProfilingQC 1.12.0  (landing page)
Jianhong Ou
git_last_commit: 98f155b
git_last_commit_date: 2023-04-25 11:15:39 -0400
nebbiolo1Linux (Ubuntu 22.04.2 LTS) / x86_64  OK    OK    OK  UNNEEDED, same version is already published
palomino3Windows Server 2022 Datacenter / x64  OK    OK    OK    OK  UNNEEDED, same version is already published
merida1macOS 12.6.4 Monterey / x86_64  OK    OK    OK    OK  UNNEEDED, same version is already published
Package 160/194HostnameOS / ArchINSTALLBUILDCHECKBUILD BIN
RNAAgeCalc 1.12.0  (landing page)
Xu Ren
git_last_commit: c684d11
git_last_commit_date: 2023-04-25 11:16:10 -0400
nebbiolo1Linux (Ubuntu 22.04.2 LTS) / x86_64  OK    OK    OK  UNNEEDED, same version is already published
palomino3Windows Server 2022 Datacenter / x64  OK    OK    OK    OK  UNNEEDED, same version is already published
merida1macOS 12.6.4 Monterey / x86_64  OK    OK    OK    OK  UNNEEDED, same version is already published
Package 161/194HostnameOS / ArchINSTALLBUILDCHECKBUILD BIN
rrvgo 1.12.0  (landing page)
Sergi Sayols
git_last_commit: 65776e1
git_last_commit_date: 2023-04-25 11:15:42 -0400
nebbiolo1Linux (Ubuntu 22.04.2 LTS) / x86_64  OK    OK    OK  UNNEEDED, same version is already published
palomino3Windows Server 2022 Datacenter / x64  OK    OK    OK    OK  UNNEEDED, same version is already published
merida1macOS 12.6.4 Monterey / x86_64  OK    OK    OK    OK  UNNEEDED, same version is already published
Package 162/194HostnameOS / ArchINSTALLBUILDCHECKBUILD BIN
rTRM 1.38.0  (landing page)
Diego Diez
git_last_commit: fd7abe1
git_last_commit_date: 2023-04-25 10:27:35 -0400
nebbiolo1Linux (Ubuntu 22.04.2 LTS) / x86_64  OK    OK    OK  UNNEEDED, same version is already published
palomino3Windows Server 2022 Datacenter / x64  OK    OK    OK    OK  UNNEEDED, same version is already published
merida1macOS 12.6.4 Monterey / x86_64  OK    OK    OK    OK  UNNEEDED, same version is already published
Package 163/194HostnameOS / ArchINSTALLBUILDCHECKBUILD BIN
safe 3.40.0  (landing page)
Ludwig Geistlinger
git_last_commit: 5667c61
git_last_commit_date: 2023-04-25 09:41:41 -0400
nebbiolo1Linux (Ubuntu 22.04.2 LTS) / x86_64  OK    OK    OK  UNNEEDED, same version is already published
palomino3Windows Server 2022 Datacenter / x64  OK    OK    OK    OK  UNNEEDED, same version is already published
merida1macOS 12.6.4 Monterey / x86_64  OK    OK    OK    OK  UNNEEDED, same version is already published
Package 164/194HostnameOS / ArchINSTALLBUILDCHECKBUILD BIN
SBGNview 1.14.0  (landing page)
Weijun Luo
git_last_commit: e64acdb
git_last_commit_date: 2023-04-25 11:11:01 -0400
nebbiolo1Linux (Ubuntu 22.04.2 LTS) / x86_64  OK    OK    OK  UNNEEDED, same version is already published
palomino3Windows Server 2022 Datacenter / x64  OK    OK    OK    OK  UNNEEDED, same version is already published
merida1macOS 12.6.4 Monterey / x86_64  OK    OK    OK    OK  UNNEEDED, same version is already published
Package 165/194HostnameOS / ArchINSTALLBUILDCHECKBUILD BIN
scanMiRApp 1.6.0  (landing page)
Pierre-Luc Germain
git_last_commit: 81b3eae
git_last_commit_date: 2023-04-25 11:31:44 -0400
nebbiolo1Linux (Ubuntu 22.04.2 LTS) / x86_64  OK    OK    WARNINGS  UNNEEDED, same version is already published
palomino3Windows Server 2022 Datacenter / x64  OK    OK    WARNINGS    OK  UNNEEDED, same version is already published
merida1macOS 12.6.4 Monterey / x86_64  OK    OK    WARNINGS    OK  UNNEEDED, same version is already published
Package 166/194HostnameOS / ArchINSTALLBUILDCHECKBUILD BIN
scPipe 2.0.0  (landing page)
Shian Su
git_last_commit: 2d9cb4c
git_last_commit_date: 2023-04-25 10:57:21 -0400
nebbiolo1Linux (Ubuntu 22.04.2 LTS) / x86_64  OK    OK    WARNINGS  UNNEEDED, same version is already published
palomino3Windows Server 2022 Datacenter / x64  OK    OK    WARNINGS    OK  UNNEEDED, same version is already published
merida1macOS 12.6.4 Monterey / x86_64  OK    OK    WARNINGS    OK  NO, package depends on 'basilisk' which is not available
Package 167/194HostnameOS / ArchINSTALLBUILDCHECKBUILD BIN
scruff 1.18.0  (landing page)
Zhe Wang
git_last_commit: fa92a2c
git_last_commit_date: 2023-04-25 11:03:10 -0400
nebbiolo1Linux (Ubuntu 22.04.2 LTS) / x86_64  OK    OK    OK  UNNEEDED, same version is already published
palomino3Windows Server 2022 Datacenter / x64  OK    OK    OK    OK  UNNEEDED, same version is already published
merida1macOS 12.6.4 Monterey / x86_64  OK    OK    OK    OK  UNNEEDED, same version is already published
Package 168/194HostnameOS / ArchINSTALLBUILDCHECKBUILD BIN
scTensor 2.10.0  (landing page)
Koki Tsuyuzaki
git_last_commit: 32e2912
git_last_commit_date: 2023-04-25 11:06:25 -0400
nebbiolo1Linux (Ubuntu 22.04.2 LTS) / x86_64  OK    OK    WARNINGS  UNNEEDED, same version is already published
palomino3Windows Server 2022 Datacenter / x64  OK    OK    WARNINGS    OK  UNNEEDED, same version is already published
merida1macOS 12.6.4 Monterey / x86_64  OK    OK    WARNINGS    OK  UNNEEDED, same version is already published
Package 169/194HostnameOS / ArchINSTALLBUILDCHECKBUILD BIN
SemDist 1.34.0  (landing page)
Ian Gonzalez
git_last_commit: 2f8de9e
git_last_commit_date: 2023-04-25 10:33:53 -0400
nebbiolo1Linux (Ubuntu 22.04.2 LTS) / x86_64  OK    OK    OK  UNNEEDED, same version is already published
palomino3Windows Server 2022 Datacenter / x64  OK    OK    OK    OK  UNNEEDED, same version is already published
merida1macOS 12.6.4 Monterey / x86_64  OK    OK    OK    OK  UNNEEDED, same version is already published
Package 170/194HostnameOS / ArchINSTALLBUILDCHECKBUILD BIN
SGSeq 1.34.0  (landing page)
Leonard Goldstein
git_last_commit: 9d8c0f3
git_last_commit_date: 2023-04-25 10:35:48 -0400
nebbiolo1Linux (Ubuntu 22.04.2 LTS) / x86_64  OK    OK    OK  UNNEEDED, same version is already published
palomino3Windows Server 2022 Datacenter / x64  OK    OK    OK    OK  UNNEEDED, same version is already published
merida1macOS 12.6.4 Monterey / x86_64  OK    OK    OK    OK  UNNEEDED, same version is already published
Package 171/194HostnameOS / ArchINSTALLBUILDCHECKBUILD BIN
signatureSearch 1.14.0  (landing page)
Brendan Gongol
git_last_commit: e06830a
git_last_commit_date: 2023-04-25 11:14:11 -0400
nebbiolo1Linux (Ubuntu 22.04.2 LTS) / x86_64  OK    OK    OK  UNNEEDED, same version is already published
palomino3Windows Server 2022 Datacenter / x64  OK    OK    OK    OK  UNNEEDED, same version is already published
merida1macOS 12.6.4 Monterey / x86_64  OK    OK    OK    OK  UNNEEDED, same version is already published
Package 172/194HostnameOS / ArchINSTALLBUILDCHECKBUILD BIN
signifinder 1.2.1  (landing page)
Stefania Pirrotta
git_last_commit: b29db12
git_last_commit_date: 2023-05-10 10:50:05 -0400
nebbiolo1Linux (Ubuntu 22.04.2 LTS) / x86_64  OK    OK    OK  UNNEEDED, same version is already published
palomino3Windows Server 2022 Datacenter / x64  OK    OK    OK    OK  UNNEEDED, same version is already published
merida1macOS 12.6.4 Monterey / x86_64  OK    OK    OK    OK  UNNEEDED, same version is already published
Package 173/194HostnameOS / ArchINSTALLBUILDCHECKBUILD BIN
simplifyEnrichment 1.10.0  (landing page)
Zuguang Gu
git_last_commit: 1af2820
git_last_commit_date: 2023-04-25 11:18:39 -0400
nebbiolo1Linux (Ubuntu 22.04.2 LTS) / x86_64  OK    OK    OK  UNNEEDED, same version is already published
palomino3Windows Server 2022 Datacenter / x64  OK    OK    OK    OK  UNNEEDED, same version is already published
merida1macOS 12.6.4 Monterey / x86_64  OK    OK    OK    OK  UNNEEDED, same version is already published
Package 174/194HostnameOS / ArchINSTALLBUILDCHECKBUILD BIN
SMITE 1.28.0  (landing page)
Neil Ari Wijetunga
git_last_commit: 876db9d
git_last_commit_date: 2023-04-25 10:44:07 -0400
nebbiolo1Linux (Ubuntu 22.04.2 LTS) / x86_64  OK    OK    OK  UNNEEDED, same version is already published
palomino3Windows Server 2022 Datacenter / x64  OK    OK    OK    OK  UNNEEDED, same version is already published
merida1macOS 12.6.4 Monterey / x86_64  OK    OK    OK    OK  UNNEEDED, same version is already published
Package 175/194HostnameOS / ArchINSTALLBUILDCHECKBUILD BIN
SpidermiR 1.30.0  (landing page)
Claudia Cava
git_last_commit: 896d1bb
git_last_commit_date: 2023-04-25 10:45:19 -0400
nebbiolo1Linux (Ubuntu 22.04.2 LTS) / x86_64  OK    OK    OK  UNNEEDED, same version is already published
palomino3Windows Server 2022 Datacenter / x64  OK    OK    OK    OK  UNNEEDED, same version is already published
merida1macOS 12.6.4 Monterey / x86_64  OK    OK    OK    OK  UNNEEDED, same version is already published
Package 176/194HostnameOS / ArchINSTALLBUILDCHECKBUILD BIN
StarBioTrek 1.26.0  (landing page)
Claudia Cava
git_last_commit: 1060d9a
git_last_commit_date: 2023-04-25 10:50:46 -0400
nebbiolo1Linux (Ubuntu 22.04.2 LTS) / x86_64  OK    OK    WARNINGS  UNNEEDED, same version is already published
palomino3Windows Server 2022 Datacenter / x64  OK    OK    WARNINGS    OK  UNNEEDED, same version is already published
merida1macOS 12.6.4 Monterey / x86_64  OK    OK    WARNINGS    OK  UNNEEDED, same version is already published
Package 177/194HostnameOS / ArchINSTALLBUILDCHECKBUILD BIN
SubCellBarCode 1.16.0  (landing page)
Taner Arslan
git_last_commit: 0860701
git_last_commit_date: 2023-04-25 11:10:24 -0400
nebbiolo1Linux (Ubuntu 22.04.2 LTS) / x86_64  OK    OK    OK  UNNEEDED, same version is already published
palomino3Windows Server 2022 Datacenter / x64  OK    OK    OK    OK  UNNEEDED, same version is already published
merida1macOS 12.6.4 Monterey / x86_64  OK    OK    OK    OK  UNNEEDED, same version is already published
Package 178/194HostnameOS / ArchINSTALLBUILDCHECKBUILD BIN
SVMDO 1.0.0  (landing page)
Mustafa Erhan Özer
git_last_commit: 39afc67
git_last_commit_date: 2023-04-25 11:44:47 -0400
nebbiolo1Linux (Ubuntu 22.04.2 LTS) / x86_64  OK    OK    OK  UNNEEDED, same version is already published
palomino3Windows Server 2022 Datacenter / x64  OK    OK    OK    OK  UNNEEDED, same version is already published
merida1macOS 12.6.4 Monterey / x86_64  OK    OK    OK    OK  UNNEEDED, same version is already published
Package 179/194HostnameOS / ArchINSTALLBUILDCHECKBUILD BIN
TCGAutils 1.20.2  (landing page)
Marcel Ramos
git_last_commit: c65a5ac
git_last_commit_date: 2023-05-22 16:27:02 -0400
nebbiolo1Linux (Ubuntu 22.04.2 LTS) / x86_64  OK    OK    OK  UNNEEDED, same version is already published
palomino3Windows Server 2022 Datacenter / x64  OK    OK    OK    OK  UNNEEDED, same version is already published
merida1macOS 12.6.4 Monterey / x86_64  OK    OK    OK    OK  UNNEEDED, same version is already published
Package 180/194HostnameOS / ArchINSTALLBUILDCHECKBUILD BIN
tenXplore 1.22.0  (landing page)
VJ Carey
git_last_commit: 5adb49a
git_last_commit_date: 2023-04-25 10:58:02 -0400
nebbiolo1Linux (Ubuntu 22.04.2 LTS) / x86_64  OK    OK    OK  UNNEEDED, same version is already published
palomino3Windows Server 2022 Datacenter / x64  OK    OK    OK    OK  UNNEEDED, same version is already published
merida1macOS 12.6.4 Monterey / x86_64  OK    OK    OK    OK  UNNEEDED, same version is already published
Package 181/194HostnameOS / ArchINSTALLBUILDCHECKBUILD BIN
TFutils 1.20.0  (landing page)
Vincent Carey
git_last_commit: 1f0a05b
git_last_commit_date: 2023-04-25 11:00:54 -0400
nebbiolo1Linux (Ubuntu 22.04.2 LTS) / x86_64  OK    OK    OK  UNNEEDED, same version is already published
palomino3Windows Server 2022 Datacenter / x64  OK    OK    OK    OK  UNNEEDED, same version is already published
merida1macOS 12.6.4 Monterey / x86_64  OK    OK    OK    OK  UNNEEDED, same version is already published
Package 182/194HostnameOS / ArchINSTALLBUILDCHECKBUILD BIN
tigre 1.54.0  (landing page)
Antti Honkela
git_last_commit: 184a58c
git_last_commit_date: 2023-04-25 09:50:40 -0400
nebbiolo1Linux (Ubuntu 22.04.2 LTS) / x86_64  OK    OK    OK  UNNEEDED, same version is already published
palomino3Windows Server 2022 Datacenter / x64  OK    OK    OK    OK  UNNEEDED, same version is already published
merida1macOS 12.6.4 Monterey / x86_64  OK    OK    OK    OK  UNNEEDED, same version is already published
Package 183/194HostnameOS / ArchINSTALLBUILDCHECKBUILD BIN
topGO 2.52.0  (landing page)
Adrian Alexa
git_last_commit: 214db21
git_last_commit_date: 2023-04-25 09:44:57 -0400
nebbiolo1Linux (Ubuntu 22.04.2 LTS) / x86_64  OK    OK    OK  UNNEEDED, same version is already published
palomino3Windows Server 2022 Datacenter / x64  OK    OK    OK    OK  UNNEEDED, same version is already published
merida1macOS 12.6.4 Monterey / x86_64  OK    OK    OK    OK  UNNEEDED, same version is already published
Package 184/194HostnameOS / ArchINSTALLBUILDCHECKBUILD BIN
trackViewer 1.36.2  (landing page)
Jianhong Ou
git_last_commit: 8660ccc
git_last_commit_date: 2023-05-17 09:52:56 -0400
nebbiolo1Linux (Ubuntu 22.04.2 LTS) / x86_64  OK    OK    OK  UNNEEDED, same version is already published
palomino3Windows Server 2022 Datacenter / x64  OK    OK    OK    OK  UNNEEDED, same version is already published
merida1macOS 12.6.4 Monterey / x86_64  OK    OK    OK    OK  UNNEEDED, same version is already published
Package 185/194HostnameOS / ArchINSTALLBUILDCHECKBUILD BIN
trena 1.22.0  (landing page)
Paul Shannon
git_last_commit: 82de230
git_last_commit_date: 2023-04-25 10:54:22 -0400
nebbiolo1Linux (Ubuntu 22.04.2 LTS) / x86_64  ERROR    ERROR  skipped
palomino3Windows Server 2022 Datacenter / x64  ERROR    ERROR  skippedskipped
merida1macOS 12.6.4 Monterey / x86_64  ERROR    ERROR  skippedskipped
Package 186/194HostnameOS / ArchINSTALLBUILDCHECKBUILD BIN
TRESS 1.6.0  (landing page)
Zhenxing Guo
git_last_commit: 1848f25
git_last_commit_date: 2023-04-25 11:33:30 -0400
nebbiolo1Linux (Ubuntu 22.04.2 LTS) / x86_64  OK    OK    OK  UNNEEDED, same version is already published
palomino3Windows Server 2022 Datacenter / x64  OK    ERROR  skippedskipped
merida1macOS 12.6.4 Monterey / x86_64  OK    OK    OK    OK  UNNEEDED, same version is already published
Package 187/194HostnameOS / ArchINSTALLBUILDCHECKBUILD BIN
tricycle 1.8.0  (landing page)
Shijie Zheng
git_last_commit: 6616904
git_last_commit_date: 2023-04-25 11:28:42 -0400
nebbiolo1Linux (Ubuntu 22.04.2 LTS) / x86_64  OK    OK    OK  UNNEEDED, same version is already published
palomino3Windows Server 2022 Datacenter / x64  OK    OK    OK    OK  UNNEEDED, same version is already published
merida1macOS 12.6.4 Monterey / x86_64  OK    OK    OK    OK  NO, package depends on 'scater' which is not available
Package 188/194HostnameOS / ArchINSTALLBUILDCHECKBUILD BIN
txcutr 1.6.0  (landing page)
Mervin Fansler
git_last_commit: fd0e085
git_last_commit_date: 2023-04-25 11:34:30 -0400
nebbiolo1Linux (Ubuntu 22.04.2 LTS) / x86_64  OK    OK    OK  UNNEEDED, same version is already published
palomino3Windows Server 2022 Datacenter / x64  OK    OK    OK    OK  UNNEEDED, same version is already published
merida1macOS 12.6.4 Monterey / x86_64  OK    OK    OK    OK  UNNEEDED, same version is already published
Package 189/194HostnameOS / ArchINSTALLBUILDCHECKBUILD BIN
tximeta 1.18.0  (landing page)
Michael Love
git_last_commit: 8f87d53
git_last_commit_date: 2023-04-25 11:04:06 -0400
nebbiolo1Linux (Ubuntu 22.04.2 LTS) / x86_64  OK    OK    OK  UNNEEDED, same version is already published
palomino3Windows Server 2022 Datacenter / x64  OK    OK    OK    OK  UNNEEDED, same version is already published
merida1macOS 12.6.4 Monterey / x86_64  OK    OK    OK    OK  UNNEEDED, same version is already published
Package 190/194HostnameOS / ArchINSTALLBUILDCHECKBUILD BIN
Ularcirc 1.18.0  (landing page)
David Humphreys
git_last_commit: 59e062b
git_last_commit_date: 2023-04-25 11:02:25 -0400
nebbiolo1Linux (Ubuntu 22.04.2 LTS) / x86_64  OK    OK    WARNINGS  UNNEEDED, same version is already published
palomino3Windows Server 2022 Datacenter / x64  OK    OK    WARNINGS    OK  UNNEEDED, same version is already published
merida1macOS 12.6.4 Monterey / x86_64  OK    OK    WARNINGS    OK  UNNEEDED, same version is already published
Package 191/194HostnameOS / ArchINSTALLBUILDCHECKBUILD BIN
UniProt.ws 2.40.0  (landing page)
Marcel Ramos
git_last_commit: 19cee7c
git_last_commit_date: 2023-04-25 10:24:45 -0400
nebbiolo1Linux (Ubuntu 22.04.2 LTS) / x86_64  OK    OK    OK  UNNEEDED, same version is already published
palomino3Windows Server 2022 Datacenter / x64  OK    OK    OK    OK  UNNEEDED, same version is already published
merida1macOS 12.6.4 Monterey / x86_64  OK    OK    OK    OK  UNNEEDED, same version is already published
Package 192/194HostnameOS / ArchINSTALLBUILDCHECKBUILD BIN
VariantAnnotation 1.46.0  (landing page)
Bioconductor Package Maintainer
git_last_commit: 80d43e0
git_last_commit_date: 2023-04-25 10:20:30 -0400
nebbiolo1Linux (Ubuntu 22.04.2 LTS) / x86_64  OK    OK    WARNINGS  UNNEEDED, same version is already published
palomino3Windows Server 2022 Datacenter / x64  OK    OK    WARNINGS    OK  UNNEEDED, same version is already published
merida1macOS 12.6.4 Monterey / x86_64  OK    OK    WARNINGS    OK  UNNEEDED, same version is already published
Package 193/194HostnameOS / ArchINSTALLBUILDCHECKBUILD BIN
VariantFiltering 1.36.0  (landing page)
Robert Castelo
git_last_commit: 2316bab
git_last_commit_date: 2023-04-25 10:31:35 -0400
nebbiolo1Linux (Ubuntu 22.04.2 LTS) / x86_64  OK    OK    OK  UNNEEDED, same version is already published
palomino3Windows Server 2022 Datacenter / x64  OK    OK    OK    OK  UNNEEDED, same version is already published
merida1macOS 12.6.4 Monterey / x86_64  OK    OK    OK    OK  UNNEEDED, same version is already published
Package 194/194HostnameOS / ArchINSTALLBUILDCHECKBUILD BIN
ViSEAGO 1.14.0  (landing page)
Aurelien Brionne
git_last_commit: 2c260c1
git_last_commit_date: 2023-04-25 11:11:13 -0400
nebbiolo1Linux (Ubuntu 22.04.2 LTS) / x86_64  OK    OK    WARNINGS  UNNEEDED, same version is already published
palomino3Windows Server 2022 Datacenter / x64  OK    OK    WARNINGS    OK  UNNEEDED, same version is already published
merida1macOS 12.6.4 Monterey / x86_64  OK    OK    WARNINGS    OK  UNNEEDED, same version is already published