Back to Multiple platform build/check report for BioC 3.17:   simplified   long
AB[C]DEFGHIJKLMNOPQRSTUVWXYZ

This page was generated on 2023-03-29 11:05:20 -0400 (Wed, 29 Mar 2023).

HostnameOSArch (*)R versionInstalled pkgs
nebbiolo1Linux (Ubuntu 22.04.1 LTS)x86_64R Under development (unstable) (2023-03-16 r83996) -- "Unsuffered Consequences" 4547
palomino3Windows Server 2022 Datacenterx64R Under development (unstable) (2023-03-15 r83984 ucrt) -- "Unsuffered Consequences" 4308
merida1macOS 10.14.6 Mojavex86_64R Under development (unstable) (2023-03-16 r83985) -- "Unsuffered Consequences" 4301
Click on any hostname to see more info about the system (e.g. compilers)      (*) as reported by 'uname -p', except on Windows and Mac OS X

BUILD BIN results for ChIPexoQual on palomino3


To the developers/maintainers of the ChIPexoQual package:
- Please allow up to 24 hours (and sometimes 48 hours) for your latest push to git@git.bioconductor.org:packages/ChIPexoQual.git to
reflect on this report. See How and When does the builder pull? When will my changes propagate? for more information.
- Make sure to use the following settings in order to reproduce any error or warning you see on this page.

raw results

Package 322/2195HostnameOS / ArchINSTALLBUILDCHECKBUILD BIN
ChIPexoQual 1.23.0  (landing page)
Rene Welch
Snapshot Date: 2023-03-28 14:00:22 -0400 (Tue, 28 Mar 2023)
git_url: https://git.bioconductor.org/packages/ChIPexoQual
git_branch: devel
git_last_commit: 6775da3
git_last_commit_date: 2022-11-01 11:15:05 -0400 (Tue, 01 Nov 2022)
nebbiolo1Linux (Ubuntu 22.04.1 LTS) / x86_64  OK    OK    OK  UNNEEDED, same version is already published
palomino3Windows Server 2022 Datacenter / x64  OK    OK    OK    OK  UNNEEDED, same version is already published
merida1macOS 10.14.6 Mojave / x86_64  OK    OK    OK    OK  UNNEEDED, same version is already published

Summary

Package: ChIPexoQual
Version: 1.23.0
Command: rm -rf ChIPexoQual.buildbin-libdir && mkdir ChIPexoQual.buildbin-libdir && F:\biocbuild\bbs-3.17-bioc\R\bin\R.exe CMD INSTALL --build --library=ChIPexoQual.buildbin-libdir ChIPexoQual_1.23.0.tar.gz
StartedAt: 2023-03-29 06:38:42 -0400 (Wed, 29 Mar 2023)
EndedAt: 2023-03-29 06:39:35 -0400 (Wed, 29 Mar 2023)
EllapsedTime: 53.3 seconds
RetCode: 0
Status:   OK  
PackageFile: ChIPexoQual_1.23.0.zip
PackageFileSize: 2.195 MiB

Command output

##############################################################################
##############################################################################
###
### Running command:
###
###   rm -rf ChIPexoQual.buildbin-libdir && mkdir ChIPexoQual.buildbin-libdir && F:\biocbuild\bbs-3.17-bioc\R\bin\R.exe CMD INSTALL --build --library=ChIPexoQual.buildbin-libdir ChIPexoQual_1.23.0.tar.gz
###
##############################################################################
##############################################################################


* installing *source* package 'ChIPexoQual' ...
** using staged installation
** R
** data
** inst
** byte-compile and prepare package for lazy loading
** help
*** installing help indices
** building package indices
** installing vignettes
** testing if installed package can be loaded from temporary location
** testing if installed package can be loaded from final location
** testing if installed package keeps a record of temporary installation path
* MD5 sums
packaged installation of 'ChIPexoQual' as ChIPexoQual_1.23.0.zip
* DONE (ChIPexoQual)