Back to Mac ARM64 build report for BioC 3.17
A[B]CDEFGHIJKLMNOPQRSTUVWXYZ

This page was generated on 2023-10-20 09:37:49 -0400 (Fri, 20 Oct 2023).

HostnameOSArch (*)R versionInstalled pkgs
kjohnson2macOS 12.6.1 Montereyarm644.3.1 (2023-06-16) -- "Beagle Scouts" 4347
Click on any hostname to see more info about the system (e.g. compilers)      (*) as reported by 'uname -p', except on Windows and Mac OS X

All results for package bsseq


To the developers/maintainers of the bsseq package:
- Use the following Renviron settings to reproduce errors and warnings.
- If 'R CMD check' started to fail recently on the Linux builder(s) over a missing dependency, add the missing dependency to 'Suggests:' in your DESCRIPTION file. See Renviron.bioc for more information.

raw results

Package 243/2230HostnameOS / ArchINSTALLBUILDCHECKBUILD BIN
bsseq 1.36.0  (landing page)
Kasper Daniel Hansen
Snapshot Date: 2023-10-15 14:00:07 -0400 (Sun, 15 Oct 2023)
git_url: https://git.bioconductor.org/packages/bsseq
git_branch: RELEASE_3_17
git_last_commit: 5dd72c5
git_last_commit_date: 2023-04-25 10:23:31 -0400 (Tue, 25 Apr 2023)
kjohnson2macOS 12.6.1 Monterey / arm64  OK    OK    OK    OK  UNNEEDED, same version is already published

Results for Bioconductor software packages that depend directly on package bsseq

QUICK STATSOS / ArchINSTALLBUILDCHECKBUILD BIN
kjohnson2macOS 12.6.1 Monterey / arm64
0012
0012
2127
0012
Package 1/12HostnameOS / ArchINSTALLBUILDCHECKBUILD BIN
biscuiteer 1.14.0  (landing page)
Jacob Morrison
git_last_commit: 94ce421
git_last_commit_date: 2023-04-25 11:13:36 -0400
kjohnson2macOS 12.6.1 Monterey / arm64  OK    OK    WARNINGS    OK  UNNEEDED, same version is already published
Package 2/12HostnameOS / ArchINSTALLBUILDCHECKBUILD BIN
borealis 1.4.0  (landing page)
Garrett Jenkinson
git_last_commit: 98cafa0
git_last_commit_date: 2023-04-25 11:37:41 -0400
kjohnson2macOS 12.6.1 Monterey / arm64  OK    OK    OK    OK  UNNEEDED, same version is already published
Package 3/12HostnameOS / ArchINSTALLBUILDCHECKBUILD BIN
DMRcate 2.14.1  (landing page)
Tim Peters
git_last_commit: 06b0a3c
git_last_commit_date: 2023-07-28 03:37:58 -0400
kjohnson2macOS 12.6.1 Monterey / arm64  OK    OK    TIMEOUT    OK  
Package 4/12HostnameOS / ArchINSTALLBUILDCHECKBUILD BIN
dmrseq 1.20.1  (landing page)
Keegan Korthauer
git_last_commit: ed96d9e
git_last_commit_date: 2023-08-08 15:22:46 -0400
kjohnson2macOS 12.6.1 Monterey / arm64  OK    OK    OK    OK  UNNEEDED, same version is already published
Package 5/12HostnameOS / ArchINSTALLBUILDCHECKBUILD BIN
DSS 2.48.0  (landing page)
Hao Wu , Hao Feng
git_last_commit: 03ceee2
git_last_commit_date: 2023-04-25 10:23:19 -0400
kjohnson2macOS 12.6.1 Monterey / arm64  OK    OK    WARNINGS    OK  UNNEEDED, same version is already published
Package 6/12HostnameOS / ArchINSTALLBUILDCHECKBUILD BIN
MethCP 1.14.0  (landing page)
Boying Gong
git_last_commit: 01b8f0e
git_last_commit_date: 2023-04-25 11:13:32 -0400
kjohnson2macOS 12.6.1 Monterey / arm64  OK    OK    ERROR    OK  
Package 7/12HostnameOS / ArchINSTALLBUILDCHECKBUILD BIN
methylCC 1.14.0  (landing page)
Stephanie C. Hicks
git_last_commit: 48b8a64
git_last_commit_date: 2023-04-25 11:12:54 -0400
kjohnson2macOS 12.6.1 Monterey / arm64  OK    OK    OK    OK  UNNEEDED, same version is already published
Package 8/12HostnameOS / ArchINSTALLBUILDCHECKBUILD BIN
methylSig 1.12.0  (landing page)
Raymond G. Cavalcante
git_last_commit: a0ea71f
git_last_commit_date: 2023-04-25 11:17:38 -0400
kjohnson2macOS 12.6.1 Monterey / arm64  OK    OK    OK    OK  UNNEEDED, same version is already published
Package 9/12HostnameOS / ArchINSTALLBUILDCHECKBUILD BIN
MIRA 1.22.0  (landing page)
John Lawson
git_last_commit: 405695d
git_last_commit_date: 2023-04-25 10:56:59 -0400
kjohnson2macOS 12.6.1 Monterey / arm64  OK    OK    OK    OK  UNNEEDED, same version is already published
Package 10/12HostnameOS / ArchINSTALLBUILDCHECKBUILD BIN
NanoMethViz 2.6.0  (landing page)
Shian Su
git_last_commit: 6c72058
git_last_commit_date: 2023-04-25 11:24:26 -0400
kjohnson2macOS 12.6.1 Monterey / arm64  OK    OK    OK    OK  UNNEEDED, same version is already published
Package 11/12HostnameOS / ArchINSTALLBUILDCHECKBUILD BIN
scmeth 1.20.0  (landing page)
Divy Kangeyan
git_last_commit: a2b9cf1
git_last_commit_date: 2023-04-25 10:59:30 -0400
kjohnson2macOS 12.6.1 Monterey / arm64  OK    OK    OK    OK  UNNEEDED, same version is already published
Package 12/12HostnameOS / ArchINSTALLBUILDCHECKBUILD BIN
SOMNiBUS 1.8.0  (landing page)
Audrey Lema├žon
git_last_commit: ff0c9b8
git_last_commit_date: 2023-04-25 11:26:20 -0400
kjohnson2macOS 12.6.1 Monterey / arm64  OK    OK    TIMEOUT    OK