Back to Multiple platform build/check report for BioC 3.17:   simplified   long
ABCDEFGHIJKL[M]NOPQRSTUVWXYZ

This page was generated on 2023-03-23 11:06:55 -0400 (Thu, 23 Mar 2023).

HostnameOSArch (*)R versionInstalled pkgs
nebbiolo1Linux (Ubuntu 22.04.1 LTS)x86_64R Under development (unstable) (2023-03-16 r83996) -- "Unsuffered Consequences" 4536
palomino3Windows Server 2022 Datacenterx64R Under development (unstable) (2023-03-15 r83984 ucrt) -- "Unsuffered Consequences" 4298
merida1macOS 10.14.6 Mojavex86_64R Under development (unstable) (2023-03-16 r83985) -- "Unsuffered Consequences" 4290
Click on any hostname to see more info about the system (e.g. compilers)      (*) as reported by 'uname -p', except on Windows and Mac OS X

BUILD results for methylPipe on merida1


To the developers/maintainers of the methylPipe package:
- Please allow up to 24 hours (and sometimes 48 hours) for your latest push to git@git.bioconductor.org:packages/methylPipe.git to
reflect on this report. See How and When does the builder pull? When will my changes propagate? for more information.
- Make sure to use the following settings in order to reproduce any error or warning you see on this page.

raw results

Package 1183/2189HostnameOS / ArchINSTALLBUILDCHECKBUILD BIN
methylPipe 1.33.0  (landing page)
Kamal Kishore
Snapshot Date: 2023-03-22 14:00:17 -0400 (Wed, 22 Mar 2023)
git_url: https://git.bioconductor.org/packages/methylPipe
git_branch: devel
git_last_commit: 452179b
git_last_commit_date: 2022-11-01 11:10:12 -0400 (Tue, 01 Nov 2022)
nebbiolo1Linux (Ubuntu 22.04.1 LTS) / x86_64  OK    OK    WARNINGS  UNNEEDED, same version is already published
palomino3Windows Server 2022 Datacenter / x64  OK    OK    WARNINGS    OK  UNNEEDED, same version is already published
merida1macOS 10.14.6 Mojave / x86_64  OK    OK    WARNINGS    OK  UNNEEDED, same version is already published

Summary

Package: methylPipe
Version: 1.33.0
Command: /Library/Frameworks/R.framework/Resources/bin/R CMD build --keep-empty-dirs --no-resave-data methylPipe
StartedAt: 2023-03-22 19:30:16 -0400 (Wed, 22 Mar 2023)
EndedAt: 2023-03-22 19:35:53 -0400 (Wed, 22 Mar 2023)
EllapsedTime: 337.0 seconds
RetCode: 0
Status:   OK  
PackageFile: methylPipe_1.33.0.tar.gz
PackageFileSize: 585.1 KiB

Command output

##############################################################################
##############################################################################
###
### Running command:
###
###   /Library/Frameworks/R.framework/Resources/bin/R CMD build --keep-empty-dirs --no-resave-data methylPipe
###
##############################################################################
##############################################################################


* checking for file ‘methylPipe/DESCRIPTION’ ... OK
* preparing ‘methylPipe’:
* checking DESCRIPTION meta-information ... OK
* cleaning src
* installing the package to build vignettes
* creating vignettes ... OK
* cleaning src
* checking for LF line-endings in source and make files and shell scripts
* checking for empty or unneeded directories
  NB: this package now depends on R (>= 3.5.0)
  WARNING: Added dependency on R >= 3.5.0 because serialized objects in
  serialize/load version 3 cannot be read in older versions of R.
  File(s) containing such objects:
    ‘methylPipe/inst/extdata/DMRs.Rdata’
    ‘methylPipe/inst/extdata/GR_chr20.Rdata’
    ‘methylPipe/inst/extdata/gec.H1.Rdata’
    ‘methylPipe/inst/extdata/gec.IMR90.Rdata’
    ‘methylPipe/inst/extdata/uncov_GR.Rdata’
* building ‘methylPipe_1.33.0.tar.gz’