Back to Multiple platform build/check report for BioC 3.17:   simplified   long
ABCDEFGHIJKLMNOPQR[S]TUVWXYZ

This page was generated on 2023-06-02 11:04:59 -0400 (Fri, 02 Jun 2023).

HostnameOSArch (*)R versionInstalled pkgs
nebbiolo1Linux (Ubuntu 22.04.2 LTS)x86_644.3.0 RC (2023-04-13 r84269) -- "Already Tomorrow" 4618
palomino3Windows Server 2022 Datacenterx644.3.0 RC (2023-04-13 r84269 ucrt) -- "Already Tomorrow" 4369
merida1macOS 12.6.4 Montereyx86_644.3.0 RC (2023-04-13 r84257) -- "Already Tomorrow" 4327
Click on any hostname to see more info about the system (e.g. compilers)      (*) as reported by 'uname -p', except on Windows and Mac OS X

All results for package SingleCellExperiment


To the developers/maintainers of the SingleCellExperiment package:
- Allow up to 24 hours (and sometimes 48 hours) for your latest push to git@git.bioconductor.org:packages/SingleCellExperiment.git to reflect on this report. See Troubleshooting Build Report for more information.

- Use the following Renviron settings to reproduce errors and warnings.

Note: If "R CMD check" recently failed on the Linux builder over a missing dependency, add the missing dependency to "Suggests" in your DESCRIPTION file. See the Renviron.bioc for details.

raw results

Package 1931/2229HostnameOS / ArchINSTALLBUILDCHECKBUILD BIN
SingleCellExperiment 1.22.0  (landing page)
Davide Risso
Snapshot Date: 2023-06-01 14:00:08 -0400 (Thu, 01 Jun 2023)
git_url: https://git.bioconductor.org/packages/SingleCellExperiment
git_branch: RELEASE_3_17
git_last_commit: d477e8e
git_last_commit_date: 2023-04-25 10:55:07 -0400 (Tue, 25 Apr 2023)
nebbiolo1Linux (Ubuntu 22.04.2 LTS) / x86_64  OK    OK    OK  UNNEEDED, same version is already published
palomino3Windows Server 2022 Datacenter / x64  OK    OK    OK    OK  UNNEEDED, same version is already published
merida1macOS 12.6.4 Monterey / x86_64  OK    OK    OK    OK  UNNEEDED, same version is already published

Results for Bioconductor software packages that depend directly on package SingleCellExperiment

QUICK STATSOS / ArchINSTALLBUILDCHECKBUILD BIN
nebbiolo1Linux (Ubuntu 22.04.2 LTS) / x86_64
00146
01145
0716122
palomino3Windows Server 2022 Datacenter / x64
00145
01144
0317124
00144
merida1macOS 12.6.4 Monterey / x86_64
02144
24140
2117120
00140
Package 1/146HostnameOS / ArchINSTALLBUILDCHECKBUILD BIN
ADImpute 1.10.0  (landing page)
Ana Carolina Leote
git_last_commit: 5a376f1
git_last_commit_date: 2023-04-25 11:24:24 -0400
nebbiolo1Linux (Ubuntu 22.04.2 LTS) / x86_64  OK    OK    WARNINGS  UNNEEDED, same version is already published
palomino3Windows Server 2022 Datacenter / x64  OK    OK    WARNINGS    OK  UNNEEDED, same version is already published
merida1macOS 12.6.4 Monterey / x86_64  OK    OK    WARNINGS    OK  UNNEEDED, same version is already published
Package 2/146HostnameOS / ArchINSTALLBUILDCHECKBUILD BIN
aggregateBioVar 1.10.0  (landing page)
Jason Ratcliff
git_last_commit: 1f3fcf6
git_last_commit_date: 2023-04-25 11:23:10 -0400
nebbiolo1Linux (Ubuntu 22.04.2 LTS) / x86_64  OK    OK    OK  UNNEEDED, same version is already published
palomino3Windows Server 2022 Datacenter / x64  OK    OK    OK    OK  UNNEEDED, same version is already published
merida1macOS 12.6.4 Monterey / x86_64  OK    OK    OK    OK  UNNEEDED, same version is already published
Package 3/146HostnameOS / ArchINSTALLBUILDCHECKBUILD BIN
airpart 1.8.0  (landing page)
Wancen Mu
git_last_commit: 992ee0a
git_last_commit_date: 2023-04-25 11:28:04 -0400
nebbiolo1Linux (Ubuntu 22.04.2 LTS) / x86_64  OK    OK    OK  UNNEEDED, same version is already published
palomino3Windows Server 2022 Datacenter / x64  OK    OK    OK    OK  UNNEEDED, same version is already published
merida1macOS 12.6.4 Monterey / x86_64  OK    OK    OK    OK  NO, package depends on 'scater' which is not available
Package 4/146HostnameOS / ArchINSTALLBUILDCHECKBUILD BIN
alabaster.sce 1.0.0  (landing page)
Aaron Lun
git_last_commit: 863fa06
git_last_commit_date: 2023-04-25 11:42:56 -0400
nebbiolo1Linux (Ubuntu 22.04.2 LTS) / x86_64  OK    OK    OK  UNNEEDED, same version is already published
palomino3Windows Server 2022 Datacenter / x64  OK    OK    OK    OK  UNNEEDED, same version is already published
merida1macOS 12.6.4 Monterey / x86_64  OK    OK    OK    OK  UNNEEDED, same version is already published
Package 5/146HostnameOS / ArchINSTALLBUILDCHECKBUILD BIN
ANCOMBC 2.2.0  (landing page)
Huang Lin
git_last_commit: 92b41f2
git_last_commit_date: 2023-04-25 11:22:30 -0400
nebbiolo1Linux (Ubuntu 22.04.2 LTS) / x86_64  OK    OK    OK  UNNEEDED, same version is already published
palomino3Windows Server 2022 Datacenter / x64  OK    OK    OK    OK  UNNEEDED, same version is already published
merida1macOS 12.6.4 Monterey / x86_64  OK    OK    OK    OK  NO, package depends on 'mia' which is not available
Package 6/146HostnameOS / ArchINSTALLBUILDCHECKBUILD BIN
APL 1.4.0  (landing page)
Elzbieta Gralinska
git_last_commit: b65ceed
git_last_commit_date: 2023-04-25 11:38:17 -0400
nebbiolo1Linux (Ubuntu 22.04.2 LTS) / x86_64  OK    OK    OK  UNNEEDED, same version is already published
palomino3Windows Server 2022 Datacenter / x64  OK    OK    OK    OK  UNNEEDED, same version is already published
merida1macOS 12.6.4 Monterey / x86_64  OK    OK    OK    OK  UNNEEDED, same version is already published
Package 7/146HostnameOS / ArchINSTALLBUILDCHECKBUILD BIN
ASURAT 1.4.0  (landing page)
Keita Iida
git_last_commit: 425489b
git_last_commit_date: 2023-04-25 11:36:55 -0400
nebbiolo1Linux (Ubuntu 22.04.2 LTS) / x86_64  OK    OK    OK  UNNEEDED, same version is already published
palomino3Windows Server 2022 Datacenter / x64  OK    OK    OK    OK  UNNEEDED, same version is already published
merida1macOS 12.6.4 Monterey / x86_64  OK    OK    OK    OK  UNNEEDED, same version is already published
Package 8/146HostnameOS / ArchINSTALLBUILDCHECKBUILD BIN
BASiCS 2.12.1  (landing page)
Catalina Vallejos
git_last_commit: ba27ab9
git_last_commit_date: 2023-05-01 20:02:57 -0400
nebbiolo1Linux (Ubuntu 22.04.2 LTS) / x86_64  OK    OK    OK  UNNEEDED, same version is already published
palomino3Windows Server 2022 Datacenter / x64  OK    OK    OK    OK  UNNEEDED, same version is already published
merida1macOS 12.6.4 Monterey / x86_64  OK    OK    OK    OK  UNNEEDED, same version is already published
Package 9/146HostnameOS / ArchINSTALLBUILDCHECKBUILD BIN
BASiCStan 1.2.0  (landing page)
Alan O'Callaghan
git_last_commit: e67f954
git_last_commit_date: 2023-04-25 11:39:42 -0400
nebbiolo1Linux (Ubuntu 22.04.2 LTS) / x86_64  OK    OK    OK  UNNEEDED, same version is already published
palomino3Windows Server 2022 Datacenter / x64  OK    OK    OK    OK  UNNEEDED, same version is already published
merida1macOS 12.6.4 Monterey / x86_64  OK    OK    OK    OK  UNNEEDED, same version is already published
Package 10/146HostnameOS / ArchINSTALLBUILDCHECKBUILD BIN
batchelor 1.16.0  (landing page)
Aaron Lun
git_last_commit: 8ecc91e
git_last_commit_date: 2023-04-25 11:09:01 -0400
nebbiolo1Linux (Ubuntu 22.04.2 LTS) / x86_64  OK    OK    OK  UNNEEDED, same version is already published
palomino3Windows Server 2022 Datacenter / x64  OK    OK    OK    OK  UNNEEDED, same version is already published
merida1macOS 12.6.4 Monterey / x86_64  OK    OK    OK    OK  UNNEEDED, same version is already published
Package 11/146HostnameOS / ArchINSTALLBUILDCHECKBUILD BIN
BayesSpace 1.10.1  (landing page)
Matt Stone
git_last_commit: 8af698b
git_last_commit_date: 2023-05-01 20:03:51 -0400
nebbiolo1Linux (Ubuntu 22.04.2 LTS) / x86_64  OK    OK    OK  UNNEEDED, same version is already published
palomino3Windows Server 2022 Datacenter / x64  OK    OK    OK    OK  UNNEEDED, same version is already published
merida1macOS 12.6.4 Monterey / x86_64  OK    OK    OK    OK  NO, package depends on 'scater' which is not available
Package 12/146HostnameOS / ArchINSTALLBUILDCHECKBUILD BIN
bayNorm 1.18.1  (landing page)
Wenhao Tang
git_last_commit: 4921d64
git_last_commit_date: 2023-05-01 20:09:05 -0400
nebbiolo1Linux (Ubuntu 22.04.2 LTS) / x86_64  OK    OK    OK  UNNEEDED, same version is already published
palomino3Windows Server 2022 Datacenter / x64  OK    OK    OK    OK  UNNEEDED, same version is already published
merida1macOS 12.6.4 Monterey / x86_64  OK    OK    OK    OK  UNNEEDED, same version is already published
Package 13/146HostnameOS / ArchINSTALLBUILDCHECKBUILD BIN
BEARscc 1.20.0  (landing page)
Benjamin Schuster-Boeckler
git_last_commit: 9a08e00
git_last_commit_date: 2023-04-25 10:59:12 -0400
nebbiolo1Linux (Ubuntu 22.04.2 LTS) / x86_64  OK    OK    OK  UNNEEDED, same version is already published
palomino3Windows Server 2022 Datacenter / x64  OK    OK    OK    OK  UNNEEDED, same version is already published
merida1macOS 12.6.4 Monterey / x86_64  OK    OK    OK    OK  UNNEEDED, same version is already published
Package 14/146HostnameOS / ArchINSTALLBUILDCHECKBUILD BIN
BUSseq 1.6.1  (landing page)
Fangda Song
git_last_commit: b1dc7d3
git_last_commit_date: 2023-05-01 20:03:04 -0400
nebbiolo1Linux (Ubuntu 22.04.2 LTS) / x86_64  OK    OK    OK  UNNEEDED, same version is already published
palomino3Windows Server 2022 Datacenter / x64  OK    OK    OK    OK  UNNEEDED, same version is already published
merida1macOS 12.6.4 Monterey / x86_64  OK    OK    OK    OK  UNNEEDED, same version is already published
Package 15/146HostnameOS / ArchINSTALLBUILDCHECKBUILD BIN
CATALYST 1.24.0  (landing page)
Helena L. Crowell
git_last_commit: f3e294e
git_last_commit_date: 2023-04-25 10:53:40 -0400
nebbiolo1Linux (Ubuntu 22.04.2 LTS) / x86_64  OK    OK    OK  UNNEEDED, same version is already published
palomino3Windows Server 2022 Datacenter / x64  OK    OK    OK    OK  UNNEEDED, same version is already published
merida1macOS 12.6.4 Monterey / x86_64  OK    OK    OK    OK  NO, package depends on 'scater' which is not available
Package 16/146HostnameOS / ArchINSTALLBUILDCHECKBUILD BIN
ccfindR 1.20.0  (landing page)
Jun Woo
git_last_commit: c1a021b
git_last_commit_date: 2023-04-25 11:01:32 -0400
nebbiolo1Linux (Ubuntu 22.04.2 LTS) / x86_64  OK    OK    OK  UNNEEDED, same version is already published
palomino3Windows Server 2022 Datacenter / x64  OK    OK    OK    OK  UNNEEDED, same version is already published
merida1macOS 12.6.4 Monterey / x86_64  ERROR    ERROR  skippedskipped
Package 17/146HostnameOS / ArchINSTALLBUILDCHECKBUILD BIN
celda 1.16.1  (landing page)
Joshua Campbell
git_last_commit: 8170a89
git_last_commit_date: 2023-05-01 20:09:33 -0400
nebbiolo1Linux (Ubuntu 22.04.2 LTS) / x86_64  OK    OK    OK  UNNEEDED, same version is already published
palomino3Windows Server 2022 Datacenter / x64  OK    OK    OK    OK  UNNEEDED, same version is already published
merida1macOS 12.6.4 Monterey / x86_64  OK    OK    OK    OK  NO, package depends on 'scater' which is not available
Package 18/146HostnameOS / ArchINSTALLBUILDCHECKBUILD BIN
CellBench 1.16.0  (landing page)
Shian Su
git_last_commit: 3448a85
git_last_commit_date: 2023-04-25 11:08:19 -0400
nebbiolo1Linux (Ubuntu 22.04.2 LTS) / x86_64  OK    OK    OK  UNNEEDED, same version is already published
palomino3Windows Server 2022 Datacenter / x64  OK    OK    OK    OK  UNNEEDED, same version is already published
merida1macOS 12.6.4 Monterey / x86_64  OK    OK    OK    OK  UNNEEDED, same version is already published
Package 19/146HostnameOS / ArchINSTALLBUILDCHECKBUILD BIN
CelliD 1.8.1  (landing page)
Akira Cortal
git_last_commit: f95a3b4
git_last_commit_date: 2023-05-01 20:06:30 -0400
nebbiolo1Linux (Ubuntu 22.04.2 LTS) / x86_64  OK    OK    WARNINGS  UNNEEDED, same version is already published
palomino3Windows Server 2022 Datacenter / x64  OK    OK    WARNINGS    OK  UNNEEDED, same version is already published
merida1macOS 12.6.4 Monterey / x86_64  OK    OK    WARNINGS    OK  NO, package depends on 'scater' which is not available
Package 20/146HostnameOS / ArchINSTALLBUILDCHECKBUILD BIN
CellMixS 1.16.0  (landing page)
Almut Lütge
git_last_commit: 29e9c06
git_last_commit_date: 2023-04-25 11:09:11 -0400
nebbiolo1Linux (Ubuntu 22.04.2 LTS) / x86_64  OK    OK    OK  UNNEEDED, same version is already published
palomino3Windows Server 2022 Datacenter / x64  OK    OK    OK    OK  UNNEEDED, same version is already published
merida1macOS 12.6.4 Monterey / x86_64  OK    OK    OK    OK  NO, package depends on 'scater' which is not available
Package 21/146HostnameOS / ArchINSTALLBUILDCHECKBUILD BIN
CellTrails 1.18.0  (landing page)
Daniel Ellwanger
git_last_commit: 6d9a53e
git_last_commit_date: 2023-04-25 11:02:41 -0400
nebbiolo1Linux (Ubuntu 22.04.2 LTS) / x86_64  OK    OK    OK  UNNEEDED, same version is already published
palomino3Windows Server 2022 Datacenter / x64  OK    OK    OK    OK  UNNEEDED, same version is already published
merida1macOS 12.6.4 Monterey / x86_64  OK    OK    OK    OK  UNNEEDED, same version is already published
Package 22/146HostnameOS / ArchINSTALLBUILDCHECKBUILD BIN
Cepo 1.6.0  (landing page)
Hani Jieun Kim
git_last_commit: 7588d12
git_last_commit_date: 2023-04-25 11:34:10 -0400
nebbiolo1Linux (Ubuntu 22.04.2 LTS) / x86_64  OK    OK    WARNINGS  UNNEEDED, same version is already published
palomino3Windows Server 2022 Datacenter / x64  OK    OK    WARNINGS    OK  UNNEEDED, same version is already published
merida1macOS 12.6.4 Monterey / x86_64  OK    OK    WARNINGS    OK  UNNEEDED, same version is already published
Package 23/146HostnameOS / ArchINSTALLBUILDCHECKBUILD BIN
CHETAH 1.16.0  (landing page)
Jurrian de Kanter
git_last_commit: f6fc936
git_last_commit_date: 2023-04-25 11:39:10 -0400
nebbiolo1Linux (Ubuntu 22.04.2 LTS) / x86_64  OK    OK    OK  UNNEEDED, same version is already published
palomino3Windows Server 2022 Datacenter / x64  OK    OK    OK    OK  UNNEEDED, same version is already published
merida1macOS 12.6.4 Monterey / x86_64  OK    OK    OK    OK  UNNEEDED, same version is already published
Package 24/146HostnameOS / ArchINSTALLBUILDCHECKBUILD BIN
ChromSCape 1.10.0  (landing page)
Pacome Prompsy
git_last_commit: 541e6b7
git_last_commit_date: 2023-04-25 11:23:20 -0400
nebbiolo1Linux (Ubuntu 22.04.2 LTS) / x86_64  OK    OK    WARNINGS  UNNEEDED, same version is already published
palomino3Windows Server 2022 Datacenter / x64  OK    OK    WARNINGS    OK  UNNEEDED, same version is already published
merida1macOS 12.6.4 Monterey / x86_64  OK    OK    WARNINGS    OK  NO, package depends on 'scater' which is not available
Package 25/146HostnameOS / ArchINSTALLBUILDCHECKBUILD BIN
CiteFuse 1.12.0  (landing page)
Yingxin Lin
git_last_commit: 488dd36
git_last_commit_date: 2023-04-25 11:17:18 -0400
nebbiolo1Linux (Ubuntu 22.04.2 LTS) / x86_64  OK    OK    OK  UNNEEDED, same version is already published
palomino3Windows Server 2022 Datacenter / x64  OK    OK    OK    OK  UNNEEDED, same version is already published
merida1macOS 12.6.4 Monterey / x86_64  OK    OK    OK    OK  UNNEEDED, same version is already published
Package 26/146HostnameOS / ArchINSTALLBUILDCHECKBUILD BIN
clusterExperiment 2.20.0  (landing page)
Elizabeth Purdom
git_last_commit: 1b8f9ba
git_last_commit_date: 2023-04-25 10:48:04 -0400
nebbiolo1Linux (Ubuntu 22.04.2 LTS) / x86_64  OK    OK    WARNINGS  UNNEEDED, same version is already published
palomino3Windows Server 2022 Datacenter / x64  OK    OK    WARNINGS    OK  UNNEEDED, same version is already published
merida1macOS 12.6.4 Monterey / x86_64  OK    OK    TIMEOUT    OK  
Package 27/146HostnameOS / ArchINSTALLBUILDCHECKBUILD BIN
clustifyr 1.12.0  (landing page)
Kent Riemondy
git_last_commit: 82ccda3
git_last_commit_date: 2023-04-25 11:15:27 -0400
nebbiolo1Linux (Ubuntu 22.04.2 LTS) / x86_64  OK    OK    OK  UNNEEDED, same version is already published
palomino3Windows Server 2022 Datacenter / x64  OK    OK    OK    OK  UNNEEDED, same version is already published
merida1macOS 12.6.4 Monterey / x86_64  OK    OK    OK    OK  UNNEEDED, same version is already published
Package 28/146HostnameOS / ArchINSTALLBUILDCHECKBUILD BIN
condiments 1.8.0  (landing page)
Hector Roux de Bezieux
git_last_commit: 5dc01d6
git_last_commit_date: 2023-04-25 11:28:06 -0400
nebbiolo1Linux (Ubuntu 22.04.2 LTS) / x86_64  OK    OK    OK  UNNEEDED, same version is already published
palomino3Windows Server 2022 Datacenter / x64  OK    OK    OK    OK  UNNEEDED, same version is already published
merida1macOS 12.6.4 Monterey / x86_64  OK    OK    OK    OK  NO, package depends on 'distinct' which is not available
Package 29/146HostnameOS / ArchINSTALLBUILDCHECKBUILD BIN
corral 1.10.0  (landing page)
Lauren Hsu
git_last_commit: 7bcf4ec
git_last_commit_date: 2023-04-25 11:18:58 -0400
nebbiolo1Linux (Ubuntu 22.04.2 LTS) / x86_64  OK    OK    OK  UNNEEDED, same version is already published
palomino3Windows Server 2022 Datacenter / x64  OK    OK    OK    OK  UNNEEDED, same version is already published
merida1macOS 12.6.4 Monterey / x86_64  OK    OK    OK    OK  UNNEEDED, same version is already published
Package 30/146HostnameOS / ArchINSTALLBUILDCHECKBUILD BIN
cydar 1.24.0  (landing page)
Aaron Lun
git_last_commit: b6b8ade
git_last_commit_date: 2023-04-25 10:53:10 -0400
nebbiolo1Linux (Ubuntu 22.04.2 LTS) / x86_64  OK    OK    ERROR  
palomino3Windows Server 2022 Datacenter / x64  OK    OK    OK    OK  UNNEEDED, same version is already published
merida1macOS 12.6.4 Monterey / x86_64  OK    OK    OK    OK  UNNEEDED, same version is already published
Package 31/146HostnameOS / ArchINSTALLBUILDCHECKBUILD BIN
cytofQC 1.0.0  (landing page)
Jill Lundell
git_last_commit: 860e3b7
git_last_commit_date: 2023-04-25 11:43:32 -0400
nebbiolo1Linux (Ubuntu 22.04.2 LTS) / x86_64  OK    OK    OK  UNNEEDED, same version is already published
palomino3Windows Server 2022 Datacenter / x64  OK    OK    OK    OK  UNNEEDED, same version is already published
merida1macOS 12.6.4 Monterey / x86_64  OK    OK    OK    OK  NO, package depends on 'CATALYST' which is not available
Package 32/146HostnameOS / ArchINSTALLBUILDCHECKBUILD BIN
cytomapper 1.12.0  (landing page)
Nils Eling
git_last_commit: b2edd20
git_last_commit_date: 2023-04-25 11:16:41 -0400
nebbiolo1Linux (Ubuntu 22.04.2 LTS) / x86_64  OK    OK    OK  UNNEEDED, same version is already published
palomino3Windows Server 2022 Datacenter / x64  OK    OK    OK    OK  UNNEEDED, same version is already published
merida1macOS 12.6.4 Monterey / x86_64  OK    OK    OK    OK  UNNEEDED, same version is already published
Package 33/146HostnameOS / ArchINSTALLBUILDCHECKBUILD BIN
cytoviewer 1.0.0  (landing page)
Lasse Meyer
git_last_commit: 537a7dc
git_last_commit_date: 2023-04-25 11:43:48 -0400
nebbiolo1Linux (Ubuntu 22.04.2 LTS) / x86_64  OK    OK    OK  UNNEEDED, same version is already published
palomino3Windows Server 2022 Datacenter / x64  OK    OK    OK    OK  UNNEEDED, same version is already published
merida1macOS 12.6.4 Monterey / x86_64  OK    OK    OK    OK  UNNEEDED, same version is already published
Package 34/146HostnameOS / ArchINSTALLBUILDCHECKBUILD BIN
destiny 3.14.0  (landing page)
Philipp Angerer
git_last_commit: ebccb36
git_last_commit_date: 2023-04-25 11:35:39 -0400
nebbiolo1Linux (Ubuntu 22.04.2 LTS) / x86_64  OK    OK    WARNINGS  UNNEEDED, same version is already published
palomino3Windows Server 2022 Datacenter / x64  OK    OK    WARNINGS    OK  UNNEEDED, same version is already published
merida1macOS 12.6.4 Monterey / x86_64  OK    OK    WARNINGS    OK  UNNEEDED, same version is already published
Package 35/146HostnameOS / ArchINSTALLBUILDCHECKBUILD BIN
DifferentialRegulation 1.4.2  (landing page)
Simone Tiberi
git_last_commit: d8c2fc1
git_last_commit_date: 2023-05-30 04:15:51 -0400
nebbiolo1Linux (Ubuntu 22.04.2 LTS) / x86_64  OK    OK    OK  UNNEEDED, same version is already published
palomino3Windows Server 2022 Datacenter / x64  OK    OK    OK    OK  YES
merida1macOS 12.6.4 Monterey / x86_64  OK    OK    OK    OK  YES
Package 36/146HostnameOS / ArchINSTALLBUILDCHECKBUILD BIN
Dino 1.6.0  (landing page)
Jared Brown
git_last_commit: efa6351
git_last_commit_date: 2023-04-25 11:31:12 -0400
nebbiolo1Linux (Ubuntu 22.04.2 LTS) / x86_64  OK    OK    OK  UNNEEDED, same version is already published
palomino3Windows Server 2022 Datacenter / x64  OK    OK    OK    OK  UNNEEDED, same version is already published
merida1macOS 12.6.4 Monterey / x86_64  OK    OK    OK    OK  UNNEEDED, same version is already published
Package 37/146HostnameOS / ArchINSTALLBUILDCHECKBUILD BIN
distinct 1.12.2  (landing page)
Simone Tiberi
git_last_commit: 3f26450
git_last_commit_date: 2023-05-15 05:46:56 -0400
nebbiolo1Linux (Ubuntu 22.04.2 LTS) / x86_64  OK    OK    OK  UNNEEDED, same version is already published
palomino3Windows Server 2022 Datacenter / x64  OK    OK    OK    OK  UNNEEDED, same version is already published
merida1macOS 12.6.4 Monterey / x86_64  OK    OK    OK    OK  NO, package depends on 'scater' which is not available
Package 38/146HostnameOS / ArchINSTALLBUILDCHECKBUILD BIN
dittoSeq 1.12.0  (landing page)
Daniel Bunis
git_last_commit: 77ab21d
git_last_commit_date: 2023-04-25 11:15:52 -0400
nebbiolo1Linux (Ubuntu 22.04.2 LTS) / x86_64  OK    OK    OK  UNNEEDED, same version is already published
palomino3Windows Server 2022 Datacenter / x64  OK    OK    OK    OK  UNNEEDED, same version is already published
merida1macOS 12.6.4 Monterey / x86_64  OK    OK    OK    OK  UNNEEDED, same version is already published
Package 39/146HostnameOS / ArchINSTALLBUILDCHECKBUILD BIN
DropletUtils 1.20.0  (landing page)
Jonathan Griffiths
git_last_commit: 855762f
git_last_commit_date: 2023-04-25 10:58:49 -0400
nebbiolo1Linux (Ubuntu 22.04.2 LTS) / x86_64  OK    OK    WARNINGS  UNNEEDED, same version is already published
palomino3Windows Server 2022 Datacenter / x64  OK    OK    OK    OK  UNNEEDED, same version is already published
merida1macOS 12.6.4 Monterey / x86_64  OK    OK    WARNINGS    OK  UNNEEDED, same version is already published
Package 40/146HostnameOS / ArchINSTALLBUILDCHECKBUILD BIN
escape 1.10.0  (landing page)
Nick Borcherding
git_last_commit: 961805d
git_last_commit_date: 2023-04-25 11:20:44 -0400
nebbiolo1Linux (Ubuntu 22.04.2 LTS) / x86_64  OK    OK    OK  UNNEEDED, same version is already published
palomino3Windows Server 2022 Datacenter / x64  OK    OK    OK    OK  UNNEEDED, same version is already published
merida1macOS 12.6.4 Monterey / x86_64  OK    OK    OK    OK  UNNEEDED, same version is already published
Package 41/146HostnameOS / ArchINSTALLBUILDCHECKBUILD BIN
EWCE 1.8.2  (landing page)
Alan Murphy
git_last_commit: 9caffb0
git_last_commit_date: 2023-05-22 12:38:19 -0400
nebbiolo1Linux (Ubuntu 22.04.2 LTS) / x86_64  OK    OK    OK  UNNEEDED, same version is already published
palomino3Windows Server 2022 Datacenter / x64  OK    OK    OK    OK  UNNEEDED, same version is already published
merida1macOS 12.6.4 Monterey / x86_64  OK    OK    OK    OK  UNNEEDED, same version is already published
Package 42/146HostnameOS / ArchINSTALLBUILDCHECKBUILD BIN
ExperimentSubset 1.10.0  (landing page)
Irzam Sarfraz
git_last_commit: 851db21
git_last_commit_date: 2023-04-25 11:23:50 -0400
nebbiolo1Linux (Ubuntu 22.04.2 LTS) / x86_64  OK    OK    OK  UNNEEDED, same version is already published
palomino3Windows Server 2022 Datacenter / x64  OK    OK    OK    OK  UNNEEDED, same version is already published
merida1macOS 12.6.4 Monterey / x86_64  OK    OK    OK    OK  UNNEEDED, same version is already published
Package 43/146HostnameOS / ArchINSTALLBUILDCHECKBUILD BIN
fcoex 1.14.0  (landing page)
Tiago Lubiana
git_last_commit: a27a8dc
git_last_commit_date: 2023-04-25 11:14:01 -0400
nebbiolo1Linux (Ubuntu 22.04.2 LTS) / x86_64  OK    ERROR  skipped
palomino3Windows Server 2022 Datacenter / x64  OK    ERROR  skippedskipped
merida1macOS 12.6.4 Monterey / x86_64  OK    ERROR  skippedskipped
Package 44/146HostnameOS / ArchINSTALLBUILDCHECKBUILD BIN
FEAST 1.8.0  (landing page)
Kenong Su
git_last_commit: e1d6874
git_last_commit_date: 2023-04-25 11:29:02 -0400
nebbiolo1Linux (Ubuntu 22.04.2 LTS) / x86_64  OK    OK    OK  UNNEEDED, same version is already published
palomino3Windows Server 2022 Datacenter / x64  OK    OK    OK    OK  UNNEEDED, same version is already published
merida1macOS 12.6.4 Monterey / x86_64  OK    OK    OK    OK  UNNEEDED, same version is already published
Package 45/146HostnameOS / ArchINSTALLBUILDCHECKBUILD BIN
fishpond 2.6.0  (landing page)
Michael Love
git_last_commit: 804939b
git_last_commit_date: 2023-04-25 11:08:06 -0400
nebbiolo1Linux (Ubuntu 22.04.2 LTS) / x86_64  OK    OK    OK  UNNEEDED, same version is already published
palomino3Windows Server 2022 Datacenter / x64  OK    OK    OK    OK  UNNEEDED, same version is already published
merida1macOS 12.6.4 Monterey / x86_64  OK    OK    OK    OK  UNNEEDED, same version is already published
Package 46/146HostnameOS / ArchINSTALLBUILDCHECKBUILD BIN
FLAMES 1.6.0  (landing page)
Oliver Voogd
git_last_commit: 31277b6
git_last_commit_date: 2023-04-25 11:31:20 -0400
nebbiolo1Linux (Ubuntu 22.04.2 LTS) / x86_64  OK    OK    WARNINGS  UNNEEDED, same version is already published
palomino3Windows Server 2022 Datacenter / x64  OK    OK    OK    OK  UNNEEDED, same version is already published
merida1macOS 12.6.4 Monterey / x86_64  OK    OK    WARNINGS    OK  NO, package depends on 'basilisk' which is not available
Package 47/146HostnameOS / ArchINSTALLBUILDCHECKBUILD BIN
ggspavis 1.6.0  (landing page)
Lukas M. Weber
git_last_commit: edd71fb
git_last_commit_date: 2023-04-25 11:32:06 -0400
nebbiolo1Linux (Ubuntu 22.04.2 LTS) / x86_64  OK    OK    OK  UNNEEDED, same version is already published
palomino3Windows Server 2022 Datacenter / x64  OK    OK    OK    OK  UNNEEDED, same version is already published
merida1macOS 12.6.4 Monterey / x86_64  OK    OK    OK    OK  UNNEEDED, same version is already published
Package 48/146HostnameOS / ArchINSTALLBUILDCHECKBUILD BIN
glmGamPoi 1.12.1  (landing page)
Constantin Ahlmann-Eltze
git_last_commit: 54a6667
git_last_commit_date: 2023-05-01 20:10:29 -0400
nebbiolo1Linux (Ubuntu 22.04.2 LTS) / x86_64  OK    OK    OK  UNNEEDED, same version is already published
palomino3Windows Server 2022 Datacenter / x64  OK    OK    ERROR    OK  
merida1macOS 12.6.4 Monterey / x86_64  OK    OK    OK    OK  UNNEEDED, same version is already published
Package 49/146HostnameOS / ArchINSTALLBUILDCHECKBUILD BIN
GSVA 1.48.1  (landing page)
Robert Castelo
git_last_commit: 9957f63
git_last_commit_date: 2023-06-01 05:38:07 -0400
nebbiolo1Linux (Ubuntu 22.04.2 LTS) / x86_64  OK    OK    OK  YES
palomino3Windows Server 2022 Datacenter / x64  OK    OK    OK    OK  YES
merida1macOS 12.6.4 Monterey / x86_64  OK    OK    OK    OK  YES
Package 50/146HostnameOS / ArchINSTALLBUILDCHECKBUILD BIN
HIPPO 1.12.0  (landing page)
Tae Kim
git_last_commit: 9976bac
git_last_commit_date: 2023-04-25 11:16:38 -0400
nebbiolo1Linux (Ubuntu 22.04.2 LTS) / x86_64  OK    OK    OK  UNNEEDED, same version is already published
palomino3Windows Server 2022 Datacenter / x64  OK    OK    OK    OK  UNNEEDED, same version is already published
merida1macOS 12.6.4 Monterey / x86_64  OK    OK    OK    OK  UNNEEDED, same version is already published
Package 51/146HostnameOS / ArchINSTALLBUILDCHECKBUILD BIN
ILoReg 1.10.0  (landing page)
Johannes Smolander
git_last_commit: 3eb4df3
git_last_commit_date: 2023-04-25 11:20:49 -0400
nebbiolo1Linux (Ubuntu 22.04.2 LTS) / x86_64  OK    OK    ERROR  
palomino3Windows Server 2022 Datacenter / x64  OK    OK    WARNINGS    OK  UNNEEDED, same version is already published
merida1macOS 12.6.4 Monterey / x86_64  OK    OK    WARNINGS    OK  UNNEEDED, same version is already published
Package 52/146HostnameOS / ArchINSTALLBUILDCHECKBUILD BIN
imcRtools 1.6.1  (landing page)
Nils Eling
git_last_commit: c15cdcf
git_last_commit_date: 2023-05-24 03:16:26 -0400
nebbiolo1Linux (Ubuntu 22.04.2 LTS) / x86_64  OK    OK    OK  UNNEEDED, same version is already published
palomino3Windows Server 2022 Datacenter / x64  OK    OK    OK    OK  UNNEEDED, same version is already published
merida1macOS 12.6.4 Monterey / x86_64  OK    OK    OK    OK  UNNEEDED, same version is already published
Package 53/146HostnameOS / ArchINSTALLBUILDCHECKBUILD BIN
infercnv 1.16.0  (landing page)
Christophe Georgescu
git_last_commit: 2d89064
git_last_commit_date: 2023-04-25 11:10:15 -0400
nebbiolo1Linux (Ubuntu 22.04.2 LTS) / x86_64  OK    OK    OK  UNNEEDED, same version is already published
palomino3Windows Server 2022 Datacenter / x64  OK    OK    OK    OK  UNNEEDED, same version is already published
merida1macOS 12.6.4 Monterey / x86_64  OK    OK    OK    OK  UNNEEDED, same version is already published
Package 54/146HostnameOS / ArchINSTALLBUILDCHECKBUILD BIN
IRISFGM 1.8.0  (landing page)
Yuzhou Chang
git_last_commit: 337ae88
git_last_commit_date: 2023-04-25 11:26:52 -0400
nebbiolo1Linux (Ubuntu 22.04.2 LTS) / x86_64  OK    OK    ERROR  
palomino3Windows Server 2022 Datacenter / x64  OK    OK    WARNINGS    OK  UNNEEDED, same version is already published
merida1macOS 12.6.4 Monterey / x86_64  OK    OK    WARNINGS    OK  NO, package depends on 'scater' which is not available
Package 55/146HostnameOS / ArchINSTALLBUILDCHECKBUILD BIN
iSEE 2.12.0  (landing page)
Kevin Rue-Albrecht
git_last_commit: 318da4d
git_last_commit_date: 2023-04-25 11:00:01 -0400
nebbiolo1Linux (Ubuntu 22.04.2 LTS) / x86_64  OK    OK    OK  UNNEEDED, same version is already published
palomino3Windows Server 2022 Datacenter / x64  OK    OK    OK    OK  UNNEEDED, same version is already published
merida1macOS 12.6.4 Monterey / x86_64  OK    OK    OK    OK  UNNEEDED, same version is already published
Package 56/146HostnameOS / ArchINSTALLBUILDCHECKBUILD BIN
iSEEhub 1.2.0  (landing page)
Kevin Rue-Albrecht
git_last_commit: 975d4f1
git_last_commit_date: 2023-04-25 11:40:08 -0400
nebbiolo1Linux (Ubuntu 22.04.2 LTS) / x86_64  OK    OK    ERROR  
palomino3Windows Server 2022 Datacenter / x64  OK    OK    ERROR    OK  
merida1macOS 12.6.4 Monterey / x86_64  OK    OK    ERROR    OK  
Package 57/146HostnameOS / ArchINSTALLBUILDCHECKBUILD BIN
iSEEu 1.12.0  (landing page)
Kevin Rue-Albrecht
git_last_commit: 6521d6c
git_last_commit_date: 2023-04-25 11:17:15 -0400
nebbiolo1Linux (Ubuntu 22.04.2 LTS) / x86_64  OK    OK    WARNINGS  UNNEEDED, same version is already published
palomino3Windows Server 2022 Datacenter / x64  OK    OK    WARNINGS    OK  UNNEEDED, same version is already published
merida1macOS 12.6.4 Monterey / x86_64  OK    OK    WARNINGS    OK  UNNEEDED, same version is already published
Package 58/146HostnameOS / ArchINSTALLBUILDCHECKBUILD BIN
LineagePulse 1.20.0  (landing page)
David S Fischer
git_last_commit: d7ae0db
git_last_commit_date: 2023-04-25 10:58:25 -0400
nebbiolo1Linux (Ubuntu 22.04.2 LTS) / x86_64  OK    OK    WARNINGS  UNNEEDED, same version is already published
palomino3Windows Server 2022 Datacenter / x64  OK    OK    WARNINGS    OK  UNNEEDED, same version is already published
merida1macOS 12.6.4 Monterey / x86_64  OK    OK    WARNINGS    OK  UNNEEDED, same version is already published
Package 59/146HostnameOS / ArchINSTALLBUILDCHECKBUILD BIN
lisaClust 1.8.0  (landing page)
Ellis Patrick
git_last_commit: 801566f
git_last_commit_date: 2023-04-25 11:27:29 -0400
nebbiolo1Linux (Ubuntu 22.04.2 LTS) / x86_64  OK    OK    OK  UNNEEDED, same version is already published
palomino3Windows Server 2022 Datacenter / x64  OK    OK    OK    OK  UNNEEDED, same version is already published
merida1macOS 12.6.4 Monterey / x86_64  OK    OK    OK    OK  UNNEEDED, same version is already published
Package 60/146HostnameOS / ArchINSTALLBUILDCHECKBUILD BIN
LoomExperiment 1.18.0  (landing page)
Bioconductor Package Maintainer
git_last_commit: 4035664
git_last_commit_date: 2023-04-25 11:06:18 -0400
nebbiolo1Linux (Ubuntu 22.04.2 LTS) / x86_64  OK    OK    OK  UNNEEDED, same version is already published
palomino3Windows Server 2022 Datacenter / x64  OK    OK    OK    OK  UNNEEDED, same version is already published
merida1macOS 12.6.4 Monterey / x86_64  OK    OK    OK    OK  UNNEEDED, same version is already published
Package 61/146HostnameOS / ArchINSTALLBUILDCHECKBUILD BIN
MAST 1.26.0  (landing page)
Andrew McDavid
git_last_commit: d83b8fb
git_last_commit_date: 2023-04-25 10:50:14 -0400
nebbiolo1Linux (Ubuntu 22.04.2 LTS) / x86_64  OK    OK    OK  UNNEEDED, same version is already published
palomino3Windows Server 2022 Datacenter / x64  OK    OK    OK    OK  UNNEEDED, same version is already published
merida1macOS 12.6.4 Monterey / x86_64  OK    OK    OK    OK  UNNEEDED, same version is already published
Package 62/146HostnameOS / ArchINSTALLBUILDCHECKBUILD BIN
mastR 1.0.0  (landing page)
Jinjin Chen
git_last_commit: 78310f8
git_last_commit_date: 2023-04-25 11:44:26 -0400
nebbiolo1Linux (Ubuntu 22.04.2 LTS) / x86_64  OK    OK    OK  UNNEEDED, same version is already published
palomino3Windows Server 2022 Datacenter / x64  OK    OK    OK    OK  UNNEEDED, same version is already published
merida1macOS 12.6.4 Monterey / x86_64  OK    OK    OK    OK  UNNEEDED, same version is already published
Package 63/146HostnameOS / ArchINSTALLBUILDCHECKBUILD BIN
mbkmeans 1.16.0  (landing page)
Davide Risso
git_last_commit: 1f8f519
git_last_commit_date: 2023-04-25 11:09:13 -0400
nebbiolo1Linux (Ubuntu 22.04.2 LTS) / x86_64  OK    OK    OK  UNNEEDED, same version is already published
palomino3Windows Server 2022 Datacenter / x64  OK    OK    OK    OK  UNNEEDED, same version is already published
merida1macOS 12.6.4 Monterey / x86_64  OK    OK    OK    OK  UNNEEDED, same version is already published
Package 64/146HostnameOS / ArchINSTALLBUILDCHECKBUILD BIN
MEB 1.14.0  (landing page)
Jiadi Zhu
git_last_commit: 48db596
git_last_commit_date: 2023-04-25 11:12:41 -0400
nebbiolo1Linux (Ubuntu 22.04.2 LTS) / x86_64  OK    OK    OK  UNNEEDED, same version is already published
palomino3Windows Server 2022 Datacenter / x64  OK    OK    OK    OK  UNNEEDED, same version is already published
merida1macOS 12.6.4 Monterey / x86_64  OK    OK    OK    OK  NO, package depends on 'scater' which is not available
Package 65/146HostnameOS / ArchINSTALLBUILDCHECKBUILD BIN
MetaNeighbor 1.20.0  (landing page)
Stephan Fischer
git_last_commit: 8221a6f
git_last_commit_date: 2023-04-25 10:58:33 -0400
nebbiolo1Linux (Ubuntu 22.04.2 LTS) / x86_64  OK    OK    OK  UNNEEDED, same version is already published
palomino3Windows Server 2022 Datacenter / x64  OK    OK    OK    OK  UNNEEDED, same version is already published
merida1macOS 12.6.4 Monterey / x86_64  OK    OK    OK    OK  UNNEEDED, same version is already published
Package 66/146HostnameOS / ArchINSTALLBUILDCHECKBUILD BIN
mia 1.8.0  (landing page)
Tuomas Borman
git_last_commit: e5f4407
git_last_commit_date: 2023-04-25 11:27:49 -0400
nebbiolo1Linux (Ubuntu 22.04.2 LTS) / x86_64  OK    OK    OK  UNNEEDED, same version is already published
palomino3Windows Server 2022 Datacenter / x64  OK    OK    OK    OK  UNNEEDED, same version is already published
merida1macOS 12.6.4 Monterey / x86_64  OK    OK    TIMEOUT    OK  
Package 67/146HostnameOS / ArchINSTALLBUILDCHECKBUILD BIN
miloR 1.8.1  (landing page)
Mike Morgan
git_last_commit: 493ab6a
git_last_commit_date: 2023-04-25 12:48:32 -0400
nebbiolo1Linux (Ubuntu 22.04.2 LTS) / x86_64  OK    OK    ERROR  
palomino3Windows Server 2022 Datacenter / x64  OK    OK    OK    OK  UNNEEDED, same version is already published
merida1macOS 12.6.4 Monterey / x86_64  OK    OK    OK    OK  UNNEEDED, same version is already published
Package 68/146HostnameOS / ArchINSTALLBUILDCHECKBUILD BIN
miQC 1.8.0  (landing page)
Ariel Hippen
git_last_commit: 7797040
git_last_commit_date: 2023-04-25 11:27:19 -0400
nebbiolo1Linux (Ubuntu 22.04.2 LTS) / x86_64  OK    OK    OK  UNNEEDED, same version is already published
palomino3Windows Server 2022 Datacenter / x64  OK    OK    OK    OK  UNNEEDED, same version is already published
merida1macOS 12.6.4 Monterey / x86_64  OK    OK    OK    OK  UNNEEDED, same version is already published
Package 69/146HostnameOS / ArchINSTALLBUILDCHECKBUILD BIN
MuData 1.4.0  (landing page)
Danila Bredikhin
git_last_commit: f0a9471
git_last_commit_date: 2023-04-25 11:36:12 -0400
nebbiolo1Linux (Ubuntu 22.04.2 LTS) / x86_64  OK    OK    OK  UNNEEDED, same version is already published
palomino3Windows Server 2022 Datacenter / x64  OK    OK    OK    OK  UNNEEDED, same version is already published
merida1macOS 12.6.4 Monterey / x86_64  OK    OK    OK    OK  UNNEEDED, same version is already published
Package 70/146HostnameOS / ArchINSTALLBUILDCHECKBUILD BIN
mumosa 1.8.0  (landing page)
Aaron Lun
git_last_commit: 982cf0e
git_last_commit_date: 2023-04-25 11:25:39 -0400
nebbiolo1Linux (Ubuntu 22.04.2 LTS) / x86_64  OK    OK    OK  UNNEEDED, same version is already published
palomino3Windows Server 2022 Datacenter / x64  OK    OK    OK    OK  UNNEEDED, same version is already published
merida1macOS 12.6.4 Monterey / x86_64  OK    OK    OK    OK  UNNEEDED, same version is already published
Package 71/146HostnameOS / ArchINSTALLBUILDCHECKBUILD BIN
muscat 1.14.0  (landing page)
Helena L. Crowell
git_last_commit: 2f8d169
git_last_commit_date: 2023-04-25 11:12:01 -0400
nebbiolo1Linux (Ubuntu 22.04.2 LTS) / x86_64  OK    OK    OK  UNNEEDED, same version is already published
palomino3Windows Server 2022 Datacenter / x64  OK    OK    OK    OK  UNNEEDED, same version is already published
merida1macOS 12.6.4 Monterey / x86_64  OK    OK    OK    OK  NO, package depends on 'scater' which is not available
Package 72/146HostnameOS / ArchINSTALLBUILDCHECKBUILD BIN
Nebulosa 1.10.0  (landing page)
Jose Alquicira-Hernandez
git_last_commit: c69798c
git_last_commit_date: 2023-04-25 11:21:46 -0400
nebbiolo1Linux (Ubuntu 22.04.2 LTS) / x86_64  OK    OK    OK  UNNEEDED, same version is already published
palomino3Windows Server 2022 Datacenter / x64  OK    OK    OK    OK  UNNEEDED, same version is already published
merida1macOS 12.6.4 Monterey / x86_64  OK    OK    OK    OK  UNNEEDED, same version is already published
Package 73/146HostnameOS / ArchINSTALLBUILDCHECKBUILD BIN
netSmooth 1.20.0  (landing page)
Jonathan Ronen
git_last_commit: d0347b0
git_last_commit_date: 2023-04-25 11:01:55 -0400
nebbiolo1Linux (Ubuntu 22.04.2 LTS) / x86_64  OK    OK    OK  UNNEEDED, same version is already published
palomino3Windows Server 2022 Datacenter / x64  OK    OK    OK    OK  UNNEEDED, same version is already published
merida1macOS 12.6.4 Monterey / x86_64  OK    OK    OK    OK  NO, package depends on 'scater' which is not available
Package 74/146HostnameOS / ArchINSTALLBUILDCHECKBUILD BIN
NeuCA 1.6.0  (landing page)
Hao Feng
git_last_commit: 2c090f2
git_last_commit_date: 2023-04-25 11:31:18 -0400
nebbiolo1Linux (Ubuntu 22.04.2 LTS) / x86_64  OK    OK    ERROR  
palomino3Windows Server 2022 Datacenter / x64  OK    OK    OK    OK  UNNEEDED, same version is already published
merida1macOS 12.6.4 Monterey / x86_64  OK    OK    OK    OK  UNNEEDED, same version is already published
Package 75/146HostnameOS / ArchINSTALLBUILDCHECKBUILD BIN
NewWave 1.10.0  (landing page)
Federico Agostinis
git_last_commit: 7309a4f
git_last_commit_date: 2023-04-25 11:24:55 -0400
nebbiolo1Linux (Ubuntu 22.04.2 LTS) / x86_64  OK    OK    OK  NO, package depends on 'SharedObject' which is not available
palomino3Windows Server 2022 Datacenter / x64  OK    OK    OK    OK  UNNEEDED, same version is already published
merida1macOS 12.6.4 Monterey / x86_64  OK    OK    OK    OK  UNNEEDED, same version is already published
Package 76/146HostnameOS / ArchINSTALLBUILDCHECKBUILD BIN
nnSVG 1.4.1  (landing page)
Lukas M. Weber
git_last_commit: 7f895f3
git_last_commit_date: 2023-05-04 23:06:59 -0400
nebbiolo1Linux (Ubuntu 22.04.2 LTS) / x86_64  OK    OK    OK  UNNEEDED, same version is already published
palomino3Windows Server 2022 Datacenter / x64  OK    OK    OK    OK  UNNEEDED, same version is already published
merida1macOS 12.6.4 Monterey / x86_64  OK    OK    OK    OK  UNNEEDED, same version is already published
Package 77/146HostnameOS / ArchINSTALLBUILDCHECKBUILD BIN
peco 1.12.0  (landing page)
Chiaowen Joyce Hsiao
git_last_commit: f39ad77
git_last_commit_date: 2023-04-25 11:16:46 -0400
nebbiolo1Linux (Ubuntu 22.04.2 LTS) / x86_64  OK    OK    OK  UNNEEDED, same version is already published
palomino3Windows Server 2022 Datacenter / x64  OK    OK    OK    OK  UNNEEDED, same version is already published
merida1macOS 12.6.4 Monterey / x86_64  OK    OK    OK    OK  NO, package depends on 'scater' which is not available
Package 78/146HostnameOS / ArchINSTALLBUILDCHECKBUILD BIN
phemd 1.16.0  (landing page)
William S Chen
git_last_commit: bba1a5e
git_last_commit_date: 2023-04-25 11:40:05 -0400
nebbiolo1Linux (Ubuntu 22.04.2 LTS) / x86_64  OK    OK    ERROR  
palomino3Windows Server 2022 Datacenter / x64  OK    OK    WARNINGS    OK  UNNEEDED, same version is already published
merida1macOS 12.6.4 Monterey / x86_64  OK    OK    WARNINGS    OK  UNNEEDED, same version is already published
Package 79/146HostnameOS / ArchINSTALLBUILDCHECKBUILD BIN
pipeComp 1.10.0  (landing page)
Pierre-Luc Germain
git_last_commit: 99e9a4c
git_last_commit_date: 2023-04-25 11:20:15 -0400
nebbiolo1Linux (Ubuntu 22.04.2 LTS) / x86_64  OK    OK    OK  UNNEEDED, same version is already published
palomino3Windows Server 2022 Datacenter / x64  OK    OK    OK    OK  UNNEEDED, same version is already published
merida1macOS 12.6.4 Monterey / x86_64  OK    OK    OK    OK  NO, package depends on 'scater' which is not available
Package 80/146HostnameOS / ArchINSTALLBUILDCHECKBUILD BIN
POWSC 1.8.0  (landing page)
Kenong Su
git_last_commit: 6563d50
git_last_commit_date: 2023-04-25 11:29:37 -0400
nebbiolo1Linux (Ubuntu 22.04.2 LTS) / x86_64  OK    OK    OK  UNNEEDED, same version is already published
palomino3Windows Server 2022 Datacenter / x64  OK    OK    OK    OK  UNNEEDED, same version is already published
merida1macOS 12.6.4 Monterey / x86_64  OK    OK    OK    OK  UNNEEDED, same version is already published
Package 81/146HostnameOS / ArchINSTALLBUILDCHECKBUILD BIN
SC3 1.28.3  (landing page)
Vladimir Kiselev
git_last_commit: 1e65086
git_last_commit_date: 2023-05-25 09:09:28 -0400
nebbiolo1Linux (Ubuntu 22.04.2 LTS) / x86_64  OK    OK    OK  UNNEEDED, same version is already published
palomino3Windows Server 2022 Datacenter / x64  OK    OK    OK    OK  UNNEEDED, same version is already published
merida1macOS 12.6.4 Monterey / x86_64  OK    OK    OK    OK  UNNEEDED, same version is already published
Package 82/146HostnameOS / ArchINSTALLBUILDCHECKBUILD BIN
scAnnotatR 1.6.0  (landing page)
Johannes Griss
git_last_commit: b567a90
git_last_commit_date: 2023-04-25 11:32:25 -0400
nebbiolo1Linux (Ubuntu 22.04.2 LTS) / x86_64  OK    OK    WARNINGS  UNNEEDED, same version is already published
palomino3Windows Server 2022 Datacenter / x64  OK    OK    WARNINGS    OK  UNNEEDED, same version is already published
merida1macOS 12.6.4 Monterey / x86_64  OK    OK    WARNINGS    OK  UNNEEDED, same version is already published
Package 83/146HostnameOS / ArchINSTALLBUILDCHECKBUILD BIN
SCArray 1.8.0  (landing page)
Xiuwen Zheng
git_last_commit: 1dcc25b
git_last_commit_date: 2023-04-25 11:25:57 -0400
nebbiolo1Linux (Ubuntu 22.04.2 LTS) / x86_64  OK    OK    OK  UNNEEDED, same version is already published
palomino3Windows Server 2022 Datacenter / x64  OK    OK    OK    OK  UNNEEDED, same version is already published
merida1macOS 12.6.4 Monterey / x86_64  OK    OK    OK    OK  UNNEEDED, same version is already published
Package 84/146HostnameOS / ArchINSTALLBUILDCHECKBUILD BIN
scater 1.28.0  (landing page)
Alan O'Callaghan
git_last_commit: e654498
git_last_commit_date: 2023-04-25 10:44:21 -0400
nebbiolo1Linux (Ubuntu 22.04.2 LTS) / x86_64  OK    OK    OK  UNNEEDED, same version is already published
palomino3Windows Server 2022 Datacenter / x64  OK    OK    OK    OK  UNNEEDED, same version is already published
merida1macOS 12.6.4 Monterey / x86_64  OK    OK    OK    OK  NO, package depends on 'densvis' which is not available
Package 85/146HostnameOS / ArchINSTALLBUILDCHECKBUILD BIN
scBFA 1.14.0  (landing page)
Ruoxin Li
git_last_commit: c3759a5
git_last_commit_date: 2023-04-25 11:11:32 -0400
nebbiolo1Linux (Ubuntu 22.04.2 LTS) / x86_64  OK    OK    OK  UNNEEDED, same version is already published
palomino3Windows Server 2022 Datacenter / x64  OK    OK    OK    OK  UNNEEDED, same version is already published
merida1macOS 12.6.4 Monterey / x86_64  OK    OK    OK    OK  UNNEEDED, same version is already published
Package 86/146HostnameOS / ArchINSTALLBUILDCHECKBUILD BIN
scCB2 1.10.0  (landing page)
Zijian Ni
git_last_commit: ff0241d
git_last_commit_date: 2023-04-25 11:20:27 -0400
nebbiolo1Linux (Ubuntu 22.04.2 LTS) / x86_64  OK    OK    OK  UNNEEDED, same version is already published
palomino3Windows Server 2022 Datacenter / x64  OK    OK    OK    OK  UNNEEDED, same version is already published
merida1macOS 12.6.4 Monterey / x86_64  OK    OK    OK    OK  UNNEEDED, same version is already published
Package 87/146HostnameOS / ArchINSTALLBUILDCHECKBUILD BIN
sccomp 1.4.0  (landing page)
Stefano Mangiola
git_last_commit: 22dfde7
git_last_commit_date: 2023-04-25 11:34:51 -0400
nebbiolo1Linux (Ubuntu 22.04.2 LTS) / x86_64  OK    OK    OK  UNNEEDED, same version is already published
palomino3Windows Server 2022 Datacenter / x64  OK    OK    OK    OK  UNNEEDED, same version is already published
merida1macOS 12.6.4 Monterey / x86_64  OK    TIMEOUT  skippedskipped
Package 88/146HostnameOS / ArchINSTALLBUILDCHECKBUILD BIN
scDataviz 1.10.0  (landing page)
Kevin Blighe
git_last_commit: 146b7e9
git_last_commit_date: 2023-04-25 11:20:39 -0400
nebbiolo1Linux (Ubuntu 22.04.2 LTS) / x86_64  OK    OK    OK  UNNEEDED, same version is already published
palomino3Windows Server 2022 Datacenter / x64  OK    OK    OK    OK  UNNEEDED, same version is already published
merida1macOS 12.6.4 Monterey / x86_64  OK    OK    OK    OK  UNNEEDED, same version is already published
Package 89/146HostnameOS / ArchINSTALLBUILDCHECKBUILD BIN
scDblFinder 1.14.0  (landing page)
Pierre-Luc Germain
git_last_commit: 6191ed0
git_last_commit_date: 2023-04-25 11:13:44 -0400
nebbiolo1Linux (Ubuntu 22.04.2 LTS) / x86_64  OK    OK    OK  UNNEEDED, same version is already published
palomino3Windows Server 2022 Datacenter / x64  OK    OK    OK    OK  UNNEEDED, same version is already published
merida1macOS 12.6.4 Monterey / x86_64  OK    OK    OK    OK  NO, package depends on 'scater' which is not available
Package 90/146HostnameOS / ArchINSTALLBUILDCHECKBUILD BIN
scDD 1.24.0  (landing page)
Keegan Korthauer
git_last_commit: c9eb10c
git_last_commit_date: 2023-04-25 10:51:37 -0400
nebbiolo1Linux (Ubuntu 22.04.2 LTS) / x86_64  OK    OK    OK  UNNEEDED, same version is already published
palomino3Windows Server 2022 Datacenter / x64  OK    OK    OK    OK  UNNEEDED, same version is already published
merida1macOS 12.6.4 Monterey / x86_64  OK    OK    OK    OK  UNNEEDED, same version is already published
Package 91/146HostnameOS / ArchINSTALLBUILDCHECKBUILD BIN
scDDboost 1.2.0  (landing page)
Xiuyu Ma
git_last_commit: 55e20c3
git_last_commit_date: 2023-04-25 11:38:32 -0400
nebbiolo1Linux (Ubuntu 22.04.2 LTS) / x86_64  OK    OK    OK  UNNEEDED, same version is already published
palomino3Windows Server 2022 Datacenter / x64  OK    OK    OK    OK  UNNEEDED, same version is already published
merida1macOS 12.6.4 Monterey / x86_64  OK    OK    OK    OK  UNNEEDED, same version is already published
Package 92/146HostnameOS / ArchINSTALLBUILDCHECKBUILD BIN
scds 1.16.0  (landing page)
Dennis Kostka
git_last_commit: f694219
git_last_commit_date: 2023-04-25 11:08:14 -0400
nebbiolo1Linux (Ubuntu 22.04.2 LTS) / x86_64  OK    OK    OK  UNNEEDED, same version is already published
palomino3Windows Server 2022 Datacenter / x64  OK    OK    OK    OK  UNNEEDED, same version is already published
merida1macOS 12.6.4 Monterey / x86_64  OK    OK    OK    OK  UNNEEDED, same version is already published
Package 93/146HostnameOS / ArchINSTALLBUILDCHECKBUILD BIN
scGPS 1.14.1  (landing page)
Quan Nguyen
git_last_commit: 5019302
git_last_commit_date: 2023-05-01 20:11:27 -0400
nebbiolo1Linux (Ubuntu 22.04.2 LTS) / x86_64  OK    OK    OK  UNNEEDED, same version is already published
palomino3Windows Server 2022 Datacenter / x64  OK    OK    OK    OK  UNNEEDED, same version is already published
merida1macOS 12.6.4 Monterey / x86_64  OK    OK    OK    OK  UNNEEDED, same version is already published
Package 94/146HostnameOS / ArchINSTALLBUILDCHECKBUILD BIN
schex 1.14.0  (landing page)
Saskia Freytag
git_last_commit: 49c464a
git_last_commit_date: 2023-04-25 11:13:27 -0400
nebbiolo1Linux (Ubuntu 22.04.2 LTS) / x86_64  OK    OK    OK  UNNEEDED, same version is already published
palomino3Windows Server 2022 Datacenter / x64  OK    OK    OK    OK  UNNEEDED, same version is already published
merida1macOS 12.6.4 Monterey / x86_64  OK    OK    OK    OK  UNNEEDED, same version is already published
Package 95/146HostnameOS / ArchINSTALLBUILDCHECKBUILD BIN
scHOT 1.12.0  (landing page)
Shila Ghazanfar
git_last_commit: b93eca3
git_last_commit_date: 2023-04-25 11:17:07 -0400
nebbiolo1Linux (Ubuntu 22.04.2 LTS) / x86_64  OK    OK    OK  UNNEEDED, same version is already published
palomino3Windows Server 2022 Datacenter / x64  OK    OK    OK    OK  UNNEEDED, same version is already published
merida1macOS 12.6.4 Monterey / x86_64  OK    OK    OK    OK  UNNEEDED, same version is already published
Package 96/146HostnameOS / ArchINSTALLBUILDCHECKBUILD BIN
scmap 1.22.3  (landing page)
Vladimir Kiselev
git_last_commit: 1e9fdcc
git_last_commit_date: 2023-05-25 09:13:32 -0400
nebbiolo1Linux (Ubuntu 22.04.2 LTS) / x86_64  OK    OK    OK  UNNEEDED, same version is already published
palomino3Windows Server 2022 Datacenter / x64  OK    OK    OK    OK  UNNEEDED, same version is already published
merida1macOS 12.6.4 Monterey / x86_64  OK    OK    OK    OK  UNNEEDED, same version is already published
Package 97/146HostnameOS / ArchINSTALLBUILDCHECKBUILD BIN
scMerge 1.16.0  (landing page)
Yingxin Lin
git_last_commit: 33d1a0b
git_last_commit_date: 2023-04-25 11:09:58 -0400
nebbiolo1Linux (Ubuntu 22.04.2 LTS) / x86_64  OK    OK    OK  UNNEEDED, same version is already published
palomino3Windows Server 2022 Datacenter / x64  OK    OK    OK    OK  UNNEEDED, same version is already published
merida1macOS 12.6.4 Monterey / x86_64  OK    OK    OK    OK  NO, package depends on 'scater' which is not available
Package 98/146HostnameOS / ArchINSTALLBUILDCHECKBUILD BIN
scMET 1.2.0  (landing page)
Andreas C. Kapourani
git_last_commit: cff5adb
git_last_commit_date: 2023-04-25 11:39:21 -0400
nebbiolo1Linux (Ubuntu 22.04.2 LTS) / x86_64  OK    OK    OK  UNNEEDED, same version is already published
palomino3Windows Server 2022 Datacenter / x64  OK    OK    OK    OK  UNNEEDED, same version is already published
merida1macOS 12.6.4 Monterey / x86_64  OK    OK    OK    OK  UNNEEDED, same version is already published
Package 99/146HostnameOS / ArchINSTALLBUILDCHECKBUILD BIN
SCnorm 1.22.0  (landing page)
Rhonda Bacher
git_last_commit: 8414503
git_last_commit_date: 2023-04-25 10:55:27 -0400
nebbiolo1Linux (Ubuntu 22.04.2 LTS) / x86_64  OK    OK    OK  UNNEEDED, same version is already published
palomino3Windows Server 2022 Datacenter / x64  OK    OK    OK    OK  UNNEEDED, same version is already published
merida1macOS 12.6.4 Monterey / x86_64  OK    OK    OK    OK  UNNEEDED, same version is already published
Package 100/146HostnameOS / ArchINSTALLBUILDCHECKBUILD BIN
scone 1.24.0  (landing page)
Davide Risso
git_last_commit: 26ae73c
git_last_commit_date: 2023-04-25 10:51:39 -0400
nebbiolo1Linux (Ubuntu 22.04.2 LTS) / x86_64  OK    OK    OK  UNNEEDED, same version is already published
palomino3Windows Server 2022 Datacenter / x64  OK    OK    OK    OK  UNNEEDED, same version is already published
merida1macOS 12.6.4 Monterey / x86_64  OK    OK    OK    OK  UNNEEDED, same version is already published
Package 101/146HostnameOS / ArchINSTALLBUILDCHECKBUILD BIN
scp 1.10.0  (landing page)
Christophe Vanderaa
git_last_commit: 51a8f34
git_last_commit_date: 2023-04-25 11:23:35 -0400
nebbiolo1Linux (Ubuntu 22.04.2 LTS) / x86_64  OK    OK    OK  UNNEEDED, same version is already published
palomino3Windows Server 2022 Datacenter / x64  OK    OK    OK    OK  UNNEEDED, same version is already published
merida1macOS 12.6.4 Monterey / x86_64  OK    OK    OK    OK  UNNEEDED, same version is already published
Package 102/146HostnameOS / ArchINSTALLBUILDCHECKBUILD BIN
scPipe 2.0.0  (landing page)
Shian Su
git_last_commit: 2d9cb4c
git_last_commit_date: 2023-04-25 10:57:21 -0400
nebbiolo1Linux (Ubuntu 22.04.2 LTS) / x86_64  OK    OK    WARNINGS  UNNEEDED, same version is already published
palomino3Windows Server 2022 Datacenter / x64  OK    OK    WARNINGS    OK  UNNEEDED, same version is already published
merida1macOS 12.6.4 Monterey / x86_64  OK    TIMEOUT  skippedskipped
Package 103/146HostnameOS / ArchINSTALLBUILDCHECKBUILD BIN
scran 1.28.1  (landing page)
Aaron Lun
git_last_commit: bc9ffff
git_last_commit_date: 2023-05-01 20:11:33 -0400
nebbiolo1Linux (Ubuntu 22.04.2 LTS) / x86_64  OK    OK    WARNINGS  UNNEEDED, same version is already published
palomino3Windows Server 2022 Datacenter / x64  OK    OK    WARNINGS    OK  UNNEEDED, same version is already published
merida1macOS 12.6.4 Monterey / x86_64  OK    OK    WARNINGS    OK  UNNEEDED, same version is already published
Package 104/146HostnameOS / ArchINSTALLBUILDCHECKBUILD BIN
scReClassify 1.6.0  (landing page)
Taiyun Kim
git_last_commit: 81bd660
git_last_commit_date: 2023-04-25 11:32:37 -0400
nebbiolo1Linux (Ubuntu 22.04.2 LTS) / x86_64  OK    OK    OK  UNNEEDED, same version is already published
palomino3Windows Server 2022 Datacenter / x64  OK    OK    OK    OK  UNNEEDED, same version is already published
merida1macOS 12.6.4 Monterey / x86_64  OK    OK    OK    OK  UNNEEDED, same version is already published
Package 105/146HostnameOS / ArchINSTALLBUILDCHECKBUILD BIN
scRepertoire 1.10.0  (landing page)
Nick Borcherding
git_last_commit: 0f5a136
git_last_commit_date: 2023-04-25 11:24:42 -0400
nebbiolo1Linux (Ubuntu 22.04.2 LTS) / x86_64  OK    OK    OK  UNNEEDED, same version is already published
palomino3Windows Server 2022 Datacenter / x64  OK    OK    OK    OK  UNNEEDED, same version is already published
merida1macOS 12.6.4 Monterey / x86_64  OK    OK    OK    OK  UNNEEDED, same version is already published
Package 106/146HostnameOS / ArchINSTALLBUILDCHECKBUILD BIN
scRNAseqApp 1.0.1  (landing page)
Jianhong Ou
git_last_commit: f30cd71
git_last_commit_date: 2023-04-25 16:05:12 -0400
nebbiolo1Linux (Ubuntu 22.04.2 LTS) / x86_64  OK    OK    OK  UNNEEDED, same version is already published
palomino3Windows Server 2022 Datacenter / x64  OK    OK    OK    OK  UNNEEDED, same version is already published
merida1macOS 12.6.4 Monterey / x86_64  OK    OK    OK    OK  UNNEEDED, same version is already published
Package 107/146HostnameOS / ArchINSTALLBUILDCHECKBUILD BIN
scruff 1.18.0  (landing page)
Zhe Wang
git_last_commit: fa92a2c
git_last_commit_date: 2023-04-25 11:03:10 -0400
nebbiolo1Linux (Ubuntu 22.04.2 LTS) / x86_64  OK    OK    OK  UNNEEDED, same version is already published
palomino3Windows Server 2022 Datacenter / x64  OK    OK    OK    OK  UNNEEDED, same version is already published
merida1macOS 12.6.4 Monterey / x86_64  OK    OK    OK    OK  UNNEEDED, same version is already published
Package 108/146HostnameOS / ArchINSTALLBUILDCHECKBUILD BIN
scry 1.12.0  (landing page)
Kelly Street
git_last_commit: 9537c8d
git_last_commit_date: 2023-04-25 11:17:55 -0400
nebbiolo1Linux (Ubuntu 22.04.2 LTS) / x86_64  OK    OK    OK  UNNEEDED, same version is already published
palomino3Windows Server 2022 Datacenter / x64  OK    OK    OK    OK  UNNEEDED, same version is already published
merida1macOS 12.6.4 Monterey / x86_64  OK    OK    OK    OK  UNNEEDED, same version is already published
Package 109/146HostnameOS / ArchINSTALLBUILDCHECKBUILD BIN
scTensor 2.10.0  (landing page)
Koki Tsuyuzaki
git_last_commit: 32e2912
git_last_commit_date: 2023-04-25 11:06:25 -0400
nebbiolo1Linux (Ubuntu 22.04.2 LTS) / x86_64  OK    OK    WARNINGS  UNNEEDED, same version is already published
palomino3Windows Server 2022 Datacenter / x64  OK    OK    WARNINGS    OK  UNNEEDED, same version is already published
merida1macOS 12.6.4 Monterey / x86_64  OK    OK    WARNINGS    OK  UNNEEDED, same version is already published
Package 110/146HostnameOS / ArchINSTALLBUILDCHECKBUILD BIN
scTGIF 1.14.0  (landing page)
Koki Tsuyuzaki
git_last_commit: 9e2b5e4
git_last_commit_date: 2023-04-25 11:13:59 -0400
nebbiolo1Linux (Ubuntu 22.04.2 LTS) / x86_64  OK    OK    OK  UNNEEDED, same version is already published
palomino3Windows Server 2022 Datacenter / x64  OK    OK    OK    OK  UNNEEDED, same version is already published
merida1macOS 12.6.4 Monterey / x86_64  OK    OK    OK    OK  UNNEEDED, same version is already published
Package 111/146HostnameOS / ArchINSTALLBUILDCHECKBUILD BIN
scTreeViz 1.6.0  (landing page)
Jayaram Kancherla
git_last_commit: 5cfa113
git_last_commit_date: 2023-04-25 11:33:10 -0400
nebbiolo1Linux (Ubuntu 22.04.2 LTS) / x86_64  OK    OK    OK  UNNEEDED, same version is already published
palomino3Windows Server 2022 Datacenter / x64  OK    OK    OK    OK  UNNEEDED, same version is already published
merida1macOS 12.6.4 Monterey / x86_64  OK    OK    OK    OK  NO, package depends on 'scater' which is not available
Package 112/146HostnameOS / ArchINSTALLBUILDCHECKBUILD BIN
scuttle 1.10.1  (landing page)
Aaron Lun
git_last_commit: 14f5423
git_last_commit_date: 2023-05-01 20:11:37 -0400
nebbiolo1Linux (Ubuntu 22.04.2 LTS) / x86_64  OK    OK    OK  UNNEEDED, same version is already published
palomino3Windows Server 2022 Datacenter / x64  OK    OK    OK    OK  UNNEEDED, same version is already published
merida1macOS 12.6.4 Monterey / x86_64  OK    OK    OK    OK  UNNEEDED, same version is already published
Package 113/146HostnameOS / ArchINSTALLBUILDCHECKBUILD BIN
scviR 1.0.0  (landing page)
Vincent Carey
git_last_commit: a9ef6e7
git_last_commit_date: 2023-04-25 11:43:19 -0400
nebbiolo1Linux (Ubuntu 22.04.2 LTS) / x86_64  OK    OK    OK  UNNEEDED, same version is already published
palomino3Windows Server 2022 Datacenter / x64... NOT SUPPORTED ...
merida1macOS 12.6.4 Monterey / x86_64  OK    OK    OK    OK  NO, package depends on 'basilisk' which is not available
Package 114/146HostnameOS / ArchINSTALLBUILDCHECKBUILD BIN
singleCellTK 2.10.0  (landing page)
Yichen Wang
git_last_commit: 277e675
git_last_commit_date: 2023-04-25 11:01:21 -0400
nebbiolo1Linux (Ubuntu 22.04.2 LTS) / x86_64  OK    OK    OK  UNNEEDED, same version is already published
palomino3Windows Server 2022 Datacenter / x64  OK    OK    OK    OK  UNNEEDED, same version is already published
merida1macOS 12.6.4 Monterey / x86_64  OK    OK    OK    OK  NO, package depends on 'scater' which is not available
Package 115/146HostnameOS / ArchINSTALLBUILDCHECKBUILD BIN
SiPSiC 1.0.0  (landing page)
Daniel Davis
git_last_commit: 0ccfe85
git_last_commit_date: 2023-04-25 11:44:02 -0400
nebbiolo1Linux (Ubuntu 22.04.2 LTS) / x86_64  OK    OK    OK  UNNEEDED, same version is already published
palomino3Windows Server 2022 Datacenter / x64  OK    OK    OK    OK  UNNEEDED, same version is already published
merida1macOS 12.6.4 Monterey / x86_64  OK    OK    OK    OK  UNNEEDED, same version is already published
Package 116/146HostnameOS / ArchINSTALLBUILDCHECKBUILD BIN
slalom 1.22.0  (landing page)
Davis McCarthy
git_last_commit: 1e36ad4
git_last_commit_date: 2023-04-25 10:57:13 -0400
nebbiolo1Linux (Ubuntu 22.04.2 LTS) / x86_64  OK    OK    OK  UNNEEDED, same version is already published
palomino3Windows Server 2022 Datacenter / x64  OK    OK    OK    OK  UNNEEDED, same version is already published
merida1macOS 12.6.4 Monterey / x86_64  ERROR    ERROR  skippedskipped
Package 117/146HostnameOS / ArchINSTALLBUILDCHECKBUILD BIN
slingshot 2.8.0  (landing page)
Kelly Street
git_last_commit: a71e49a
git_last_commit_date: 2023-04-25 11:02:20 -0400
nebbiolo1Linux (Ubuntu 22.04.2 LTS) / x86_64  OK    OK    OK  UNNEEDED, same version is already published
palomino3Windows Server 2022 Datacenter / x64  OK    OK    OK    OK  UNNEEDED, same version is already published
merida1macOS 12.6.4 Monterey / x86_64  OK    OK    OK    OK  UNNEEDED, same version is already published
Package 118/146HostnameOS / ArchINSTALLBUILDCHECKBUILD BIN
Spaniel 1.14.0  (landing page)
Rachel Queen
git_last_commit: 4ccdb15
git_last_commit_date: 2023-04-25 11:12:36 -0400
nebbiolo1Linux (Ubuntu 22.04.2 LTS) / x86_64  OK    OK    OK  UNNEEDED, same version is already published
palomino3Windows Server 2022 Datacenter / x64  OK    OK    OK    OK  UNNEEDED, same version is already published
merida1macOS 12.6.4 Monterey / x86_64  OK    OK    OK    OK  NO, package depends on 'scater' which is not available
Package 119/146HostnameOS / ArchINSTALLBUILDCHECKBUILD BIN
SpatialExperiment 1.10.0  (landing page)
Dario Righelli
git_last_commit: 6142b65
git_last_commit_date: 2023-04-25 11:20:46 -0400
nebbiolo1Linux (Ubuntu 22.04.2 LTS) / x86_64  OK    OK    OK  UNNEEDED, same version is already published
palomino3Windows Server 2022 Datacenter / x64  OK    OK    OK    OK  UNNEEDED, same version is already published
merida1macOS 12.6.4 Monterey / x86_64  OK    OK    OK    OK  UNNEEDED, same version is already published
Package 120/146HostnameOS / ArchINSTALLBUILDCHECKBUILD BIN
SpatialFeatureExperiment 1.2.1  (landing page)
Lambda Moses
git_last_commit: bf34cd9
git_last_commit_date: 2023-05-15 21:01:52 -0400
nebbiolo1Linux (Ubuntu 22.04.2 LTS) / x86_64  OK    OK    OK  UNNEEDED, same version is already published
palomino3Windows Server 2022 Datacenter / x64  OK    OK    OK    OK  UNNEEDED, same version is already published
merida1macOS 12.6.4 Monterey / x86_64  OK    OK    OK    OK  UNNEEDED, same version is already published
Package 121/146HostnameOS / ArchINSTALLBUILDCHECKBUILD BIN
spatialHeatmap 2.6.0  (landing page)
Jianhai Zhang
git_last_commit: 3c627ec
git_last_commit_date: 2023-04-25 11:23:23 -0400
nebbiolo1Linux (Ubuntu 22.04.2 LTS) / x86_64  OK    OK    OK  UNNEEDED, same version is already published
palomino3Windows Server 2022 Datacenter / x64  OK    OK    OK    OK  UNNEEDED, same version is already published
merida1macOS 12.6.4 Monterey / x86_64  OK    OK    OK    OK  NO, package depends on 'scater' which is not available
Package 122/146HostnameOS / ArchINSTALLBUILDCHECKBUILD BIN
speckle 1.0.0  (landing page)
Belinda Phipson
git_last_commit: ea9dd64
git_last_commit_date: 2023-04-25 11:41:49 -0400
nebbiolo1Linux (Ubuntu 22.04.2 LTS) / x86_64  OK    OK    OK  UNNEEDED, same version is already published
palomino3Windows Server 2022 Datacenter / x64  OK    OK    OK    OK  UNNEEDED, same version is already published
merida1macOS 12.6.4 Monterey / x86_64  OK    OK    OK    OK  UNNEEDED, same version is already published
Package 123/146HostnameOS / ArchINSTALLBUILDCHECKBUILD BIN
spicyR 1.12.0  (landing page)
Ellis Patrick
git_last_commit: 738519b
git_last_commit_date: 2023-04-25 11:16:32 -0400
nebbiolo1Linux (Ubuntu 22.04.2 LTS) / x86_64  OK    OK    OK  UNNEEDED, same version is already published
palomino3Windows Server 2022 Datacenter / x64  OK    OK    OK    OK  UNNEEDED, same version is already published
merida1macOS 12.6.4 Monterey / x86_64  OK    OK    OK    OK  UNNEEDED, same version is already published
Package 124/146HostnameOS / ArchINSTALLBUILDCHECKBUILD BIN
splatter 1.24.0  (landing page)
Luke Zappia
git_last_commit: dad2a3a
git_last_commit_date: 2023-05-02 08:13:51 -0400
nebbiolo1Linux (Ubuntu 22.04.2 LTS) / x86_64  OK    OK    OK  UNNEEDED, same version is already published
palomino3Windows Server 2022 Datacenter / x64  OK    OK    OK    OK  UNNEEDED, same version is already published
merida1macOS 12.6.4 Monterey / x86_64  OK    OK    OK    OK  UNNEEDED, same version is already published
Package 125/146HostnameOS / ArchINSTALLBUILDCHECKBUILD BIN
SPOTlight 1.4.1  (landing page)
Marc Elosua-Bayes
git_last_commit: 6d01715
git_last_commit_date: 2023-05-05 06:55:50 -0400
nebbiolo1Linux (Ubuntu 22.04.2 LTS) / x86_64  OK    OK    OK  UNNEEDED, same version is already published
palomino3Windows Server 2022 Datacenter / x64  OK    OK    OK    OK  UNNEEDED, same version is already published
merida1macOS 12.6.4 Monterey / x86_64  OK    OK    OK    OK  UNNEEDED, same version is already published
Package 126/146HostnameOS / ArchINSTALLBUILDCHECKBUILD BIN
SPsimSeq 1.10.0  (landing page)
Joris Meys
git_last_commit: 9922901
git_last_commit_date: 2023-04-25 11:18:49 -0400
nebbiolo1Linux (Ubuntu 22.04.2 LTS) / x86_64  OK    OK    OK  UNNEEDED, same version is already published
palomino3Windows Server 2022 Datacenter / x64  OK    OK    OK    OK  UNNEEDED, same version is already published
merida1macOS 12.6.4 Monterey / x86_64  OK    OK    OK    OK  UNNEEDED, same version is already published
Package 127/146HostnameOS / ArchINSTALLBUILDCHECKBUILD BIN
standR 1.4.0  (landing page)
Ning Liu
git_last_commit: c749cd1
git_last_commit_date: 2023-04-25 11:37:16 -0400
nebbiolo1Linux (Ubuntu 22.04.2 LTS) / x86_64  OK    OK    OK  UNNEEDED, same version is already published
palomino3Windows Server 2022 Datacenter / x64  OK    OK    OK    OK  UNNEEDED, same version is already published
merida1macOS 12.6.4 Monterey / x86_64  OK    OK    OK    OK  UNNEEDED, same version is already published
Package 128/146HostnameOS / ArchINSTALLBUILDCHECKBUILD BIN
Statial 1.2.0  (landing page)
Farhan Ameen
git_last_commit: 0e0efa0
git_last_commit_date: 2023-04-25 11:41:28 -0400
nebbiolo1Linux (Ubuntu 22.04.2 LTS) / x86_64  OK    OK    OK  UNNEEDED, same version is already published
palomino3Windows Server 2022 Datacenter / x64  OK    OK    OK    OK  UNNEEDED, same version is already published
merida1macOS 12.6.4 Monterey / x86_64  OK    OK    OK    OK  UNNEEDED, same version is already published
Package 129/146HostnameOS / ArchINSTALLBUILDCHECKBUILD BIN
switchde 1.26.0  (landing page)
Kieran Campbell
git_last_commit: 80e0d19
git_last_commit_date: 2023-04-25 10:48:50 -0400
nebbiolo1Linux (Ubuntu 22.04.2 LTS) / x86_64  OK    OK    OK  UNNEEDED, same version is already published
palomino3Windows Server 2022 Datacenter / x64  OK    OK    OK    OK  UNNEEDED, same version is already published
merida1macOS 12.6.4 Monterey / x86_64  OK    OK    OK    OK  UNNEEDED, same version is already published
Package 130/146HostnameOS / ArchINSTALLBUILDCHECKBUILD BIN
TENxIO 1.2.0  (landing page)
Marcel Ramos
git_last_commit: f2ae1a5
git_last_commit_date: 2023-04-25 11:40:51 -0400
nebbiolo1Linux (Ubuntu 22.04.2 LTS) / x86_64  OK    OK    OK  UNNEEDED, same version is already published
palomino3Windows Server 2022 Datacenter / x64  OK    OK    OK    OK  UNNEEDED, same version is already published
merida1macOS 12.6.4 Monterey / x86_64  OK    OK    OK    OK  UNNEEDED, same version is already published
Package 131/146HostnameOS / ArchINSTALLBUILDCHECKBUILD BIN
tidySingleCellExperiment 1.10.0  (landing page)
Stefano Mangiola
git_last_commit: d180646
git_last_commit_date: 2023-04-25 11:24:36 -0400
nebbiolo1Linux (Ubuntu 22.04.2 LTS) / x86_64  OK    OK    WARNINGS  UNNEEDED, same version is already published
palomino3Windows Server 2022 Datacenter / x64  OK    OK    WARNINGS    OK  UNNEEDED, same version is already published
merida1macOS 12.6.4 Monterey / x86_64  OK    OK    WARNINGS    OK  UNNEEDED, same version is already published
Package 132/146HostnameOS / ArchINSTALLBUILDCHECKBUILD BIN
tradeSeq 1.14.0  (landing page)
Hector Roux de Bezieux
git_last_commit: 4a3c31b
git_last_commit_date: 2023-04-25 11:14:08 -0400
nebbiolo1Linux (Ubuntu 22.04.2 LTS) / x86_64  OK    OK    OK  UNNEEDED, same version is already published
palomino3Windows Server 2022 Datacenter / x64  OK    OK    OK    OK  UNNEEDED, same version is already published
merida1macOS 12.6.4 Monterey / x86_64  OK    OK    OK    OK  UNNEEDED, same version is already published
Package 133/146HostnameOS / ArchINSTALLBUILDCHECKBUILD BIN
TrajectoryUtils 1.8.0  (landing page)
Aaron Lun
git_last_commit: 6c75d23
git_last_commit_date: 2023-04-25 11:26:27 -0400
nebbiolo1Linux (Ubuntu 22.04.2 LTS) / x86_64  OK    OK    OK  UNNEEDED, same version is already published
palomino3Windows Server 2022 Datacenter / x64  OK    OK    OK    OK  UNNEEDED, same version is already published
merida1macOS 12.6.4 Monterey / x86_64  OK    OK    OK    OK  UNNEEDED, same version is already published
Package 134/146HostnameOS / ArchINSTALLBUILDCHECKBUILD BIN
traviz 1.6.0  (landing page)
Koen Van den Berge
git_last_commit: 33cc2c0
git_last_commit_date: 2023-04-25 11:32:00 -0400
nebbiolo1Linux (Ubuntu 22.04.2 LTS) / x86_64  OK    OK    OK  UNNEEDED, same version is already published
palomino3Windows Server 2022 Datacenter / x64  OK    OK    OK    OK  UNNEEDED, same version is already published
merida1macOS 12.6.4 Monterey / x86_64  OK    OK    OK    OK  UNNEEDED, same version is already published
Package 135/146HostnameOS / ArchINSTALLBUILDCHECKBUILD BIN
treekoR 1.8.0  (landing page)
Adam Chan
git_last_commit: fd46758
git_last_commit_date: 2023-04-25 11:28:47 -0400
nebbiolo1Linux (Ubuntu 22.04.2 LTS) / x86_64  OK    OK    OK  UNNEEDED, same version is already published
palomino3Windows Server 2022 Datacenter / x64  OK    OK    OK    OK  UNNEEDED, same version is already published
merida1macOS 12.6.4 Monterey / x86_64  OK    OK    OK    OK  UNNEEDED, same version is already published
Package 136/146HostnameOS / ArchINSTALLBUILDCHECKBUILD BIN
TreeSummarizedExperiment 2.8.0  (landing page)
Ruizhu Huang
git_last_commit: 54e49c9
git_last_commit_date: 2023-04-25 11:10:36 -0400
nebbiolo1Linux (Ubuntu 22.04.2 LTS) / x86_64  OK    OK    OK  UNNEEDED, same version is already published
palomino3Windows Server 2022 Datacenter / x64  OK    OK    OK    OK  UNNEEDED, same version is already published
merida1macOS 12.6.4 Monterey / x86_64  OK    OK    OK    OK  UNNEEDED, same version is already published
Package 137/146HostnameOS / ArchINSTALLBUILDCHECKBUILD BIN
tricycle 1.8.0  (landing page)
Shijie Zheng
git_last_commit: 6616904
git_last_commit_date: 2023-04-25 11:28:42 -0400
nebbiolo1Linux (Ubuntu 22.04.2 LTS) / x86_64  OK    OK    OK  UNNEEDED, same version is already published
palomino3Windows Server 2022 Datacenter / x64  OK    OK    OK    OK  UNNEEDED, same version is already published
merida1macOS 12.6.4 Monterey / x86_64  OK    OK    OK    OK  NO, package depends on 'scater' which is not available
Package 138/146HostnameOS / ArchINSTALLBUILDCHECKBUILD BIN
TSCAN 1.38.0  (landing page)
Zhicheng Ji
git_last_commit: 75fa161
git_last_commit_date: 2023-04-25 10:34:27 -0400
nebbiolo1Linux (Ubuntu 22.04.2 LTS) / x86_64  OK    OK    WARNINGS  UNNEEDED, same version is already published
palomino3Windows Server 2022 Datacenter / x64  OK    OK    WARNINGS    OK  UNNEEDED, same version is already published
merida1macOS 12.6.4 Monterey / x86_64  OK    OK    WARNINGS    OK  UNNEEDED, same version is already published
Package 139/146HostnameOS / ArchINSTALLBUILDCHECKBUILD BIN
UCell 2.4.0  (landing page)
Massimo Andreatta
git_last_commit: c59004e
git_last_commit_date: 2023-04-25 11:36:20 -0400
nebbiolo1Linux (Ubuntu 22.04.2 LTS) / x86_64  OK    OK    OK  UNNEEDED, same version is already published
palomino3Windows Server 2022 Datacenter / x64  OK    OK    OK    OK  UNNEEDED, same version is already published
merida1macOS 12.6.4 Monterey / x86_64  OK    OK    OK    OK  UNNEEDED, same version is already published
Package 140/146HostnameOS / ArchINSTALLBUILDCHECKBUILD BIN
VAExprs 1.6.0  (landing page)
Dongmin Jung
git_last_commit: 50d5ca2
git_last_commit_date: 2023-04-25 11:31:36 -0400
nebbiolo1Linux (Ubuntu 22.04.2 LTS) / x86_64  OK    OK    OK  UNNEEDED, same version is already published
palomino3Windows Server 2022 Datacenter / x64  OK    OK    OK    OK  UNNEEDED, same version is already published
merida1macOS 12.6.4 Monterey / x86_64  OK    OK    OK    OK  NO, package depends on 'scater' which is not available
Package 141/146HostnameOS / ArchINSTALLBUILDCHECKBUILD BIN
VDJdive 1.2.0  (landing page)
Kelly Street
git_last_commit: b657994
git_last_commit_date: 2023-04-25 11:39:52 -0400
nebbiolo1Linux (Ubuntu 22.04.2 LTS) / x86_64  OK    OK    OK  UNNEEDED, same version is already published
palomino3Windows Server 2022 Datacenter / x64  OK    OK    OK    OK  UNNEEDED, same version is already published
merida1macOS 12.6.4 Monterey / x86_64  OK    OK    OK    OK  NO, package depends on 'basilisk' which is not available
Package 142/146HostnameOS / ArchINSTALLBUILDCHECKBUILD BIN
velociraptor 1.10.0  (landing page)
Kevin Rue-Albrecht
git_last_commit: 4553f16
git_last_commit_date: 2023-04-25 11:23:04 -0400
nebbiolo1Linux (Ubuntu 22.04.2 LTS) / x86_64  OK    OK    OK  UNNEEDED, same version is already published
palomino3Windows Server 2022 Datacenter / x64  OK    OK    OK    OK  UNNEEDED, same version is already published
merida1macOS 12.6.4 Monterey / x86_64  OK    OK    OK    OK  NO, package depends on 'basilisk' which is not available
Package 143/146HostnameOS / ArchINSTALLBUILDCHECKBUILD BIN
Voyager 1.2.3  (landing page)
Lambda Moses
git_last_commit: 741f5f9
git_last_commit_date: 2023-05-15 21:54:23 -0400
nebbiolo1Linux (Ubuntu 22.04.2 LTS) / x86_64  OK    OK    OK  UNNEEDED, same version is already published
palomino3Windows Server 2022 Datacenter / x64  OK    OK    OK    OK  UNNEEDED, same version is already published
merida1macOS 12.6.4 Monterey / x86_64  OK    OK    OK    OK  UNNEEDED, same version is already published
Package 144/146HostnameOS / ArchINSTALLBUILDCHECKBUILD BIN
waddR 1.14.0  (landing page)
Julian Flesch
git_last_commit: 006c7fd
git_last_commit_date: 2023-04-25 11:13:19 -0400
nebbiolo1Linux (Ubuntu 22.04.2 LTS) / x86_64  OK    OK    OK  UNNEEDED, same version is already published
palomino3Windows Server 2022 Datacenter / x64  OK    OK    ERROR    OK  
merida1macOS 12.6.4 Monterey / x86_64  OK    ERROR  skippedskipped
Package 145/146HostnameOS / ArchINSTALLBUILDCHECKBUILD BIN
zellkonverter 1.10.1  (landing page)
Luke Zappia
git_last_commit: d918d30
git_last_commit_date: 2023-05-23 05:34:59 -0400
nebbiolo1Linux (Ubuntu 22.04.2 LTS) / x86_64  OK    OK    OK  UNNEEDED, same version is already published
palomino3Windows Server 2022 Datacenter / x64  OK    OK    OK    OK  UNNEEDED, same version is already published
merida1macOS 12.6.4 Monterey / x86_64  OK    OK    OK    OK  NO, package depends on 'basilisk' which is not available
Package 146/146HostnameOS / ArchINSTALLBUILDCHECKBUILD BIN
zinbwave 1.22.0  (landing page)
Davide Risso
git_last_commit: 1fb2e57
git_last_commit_date: 2023-04-25 10:54:42 -0400
nebbiolo1Linux (Ubuntu 22.04.2 LTS) / x86_64  OK    OK    OK  UNNEEDED, same version is already published
palomino3Windows Server 2022 Datacenter / x64  OK    OK    OK    OK  UNNEEDED, same version is already published
merida1macOS 12.6.4 Monterey / x86_64  OK    OK    OK    OK  UNNEEDED, same version is already published