Back to Multiple platform build/check report for BioC 3.17:   simplified   long
AB[C]DEFGHIJKLMNOPQRSTUVWXYZ

This page was generated on 2023-09-26 11:36:15 -0400 (Tue, 26 Sep 2023).

HostnameOSArch (*)R versionInstalled pkgs
nebbiolo1Linux (Ubuntu 22.04.2 LTS)x86_644.3.1 (2023-06-16) -- "Beagle Scouts" 4625
palomino3Windows Server 2022 Datacenterx644.3.1 (2023-06-16 ucrt) -- "Beagle Scouts" 4378
merida1macOS 12.6.4 Montereyx86_644.3.1 (2023-06-16) -- "Beagle Scouts" 4394
Click on any hostname to see more info about the system (e.g. compilers)      (*) as reported by 'uname -p', except on Windows and Mac OS X

Package 355/2230HostnameOS / ArchINSTALLBUILDCHECKBUILD BIN
clippda 1.50.0  (landing page)
Stephen Nyangoma
Snapshot Date: 2023-09-25 14:00:11 -0400 (Mon, 25 Sep 2023)
git_url: https://git.bioconductor.org/packages/clippda
git_branch: RELEASE_3_17
git_last_commit: c45bfaf
git_last_commit_date: 2023-04-25 09:49:22 -0400 (Tue, 25 Apr 2023)
nebbiolo1Linux (Ubuntu 22.04.2 LTS) / x86_64  OK    OK    OK  UNNEEDED, same version is already published
palomino3Windows Server 2022 Datacenter / x64  OK    OK    OK    OK  UNNEEDED, same version is already published
merida1macOS 12.6.4 Monterey / x86_64  OK    OK    OK    OK  UNNEEDED, same version is already published

CHECK results for clippda on palomino3


To the developers/maintainers of the clippda package:
- Allow up to 24 hours (and sometimes 48 hours) for your latest push to git@git.bioconductor.org:packages/clippda.git to reflect on this report. See Troubleshooting Build Report for more information.
- Use the following Renviron settings to reproduce errors and warnings.
- If 'R CMD check' started to fail recently on the Linux builder(s) over a missing dependency, add the missing dependency to 'Suggests:' in your DESCRIPTION file. See Renviron.bioc for more information.

raw results


Summary

Package: clippda
Version: 1.50.0
Command: F:\biocbuild\bbs-3.17-bioc\R\bin\R.exe CMD check --no-multiarch --install=check:clippda.install-out.txt --library=F:\biocbuild\bbs-3.17-bioc\R\library --no-vignettes --timings clippda_1.50.0.tar.gz
StartedAt: 2023-09-26 01:07:48 -0400 (Tue, 26 Sep 2023)
EndedAt: 2023-09-26 01:11:07 -0400 (Tue, 26 Sep 2023)
EllapsedTime: 199.2 seconds
RetCode: 0
Status:   OK  
CheckDir: clippda.Rcheck
Warnings: 0

Command output

##############################################################################
##############################################################################
###
### Running command:
###
###   F:\biocbuild\bbs-3.17-bioc\R\bin\R.exe CMD check --no-multiarch --install=check:clippda.install-out.txt --library=F:\biocbuild\bbs-3.17-bioc\R\library --no-vignettes --timings clippda_1.50.0.tar.gz
###
##############################################################################
##############################################################################


* using log directory 'F:/biocbuild/bbs-3.17-bioc/meat/clippda.Rcheck'
* using R version 4.3.1 (2023-06-16 ucrt)
* using platform: x86_64-w64-mingw32 (64-bit)
* R was compiled by
    gcc.exe (GCC) 12.2.0
    GNU Fortran (GCC) 12.2.0
* running under: Windows Server 2022 x64 (build 20348)
* using session charset: UTF-8
* using option '--no-vignettes'
* checking for file 'clippda/DESCRIPTION' ... OK
* this is package 'clippda' version '1.50.0'
* checking package namespace information ... NOTE
  Namespaces with empty importFrom:
  'Biobase' 'tools'
* checking package dependencies ... NOTE
Depends: includes the non-default packages:
  'limma', 'statmod', 'rgl', 'lattice', 'scatterplot3d', 'Biobase',
  'tools'
Adding so many packages to the search path is excessive and importing
selectively is preferable.
* checking if this is a source package ... OK
* checking if there is a namespace ... OK
* checking for hidden files and directories ... OK
* checking for portable file names ... OK
* checking whether package 'clippda' can be installed ... OK
* checking installed package size ... OK
* checking package directory ... OK
* checking 'build' directory ... OK
* checking DESCRIPTION meta-information ... OK
* checking top-level files ... OK
* checking for left-over files ... OK
* checking index information ... OK
* checking package subdirectories ... OK
* checking R files for non-ASCII characters ... OK
* checking R files for syntax errors ... OK
* checking whether the package can be loaded ... OK
* checking whether the package can be loaded with stated dependencies ... OK
* checking whether the package can be unloaded cleanly ... OK
* checking whether the namespace can be loaded with stated dependencies ... OK
* checking whether the namespace can be unloaded cleanly ... OK
* checking dependencies in R code ... NOTE
'library' or 'require' calls to packages already attached by Depends:
  'lattice' 'limma' 'rgl' 'scatterplot3d' 'statmod'
  Please remove these calls from your code.
Packages in Depends field not imported from:
  'lattice' 'rgl'
  These packages need to be imported from (in the NAMESPACE file)
  for when this namespace is loaded but not attached.
* checking S3 generic/method consistency ... OK
* checking replacement functions ... OK
* checking foreign function calls ... OK
* checking R code for possible problems ... NOTE
ZvaluescasesVcontrolsPlots: no visible global function definition for
  'lines'
ZvaluescasesVcontrolsPlots: no visible global function definition for
  'legend'
ZvaluesfrommultinomPlots: no visible global function definition for
  'rmultinom'
ZvaluesfrommultinomPlots: no visible global function definition for
  'density'
ZvaluesfrommultinomPlots: no visible global function definition for
  'lines'
ZvaluesfrommultinomPlots: no visible global function definition for
  'legend'
ZvaluesfrommultinomPlots: no visible global function definition for
  'cloud'
ZvaluesfrommultinomPlots: no visible global function definition for
  'var'
Undefined global functions or variables:
  cloud density legend lines rmultinom var
Consider adding
  importFrom("graphics", "legend", "lines")
  importFrom("stats", "density", "rmultinom", "var")
to your NAMESPACE file.
* checking Rd files ... OK
* checking Rd metadata ... OK
* checking Rd cross-references ... OK
* checking for missing documentation entries ... OK
* checking for code/documentation mismatches ... OK
* checking Rd \usage sections ... OK
* checking Rd contents ... OK
* checking for unstated dependencies in examples ... OK
* checking contents of 'data' directory ... OK
* checking data for non-ASCII characters ... OK
* checking data for ASCII and uncompressed saves ... OK
* checking sizes of PDF files under 'inst/doc' ... OK
* checking files in 'vignettes' ... OK
* checking examples ... OK
Examples with CPU (user + system) or elapsed time > 5s
                          user system elapsed
clippda-package          66.50   1.44   67.94
sampleSize               42.72   0.37   43.14
sampleSizeParameters     21.89   0.33   22.28
sample_technicalVariance  6.21   0.08    6.28
* checking for unstated dependencies in vignettes ... OK
* checking package vignettes in 'inst/doc' ... OK
* checking running R code from vignettes ... SKIPPED
* checking re-building of vignette outputs ... SKIPPED
* checking PDF version of manual ... OK
* DONE

Status: 4 NOTEs
See
  'F:/biocbuild/bbs-3.17-bioc/meat/clippda.Rcheck/00check.log'
for details.



Installation output

clippda.Rcheck/00install.out

##############################################################################
##############################################################################
###
### Running command:
###
###   F:\biocbuild\bbs-3.17-bioc\R\bin\R.exe CMD INSTALL clippda
###
##############################################################################
##############################################################################


* installing to library 'F:/biocbuild/bbs-3.17-bioc/R/library'
* installing *source* package 'clippda' ...
** using staged installation
** R
** data
** inst
** byte-compile and prepare package for lazy loading
** help
*** installing help indices
** building package indices
** installing vignettes
** testing if installed package can be loaded from temporary location
** testing if installed package can be loaded from final location
** testing if installed package keeps a record of temporary installation path
* DONE (clippda)

Tests output


Example timings

clippda.Rcheck/clippda-Ex.timings

nameusersystemelapsed
ZvaluescasesVcontrolsPlots0.060.000.06
ZvaluesfrommultinomPlots1.080.051.13
aclinicalProteomicsData-class0.040.020.06
aclinicalProteomicsData-methods0.360.260.62
betweensampleVariance1.080.191.27
checkNo.replicates0.080.000.08
clippda-package66.50 1.4467.94
f000
fisherInformation0.090.000.09
liverRawData0.000.000.01
liver_pheno000
liverdata1.110.061.18
mostSimilarTwo000
negativeIntensitiesCorrection0.250.000.25
phenoDataFrame0.050.010.06
pheno_urine0.000.000.01
preProcRepeatedPeakData0.920.050.97
proteomicsExprsData0.140.020.16
proteomicspData0.050.010.06
replicateCorrelations3.500.033.53
sampleClusteredData0.200.020.22
sampleSize42.72 0.3743.14
sampleSize3DscatterPlots0.020.020.03
sampleSizeContourPlots0.040.000.05
sampleSizeParameters21.89 0.3322.28
sample_technicalVariance6.210.086.28
spectrumFilter1.070.001.08
ztwo000