Back to Multiple platform build/check report for BioC 3.17:   simplified   long
ABCDEFGHIJKLMNOPQRSTU[V]WXYZ

This page was generated on 2023-06-09 11:07:27 -0400 (Fri, 09 Jun 2023).

HostnameOSArch (*)R versionInstalled pkgs
nebbiolo1Linux (Ubuntu 22.04.2 LTS)x86_644.3.0 RC (2023-04-13 r84269) -- "Already Tomorrow" 4628
palomino3Windows Server 2022 Datacenterx644.3.0 RC (2023-04-13 r84269 ucrt) -- "Already Tomorrow" 4379
merida1macOS 12.6.4 Montereyx86_644.3.0 RC (2023-04-13 r84257) -- "Already Tomorrow" 4385
Click on any hostname to see more info about the system (e.g. compilers)      (*) as reported by 'uname -p', except on Windows and Mac OS X

BUILD BIN results for vulcan on merida1


To the developers/maintainers of the vulcan package:
- Allow up to 24 hours (and sometimes 48 hours) for your latest push to git@git.bioconductor.org:packages/vulcan.git to reflect on this report. See Troubleshooting Build Report for more information.
- Use the following Renviron settings to reproduce errors and warnings.
- If 'R CMD check' started to fail recently on the Linux builder(s) over a missing dependency, add the missing dependency to 'Suggests:' in your DESCRIPTION file. See Renviron.bioc for more information.

raw results

Package 2201/2229HostnameOS / ArchINSTALLBUILDCHECKBUILD BIN
vulcan 1.22.0  (landing page)
Federico M. Giorgi
Snapshot Date: 2023-06-08 14:00:15 -0400 (Thu, 08 Jun 2023)
git_url: https://git.bioconductor.org/packages/vulcan
git_branch: RELEASE_3_17
git_last_commit: 4049d1d
git_last_commit_date: 2023-04-25 10:56:56 -0400 (Tue, 25 Apr 2023)
nebbiolo1Linux (Ubuntu 22.04.2 LTS) / x86_64  OK    OK    OK  UNNEEDED, same version is already published
palomino3Windows Server 2022 Datacenter / x64  OK    OK    OK    OK  UNNEEDED, same version is already published
merida1macOS 12.6.4 Monterey / x86_64  OK    OK    OK    OK  UNNEEDED, same version is already published

Summary

Package: vulcan
Version: 1.22.0
Command: rm -rf vulcan.buildbin-libdir && mkdir vulcan.buildbin-libdir && /Users/biocbuild/BBS/utils/build-universal.sh vulcan_1.22.0.tar.gz /Library/Frameworks/R.framework/Resources/bin/R vulcan.buildbin-libdir
StartedAt: 2023-06-09 10:30:46 -0400 (Fri, 09 Jun 2023)
EndedAt: 2023-06-09 10:33:01 -0400 (Fri, 09 Jun 2023)
EllapsedTime: 135.0 seconds
RetCode: 0
Status:   OK  
PackageFile: vulcan_1.22.0.tgz
PackageFileSize: 462.1 KiB

Command output

##############################################################################
##############################################################################
###
### Running command:
###
###   rm -rf vulcan.buildbin-libdir && mkdir vulcan.buildbin-libdir && /Users/biocbuild/BBS/utils/build-universal.sh vulcan_1.22.0.tar.gz /Library/Frameworks/R.framework/Resources/bin/R vulcan.buildbin-libdir
###
##############################################################################
##############################################################################


>>>>>>> 
>>>>>>> INSTALLATION WITH 'R CMD INSTALL --preclean --no-multiarch --library=vulcan.buildbin-libdir vulcan_1.22.0.tar.gz'
>>>>>>> 

* installing *source* package ‘vulcan’ ...
** using staged installation
** R
** inst
** byte-compile and prepare package for lazy loading
** help
*** installing help indices
** building package indices
** installing vignettes
** testing if installed package can be loaded from temporary location
** testing if installed package can be loaded from final location
** testing if installed package keeps a record of temporary installation path
* DONE (vulcan)