Back to Multiple platform build/check report for BioC 3.17:   simplified   long
ABCD[E]FGHIJKLMNOPQRSTUVWXYZ

This page was generated on 2023-03-28 11:05:14 -0400 (Tue, 28 Mar 2023).

HostnameOSArch (*)R versionInstalled pkgs
nebbiolo1Linux (Ubuntu 22.04.1 LTS)x86_64R Under development (unstable) (2023-03-16 r83996) -- "Unsuffered Consequences" 4547
palomino3Windows Server 2022 Datacenterx64R Under development (unstable) (2023-03-15 r83984 ucrt) -- "Unsuffered Consequences" 4308
merida1macOS 10.14.6 Mojavex86_64R Under development (unstable) (2023-03-16 r83985) -- "Unsuffered Consequences" 4301
Click on any hostname to see more info about the system (e.g. compilers)      (*) as reported by 'uname -p', except on Windows and Mac OS X

CHECK results for exomeCopy on nebbiolo1


To the developers/maintainers of the exomeCopy package:
- Please allow up to 24 hours (and sometimes 48 hours) for your latest push to git@git.bioconductor.org:packages/exomeCopy.git to
reflect on this report. See How and When does the builder pull? When will my changes propagate? for more information.
- Make sure to use the following settings in order to reproduce any error or warning you see on this page.

raw results

Package 654/2195HostnameOS / ArchINSTALLBUILDCHECKBUILD BIN
exomeCopy 1.45.0  (landing page)
Michael Love
Snapshot Date: 2023-03-27 14:00:21 -0400 (Mon, 27 Mar 2023)
git_url: https://git.bioconductor.org/packages/exomeCopy
git_branch: devel
git_last_commit: 584c54b
git_last_commit_date: 2022-11-01 11:06:27 -0400 (Tue, 01 Nov 2022)
nebbiolo1Linux (Ubuntu 22.04.1 LTS) / x86_64  OK    OK    OK  UNNEEDED, same version is already published
palomino3Windows Server 2022 Datacenter / x64  OK    OK    OK    OK  UNNEEDED, same version is already published
merida1macOS 10.14.6 Mojave / x86_64  OK    OK    OK    OK  UNNEEDED, same version is already published

Summary

Package: exomeCopy
Version: 1.45.0
Command: /home/biocbuild/bbs-3.17-bioc/R/bin/R CMD check --install=check:exomeCopy.install-out.txt --library=/home/biocbuild/bbs-3.17-bioc/R/site-library --timings exomeCopy_1.45.0.tar.gz
StartedAt: 2023-03-27 20:23:23 -0400 (Mon, 27 Mar 2023)
EndedAt: 2023-03-27 20:25:47 -0400 (Mon, 27 Mar 2023)
EllapsedTime: 143.9 seconds
RetCode: 0
Status:   OK  
CheckDir: exomeCopy.Rcheck
Warnings: 0

Command output

##############################################################################
##############################################################################
###
### Running command:
###
###   /home/biocbuild/bbs-3.17-bioc/R/bin/R CMD check --install=check:exomeCopy.install-out.txt --library=/home/biocbuild/bbs-3.17-bioc/R/site-library --timings exomeCopy_1.45.0.tar.gz
###
##############################################################################
##############################################################################


* using log directory ‘/home/biocbuild/bbs-3.17-bioc/meat/exomeCopy.Rcheck’
* using R Under development (unstable) (2023-03-16 r83996)
* using platform: x86_64-pc-linux-gnu (64-bit)
* R was compiled by
    gcc (Ubuntu 11.3.0-1ubuntu1~22.04) 11.3.0
    GNU Fortran (Ubuntu 11.3.0-1ubuntu1~22.04) 11.3.0
* running under: Ubuntu 22.04.2 LTS
* using session charset: UTF-8
* checking for file ‘exomeCopy/DESCRIPTION’ ... OK
* checking extension type ... Package
* this is package ‘exomeCopy’ version ‘1.45.0’
* checking package namespace information ... OK
* checking package dependencies ... OK
* checking if this is a source package ... OK
* checking if there is a namespace ... OK
* checking for hidden files and directories ... OK
* checking for portable file names ... OK
* checking for sufficient/correct file permissions ... OK
* checking whether package ‘exomeCopy’ can be installed ... OK
* used C compiler: ‘gcc (Ubuntu 11.3.0-1ubuntu1~22.04) 11.3.0’
* checking installed package size ... OK
* checking package directory ... OK
* checking ‘build’ directory ... OK
* checking DESCRIPTION meta-information ... OK
* checking top-level files ... OK
* checking for left-over files ... OK
* checking index information ... OK
* checking package subdirectories ... OK
* checking R files for non-ASCII characters ... OK
* checking R files for syntax errors ... OK
* checking whether the package can be loaded ... OK
* checking whether the package can be loaded with stated dependencies ... OK
* checking whether the package can be unloaded cleanly ... OK
* checking whether the namespace can be loaded with stated dependencies ... OK
* checking whether the namespace can be unloaded cleanly ... OK
* checking loading without being on the library search path ... OK
* checking dependencies in R code ... OK
* checking S3 generic/method consistency ... OK
* checking replacement functions ... OK
* checking foreign function calls ... OK
* checking R code for possible problems ... NOTE
emFn : <anonymous>: no visible global function definition for ‘dnbinom’
exomeCopy: no visible global function definition for ‘lm’
exomeCopy: no visible global function definition for ‘optim’
exomeCopy: no visible global function definition for ‘new’
exomeCopy: no visible global function definition for ‘Rle’
getGCcontent: no visible global function definition for
  ‘letterFrequency’
plot.ExomeCopy: no visible global function definition for ‘segments’
plot.ExomeCopy: no visible global function definition for ‘legend’
plotCompiledCNV: no visible global function definition for ‘axis’
plotCompiledCNV: no visible global function definition for ‘segments’
plot,ExomeCopy-missing: no visible global function definition for
  ‘segments’
plot,ExomeCopy-missing: no visible global function definition for
  ‘legend’
Undefined global functions or variables:
  Rle axis dnbinom legend letterFrequency lm new optim segments
Consider adding
  importFrom("graphics", "axis", "legend", "segments")
  importFrom("methods", "new")
  importFrom("stats", "dnbinom", "lm", "optim")
to your NAMESPACE file (and ensure that your DESCRIPTION Imports field
contains 'methods').
* checking Rd files ... OK
* checking Rd metadata ... OK
* checking Rd cross-references ... OK
* checking for missing documentation entries ... OK
* checking for code/documentation mismatches ... OK
* checking Rd \usage sections ... OK
* checking Rd contents ... OK
* checking for unstated dependencies in examples ... OK
* checking contents of ‘data’ directory ... OK
* checking data for non-ASCII characters ... OK
* checking data for ASCII and uncompressed saves ... OK
* checking line endings in C/C++/Fortran sources/headers ... OK
* checking compiled code ... NOTE
Note: information on .o files is not available
* checking files in ‘vignettes’ ... OK
* checking examples ... OK
* checking for unstated dependencies in vignettes ... OK
* checking package vignettes in ‘inst/doc’ ... OK
* checking running R code from vignettes ...
  ‘exomeCopy.Rnw’... OK
 OK
* checking re-building of vignette outputs ... OK
* checking PDF version of manual ... OK
* DONE

Status: 2 NOTEs
See
  ‘/home/biocbuild/bbs-3.17-bioc/meat/exomeCopy.Rcheck/00check.log’
for details.



Installation output

exomeCopy.Rcheck/00install.out

##############################################################################
##############################################################################
###
### Running command:
###
###   /home/biocbuild/bbs-3.17-bioc/R/bin/R CMD INSTALL exomeCopy
###
##############################################################################
##############################################################################


* installing to library ‘/home/biocbuild/bbs-3.17-bioc/R/site-library’
* installing *source* package ‘exomeCopy’ ...
** using staged installation
** libs
using C compiler: ‘gcc (Ubuntu 11.3.0-1ubuntu1~22.04) 11.3.0’
gcc -I"/home/biocbuild/bbs-3.17-bioc/R/include" -DNDEBUG   -I/usr/local/include    -fpic  -g -O2  -Wall -c exomeCopy.c -o exomeCopy.o
gcc -shared -L/home/biocbuild/bbs-3.17-bioc/R/lib -L/usr/local/lib -o exomeCopy.so exomeCopy.o -L/home/biocbuild/bbs-3.17-bioc/R/lib -lR
installing to /home/biocbuild/bbs-3.17-bioc/R/site-library/00LOCK-exomeCopy/00new/exomeCopy/libs
** R
** data
** inst
** byte-compile and prepare package for lazy loading
** help
*** installing help indices
** building package indices
** installing vignettes
** testing if installed package can be loaded from temporary location
** checking absolute paths in shared objects and dynamic libraries
** testing if installed package can be loaded from final location
** testing if installed package keeps a record of temporary installation path
* DONE (exomeCopy)

Tests output


Example timings

exomeCopy.Rcheck/exomeCopy-Ex.timings

nameusersystemelapsed
ExomeCopy-class0.0000.0010.001
compileCopyCountSegments2.5510.0342.584
copyCountSegments2.3210.0072.328
countBamInGRanges0.30.00.3
exomeCopy2.5730.0162.589
generateBackground0.1490.0000.149
getGCcontent0.0190.0000.019
negLogLike0.0090.0000.009
plot.exomeCopyObject2.5140.0122.525
plotCompiledCNV2.5060.0152.522
subdivideGRanges0.0730.0010.072