Back to Multiple platform build/check report for BioC 3.17:   simplified   long
ABCDEFGHIJKLM[N]OPQRSTUVWXYZ

This page was generated on 2023-03-31 11:03:14 -0400 (Fri, 31 Mar 2023).

HostnameOSArch (*)R versionInstalled pkgs
nebbiolo1Linux (Ubuntu 22.04.1 LTS)x86_64R Under development (unstable) (2023-03-16 r83996) -- "Unsuffered Consequences" 4547
palomino3Windows Server 2022 Datacenterx64R Under development (unstable) (2023-03-15 r83984 ucrt) -- "Unsuffered Consequences" 4308
Click on any hostname to see more info about the system (e.g. compilers)      (*) as reported by 'uname -p', except on Windows and Mac OS X

BUILD BIN results for NxtIRFcore on palomino3


To the developers/maintainers of the NxtIRFcore package:
- Allow up to 24 hours (and sometimes 48 hours) for your latest push to git@git.bioconductor.org:packages/NxtIRFcore.git to reflect on this report. See Troubleshooting Build Report for more information.

- Use the following Renviron settings to reproduce errors and warnings.

Note: If "R CMD check" recently failed on the Linux builder over a missing dependency, add the missing dependency to "Suggests" in your DESCRIPTION file. See the Renviron.bioc for details.

raw results

Package 1385/2195HostnameOS / ArchINSTALLBUILDCHECKBUILD BIN
NxtIRFcore 1.5.1  (landing page)
Alex Chit Hei Wong
Snapshot Date: 2023-03-30 14:00:16 -0400 (Thu, 30 Mar 2023)
git_url: https://git.bioconductor.org/packages/NxtIRFcore
git_branch: devel
git_last_commit: 19af033
git_last_commit_date: 2023-03-27 08:18:08 -0400 (Mon, 27 Mar 2023)
nebbiolo1Linux (Ubuntu 22.04.1 LTS) / x86_64  OK    OK    WARNINGS  UNNEEDED, same version is already published
palomino3Windows Server 2022 Datacenter / x64  OK    OK    WARNINGS    OK  UNNEEDED, same version is already published

Summary

Package: NxtIRFcore
Version: 1.5.1
Command: rm -rf NxtIRFcore.buildbin-libdir && mkdir NxtIRFcore.buildbin-libdir && F:\biocbuild\bbs-3.17-bioc\R\bin\R.exe CMD INSTALL --build --library=NxtIRFcore.buildbin-libdir NxtIRFcore_1.5.1.tar.gz
StartedAt: 2023-03-31 08:49:38 -0400 (Fri, 31 Mar 2023)
EndedAt: 2023-03-31 08:51:53 -0400 (Fri, 31 Mar 2023)
EllapsedTime: 135.4 seconds
RetCode: 0
Status:   OK  
PackageFile: NxtIRFcore_1.5.1.zip
PackageFileSize: 3.374 MiB

Command output

##############################################################################
##############################################################################
###
### Running command:
###
###   rm -rf NxtIRFcore.buildbin-libdir && mkdir NxtIRFcore.buildbin-libdir && F:\biocbuild\bbs-3.17-bioc\R\bin\R.exe CMD INSTALL --build --library=NxtIRFcore.buildbin-libdir NxtIRFcore_1.5.1.tar.gz
###
##############################################################################
##############################################################################


* installing *source* package 'NxtIRFcore' ...
** using staged installation
** libs
using C++ compiler: 'G__~1.EXE (GCC) 12.2.0'
using C++11
g++  -std=gnu++11 -I"F:/biocbuild/bbs-3.17-bioc/R/include" -DNDEBUG  -I'F:/biocbuild/bbs-3.17-bioc/R/library/Rcpp/include' -I'F:/biocbuild/bbs-3.17-bioc/R/library/zlibbioc/include' -I'F:/biocbuild/bbs-3.17-bioc/R/library/RcppProgress/include'   -I"C:/rtools43/x86_64-w64-mingw32.static.posix/include"  -fopenmp -DRNXTIRF   -O2 -Wall  -mfpmath=sse -msse2 -mstackrealign  -c BAM2blocks.cpp -o BAM2blocks.o
g++  -std=gnu++11 -I"F:/biocbuild/bbs-3.17-bioc/R/include" -DNDEBUG  -I'F:/biocbuild/bbs-3.17-bioc/R/library/Rcpp/include' -I'F:/biocbuild/bbs-3.17-bioc/R/library/zlibbioc/include' -I'F:/biocbuild/bbs-3.17-bioc/R/library/RcppProgress/include'   -I"C:/rtools43/x86_64-w64-mingw32.static.posix/include"  -fopenmp -DRNXTIRF   -O2 -Wall  -mfpmath=sse -msse2 -mstackrealign  -c FastaReader.cpp -o FastaReader.o
g++  -std=gnu++11 -I"F:/biocbuild/bbs-3.17-bioc/R/include" -DNDEBUG  -I'F:/biocbuild/bbs-3.17-bioc/R/library/Rcpp/include' -I'F:/biocbuild/bbs-3.17-bioc/R/library/zlibbioc/include' -I'F:/biocbuild/bbs-3.17-bioc/R/library/RcppProgress/include'   -I"C:/rtools43/x86_64-w64-mingw32.static.posix/include"  -fopenmp -DRNXTIRF   -O2 -Wall  -mfpmath=sse -msse2 -mstackrealign  -c FragmentBlocks.cpp -o FragmentBlocks.o
g++  -std=gnu++11 -I"F:/biocbuild/bbs-3.17-bioc/R/include" -DNDEBUG  -I'F:/biocbuild/bbs-3.17-bioc/R/library/Rcpp/include' -I'F:/biocbuild/bbs-3.17-bioc/R/library/zlibbioc/include' -I'F:/biocbuild/bbs-3.17-bioc/R/library/RcppProgress/include'   -I"C:/rtools43/x86_64-w64-mingw32.static.posix/include"  -fopenmp -DRNXTIRF   -O2 -Wall  -mfpmath=sse -msse2 -mstackrealign  -c GZTools.cpp -o GZTools.o
g++  -std=gnu++11 -I"F:/biocbuild/bbs-3.17-bioc/R/include" -DNDEBUG  -I'F:/biocbuild/bbs-3.17-bioc/R/library/Rcpp/include' -I'F:/biocbuild/bbs-3.17-bioc/R/library/zlibbioc/include' -I'F:/biocbuild/bbs-3.17-bioc/R/library/RcppProgress/include'   -I"C:/rtools43/x86_64-w64-mingw32.static.posix/include"  -fopenmp -DRNXTIRF   -O2 -Wall  -mfpmath=sse -msse2 -mstackrealign  -c IRFinder.cpp -o IRFinder.o
g++  -std=gnu++11 -I"F:/biocbuild/bbs-3.17-bioc/R/include" -DNDEBUG  -I'F:/biocbuild/bbs-3.17-bioc/R/library/Rcpp/include' -I'F:/biocbuild/bbs-3.17-bioc/R/library/zlibbioc/include' -I'F:/biocbuild/bbs-3.17-bioc/R/library/RcppProgress/include'   -I"C:/rtools43/x86_64-w64-mingw32.static.posix/include"  -fopenmp -DRNXTIRF   -O2 -Wall  -mfpmath=sse -msse2 -mstackrealign  -c RcppExports.cpp -o RcppExports.o
g++  -std=gnu++11 -I"F:/biocbuild/bbs-3.17-bioc/R/include" -DNDEBUG  -I'F:/biocbuild/bbs-3.17-bioc/R/library/Rcpp/include' -I'F:/biocbuild/bbs-3.17-bioc/R/library/zlibbioc/include' -I'F:/biocbuild/bbs-3.17-bioc/R/library/RcppProgress/include'   -I"C:/rtools43/x86_64-w64-mingw32.static.posix/include"  -fopenmp -DRNXTIRF   -O2 -Wall  -mfpmath=sse -msse2 -mstackrealign  -c ReadBlockProcessor.cpp -o ReadBlockProcessor.o
g++  -std=gnu++11 -I"F:/biocbuild/bbs-3.17-bioc/R/include" -DNDEBUG  -I'F:/biocbuild/bbs-3.17-bioc/R/library/Rcpp/include' -I'F:/biocbuild/bbs-3.17-bioc/R/library/zlibbioc/include' -I'F:/biocbuild/bbs-3.17-bioc/R/library/RcppProgress/include'   -I"C:/rtools43/x86_64-w64-mingw32.static.posix/include"  -fopenmp -DRNXTIRF   -O2 -Wall  -mfpmath=sse -msse2 -mstackrealign  -c ReadBlockProcessor_CoverageBlocks.cpp -o ReadBlockProcessor_CoverageBlocks.o
g++  -std=gnu++11 -I"F:/biocbuild/bbs-3.17-bioc/R/include" -DNDEBUG  -I'F:/biocbuild/bbs-3.17-bioc/R/library/Rcpp/include' -I'F:/biocbuild/bbs-3.17-bioc/R/library/zlibbioc/include' -I'F:/biocbuild/bbs-3.17-bioc/R/library/RcppProgress/include'   -I"C:/rtools43/x86_64-w64-mingw32.static.posix/include"  -fopenmp -DRNXTIRF   -O2 -Wall  -mfpmath=sse -msse2 -mstackrealign  -c covTools.cpp -o covTools.o
g++ -shared -s -static-libgcc -o NxtIRFcore.dll tmp.def BAM2blocks.o FastaReader.o FragmentBlocks.o GZTools.o IRFinder.o RcppExports.o ReadBlockProcessor.o ReadBlockProcessor_CoverageBlocks.o covTools.o -fopenmp -DRNXTIRF -LF:/biocbuild/bbs-3.17-bioc/R/library/zlibbioc/libs/x64 -lzlib1bioc -LC:/rtools43/x86_64-w64-mingw32.static.posix/lib/x64 -LC:/rtools43/x86_64-w64-mingw32.static.posix/lib -LF:/biocbuild/bbs-3.17-bioc/R/bin/x64 -lR
installing to F:/biocbuild/bbs-3.17-bioc/meat/NxtIRFcore.buildbin-libdir/00LOCK-NxtIRFcore/00new/NxtIRFcore/libs/x64
** R
** inst
** byte-compile and prepare package for lazy loading
** help
*** installing help indices
** building package indices
** installing vignettes
** testing if installed package can be loaded from temporary location
Warning: Package 'NxtIRFcore' is deprecated and will be removed from
  Bioconductor version 3.18
** testing if installed package can be loaded from final location
Warning: Package 'NxtIRFcore' is deprecated and will be removed from
  Bioconductor version 3.18
** testing if installed package keeps a record of temporary installation path
* MD5 sums
packaged installation of 'NxtIRFcore' as NxtIRFcore_1.5.1.zip
* DONE (NxtIRFcore)