Back to Multiple platform build/check report for BioC 3.17:   simplified   long
A[B]CDEFGHIJKLMNOPQRSTUVWXYZ

This page was generated on 2023-03-31 11:02:59 -0400 (Fri, 31 Mar 2023).

HostnameOSArch (*)R versionInstalled pkgs
nebbiolo1Linux (Ubuntu 22.04.1 LTS)x86_64R Under development (unstable) (2023-03-16 r83996) -- "Unsuffered Consequences" 4547
palomino3Windows Server 2022 Datacenterx64R Under development (unstable) (2023-03-15 r83984 ucrt) -- "Unsuffered Consequences" 4308
Click on any hostname to see more info about the system (e.g. compilers)      (*) as reported by 'uname -p', except on Windows and Mac OS X

BUILD results for BindingSiteFinder on palomino3


To the developers/maintainers of the BindingSiteFinder package:
- Allow up to 24 hours (and sometimes 48 hours) for your latest push to git@git.bioconductor.org:packages/BindingSiteFinder.git to reflect on this report. See Troubleshooting Build Report for more information.

- Use the following Renviron settings to reproduce errors and warnings.

Note: If "R CMD check" recently failed on the Linux builder over a missing dependency, add the missing dependency to "Suggests" in your DESCRIPTION file. See the Renviron.bioc for details.

raw results

Package 164/2195HostnameOS / ArchINSTALLBUILDCHECKBUILD BIN
BindingSiteFinder 1.5.0  (landing page)
Mirko Br├╝ggemann
Snapshot Date: 2023-03-30 14:00:16 -0400 (Thu, 30 Mar 2023)
git_url: https://git.bioconductor.org/packages/BindingSiteFinder
git_branch: devel
git_last_commit: 892dc6b
git_last_commit_date: 2022-11-01 11:25:21 -0400 (Tue, 01 Nov 2022)
nebbiolo1Linux (Ubuntu 22.04.1 LTS) / x86_64  OK    OK    OK  UNNEEDED, same version is already published
palomino3Windows Server 2022 Datacenter / x64  OK    OK    OK    OK  UNNEEDED, same version is already published

Summary

Package: BindingSiteFinder
Version: 1.5.0
Command: chmod a+r BindingSiteFinder -R && F:\biocbuild\bbs-3.17-bioc\R\bin\R.exe CMD build --keep-empty-dirs --no-resave-data BindingSiteFinder
StartedAt: 2023-03-30 17:24:59 -0400 (Thu, 30 Mar 2023)
EndedAt: 2023-03-30 17:27:42 -0400 (Thu, 30 Mar 2023)
EllapsedTime: 163.7 seconds
RetCode: 0
Status:   OK  
PackageFile: BindingSiteFinder_1.5.0.tar.gz
PackageFileSize: 1.632 MiB

Command output

##############################################################################
##############################################################################
###
### Running command:
###
###   chmod a+r BindingSiteFinder -R && F:\biocbuild\bbs-3.17-bioc\R\bin\R.exe CMD build --keep-empty-dirs --no-resave-data BindingSiteFinder
###
##############################################################################
##############################################################################


* checking for file 'BindingSiteFinder/DESCRIPTION' ... OK
* preparing 'BindingSiteFinder':
* checking DESCRIPTION meta-information ... OK
* installing the package to build vignettes
* creating vignettes ... OK
* checking for LF line-endings in source and make files and shell scripts
* checking for empty or unneeded directories
* building 'BindingSiteFinder_1.5.0.tar.gz'