Back to Multiple platform build/check report for BioC 3.17:   simplified   long
ABCDEFGHIJKL[M]NOPQRSTUVWXYZ

This page was generated on 2023-03-24 11:04:46 -0400 (Fri, 24 Mar 2023).

HostnameOSArch (*)R versionInstalled pkgs
nebbiolo1Linux (Ubuntu 22.04.1 LTS)x86_64R Under development (unstable) (2023-03-16 r83996) -- "Unsuffered Consequences" 4546
palomino3Windows Server 2022 Datacenterx64R Under development (unstable) (2023-03-15 r83984 ucrt) -- "Unsuffered Consequences" 4307
merida1macOS 10.14.6 Mojavex86_64R Under development (unstable) (2023-03-16 r83985) -- "Unsuffered Consequences" 4299
Click on any hostname to see more info about the system (e.g. compilers)      (*) as reported by 'uname -p', except on Windows and Mac OS X

All results for package mzR


To the developers/maintainers of the mzR package:
- Please allow up to 24 hours (and sometimes 48 hours) for your latest push to git@git.bioconductor.org:packages/mzR.git to
reflect on this report. See How and When does the builder pull? When will my changes propagate? for more information.
- Make sure to use the following settings in order to reproduce any error or warning you see on this page.

raw results

Package 1333/2195HostnameOS / ArchINSTALLBUILDCHECKBUILD BIN
mzR 2.33.0  (landing page)
Steffen Neumann
Snapshot Date: 2023-03-23 14:00:15 -0400 (Thu, 23 Mar 2023)
git_url: https://git.bioconductor.org/packages/mzR
git_branch: devel
git_last_commit: f2439b3
git_last_commit_date: 2022-11-01 11:06:10 -0400 (Tue, 01 Nov 2022)
nebbiolo1Linux (Ubuntu 22.04.1 LTS) / x86_64  OK    OK    WARNINGS  UNNEEDED, same version is already published
palomino3Windows Server 2022 Datacenter / x64  OK    OK    WARNINGS    OK  UNNEEDED, same version is already published
merida1macOS 10.14.6 Mojave / x86_64  OK    OK    WARNINGS    OK  UNNEEDED, same version is already published

Results for Bioconductor software packages that depend directly on package mzR

QUICK STATSOS / ArchINSTALLBUILDCHECKBUILD BIN
nebbiolo1Linux (Ubuntu 22.04.1 LTS) / x86_64
0013
0013
00310
palomino3Windows Server 2022 Datacenter / x64
0013
0013
00310
0013
merida1macOS 10.14.6 Mojave / x86_64
0013
0013
0139
0013
Package 1/13HostnameOS / ArchINSTALLBUILDCHECKBUILD BIN
adductomicsR 1.15.0  (landing page)
Josie Hayes
git_last_commit: 59528e1
git_last_commit_date: 2022-11-01 11:19:09 -0400
nebbiolo1Linux (Ubuntu 22.04.1 LTS) / x86_64  OK    OK    WARNINGS  UNNEEDED, same version is already published
palomino3Windows Server 2022 Datacenter / x64  OK    OK    WARNINGS    OK  UNNEEDED, same version is already published
merida1macOS 10.14.6 Mojave / x86_64  OK    OK    WARNINGS    OK  UNNEEDED, same version is already published
Package 2/13HostnameOS / ArchINSTALLBUILDCHECKBUILD BIN
CluMSID 1.15.0  (landing page)
Tobias Depke
git_last_commit: fa7f0d8
git_last_commit_date: 2022-11-01 11:19:03 -0400
nebbiolo1Linux (Ubuntu 22.04.1 LTS) / x86_64  OK    OK    WARNINGS  UNNEEDED, same version is already published
palomino3Windows Server 2022 Datacenter / x64  OK    OK    WARNINGS    OK  UNNEEDED, same version is already published
merida1macOS 10.14.6 Mojave / x86_64  OK    OK    WARNINGS    OK  UNNEEDED, same version is already published
Package 3/13HostnameOS / ArchINSTALLBUILDCHECKBUILD BIN
DIAlignR 2.7.0  (landing page)
Shubham Gupta
git_last_commit: 638c567
git_last_commit_date: 2023-03-23 00:29:24 -0400
nebbiolo1Linux (Ubuntu 22.04.1 LTS) / x86_64  OK    OK    OK  UNNEEDED, same version is already published
palomino3Windows Server 2022 Datacenter / x64  OK    OK    OK    OK  UNNEEDED, same version is already published
merida1macOS 10.14.6 Mojave / x86_64  OK    OK    OK    OK  UNNEEDED, same version is already published
Package 4/13HostnameOS / ArchINSTALLBUILDCHECKBUILD BIN
MSnbase 2.25.2  (landing page)
Laurent Gatto
git_last_commit: 90707ae
git_last_commit_date: 2023-02-17 12:17:08 -0400
nebbiolo1Linux (Ubuntu 22.04.1 LTS) / x86_64  OK    OK    OK  UNNEEDED, same version is already published
palomino3Windows Server 2022 Datacenter / x64  OK    OK    OK    OK  UNNEEDED, same version is already published
merida1macOS 10.14.6 Mojave / x86_64  OK    OK    OK    OK  UNNEEDED, same version is already published
Package 5/13HostnameOS / ArchINSTALLBUILDCHECKBUILD BIN
MSnID 1.33.0  (landing page)
Vlad Petyuk
git_last_commit: 981bf32
git_last_commit_date: 2022-11-01 11:10:19 -0400
nebbiolo1Linux (Ubuntu 22.04.1 LTS) / x86_64  OK    OK    OK  UNNEEDED, same version is already published
palomino3Windows Server 2022 Datacenter / x64  OK    OK    OK    OK  UNNEEDED, same version is already published
merida1macOS 10.14.6 Mojave / x86_64  OK    OK    OK    OK  UNNEEDED, same version is already published
Package 6/13HostnameOS / ArchINSTALLBUILDCHECKBUILD BIN
msPurity 1.25.0  (landing page)
Thomas N. Lawson
git_last_commit: d644313
git_last_commit_date: 2022-11-01 11:13:46 -0400
nebbiolo1Linux (Ubuntu 22.04.1 LTS) / x86_64  OK    OK    OK  UNNEEDED, same version is already published
palomino3Windows Server 2022 Datacenter / x64  OK    OK    OK    OK  UNNEEDED, same version is already published
merida1macOS 10.14.6 Mojave / x86_64  OK    OK    OK    OK  UNNEEDED, same version is already published
Package 7/13HostnameOS / ArchINSTALLBUILDCHECKBUILD BIN
peakPantheR 1.13.1  (landing page)
Arnaud Wolfer
git_last_commit: 556094d
git_last_commit_date: 2022-12-12 12:38:17 -0400
nebbiolo1Linux (Ubuntu 22.04.1 LTS) / x86_64  OK    OK    OK  UNNEEDED, same version is already published
palomino3Windows Server 2022 Datacenter / x64  OK    OK    OK    OK  UNNEEDED, same version is already published
merida1macOS 10.14.6 Mojave / x86_64  OK    OK    ERROR    OK  
Package 8/13HostnameOS / ArchINSTALLBUILDCHECKBUILD BIN
RMassBank 3.9.0  (landing page)
RMassBank at Eawag
git_last_commit: b05aa95
git_last_commit_date: 2022-11-01 11:07:13 -0400
nebbiolo1Linux (Ubuntu 22.04.1 LTS) / x86_64  OK    OK    WARNINGS  UNNEEDED, same version is already published
palomino3Windows Server 2022 Datacenter / x64  OK    OK    WARNINGS    OK  UNNEEDED, same version is already published
merida1macOS 10.14.6 Mojave / x86_64  OK    OK    WARNINGS    OK  UNNEEDED, same version is already published
Package 9/13HostnameOS / ArchINSTALLBUILDCHECKBUILD BIN
SIMAT 1.31.0  (landing page)
M. R. Nezami Ranjbar
git_last_commit: 9be08e0
git_last_commit_date: 2022-11-01 11:11:17 -0400
nebbiolo1Linux (Ubuntu 22.04.1 LTS) / x86_64  OK    OK    OK  UNNEEDED, same version is already published
palomino3Windows Server 2022 Datacenter / x64  OK    OK    OK    OK  UNNEEDED, same version is already published
merida1macOS 10.14.6 Mojave / x86_64  OK    OK    OK    OK  UNNEEDED, same version is already published
Package 10/13HostnameOS / ArchINSTALLBUILDCHECKBUILD BIN
TargetDecoy 1.5.0  (landing page)
Elke Debrie
git_last_commit: 16e2a5d
git_last_commit_date: 2022-11-01 11:26:03 -0400
nebbiolo1Linux (Ubuntu 22.04.1 LTS) / x86_64  OK    OK    OK  UNNEEDED, same version is already published
palomino3Windows Server 2022 Datacenter / x64  OK    OK    OK    OK  UNNEEDED, same version is already published
merida1macOS 10.14.6 Mojave / x86_64  OK    OK    OK    OK  UNNEEDED, same version is already published
Package 11/13HostnameOS / ArchINSTALLBUILDCHECKBUILD BIN
topdownr 1.21.0  (landing page)
Sebastian Gibb
git_last_commit: 4298e88
git_last_commit_date: 2022-11-01 11:16:38 -0400
nebbiolo1Linux (Ubuntu 22.04.1 LTS) / x86_64  OK    OK    OK  UNNEEDED, same version is already published
palomino3Windows Server 2022 Datacenter / x64  OK    OK    OK    OK  UNNEEDED, same version is already published
merida1macOS 10.14.6 Mojave / x86_64  OK    OK    OK    OK  UNNEEDED, same version is already published
Package 12/13HostnameOS / ArchINSTALLBUILDCHECKBUILD BIN
xcms 3.21.3  (landing page)
Steffen Neumann
git_last_commit: c00b35a
git_last_commit_date: 2023-03-13 13:12:56 -0400
nebbiolo1Linux (Ubuntu 22.04.1 LTS) / x86_64  OK    OK    OK  UNNEEDED, same version is already published
palomino3Windows Server 2022 Datacenter / x64  OK    OK    OK    OK  UNNEEDED, same version is already published
merida1macOS 10.14.6 Mojave / x86_64  OK    OK    OK    OK  UNNEEDED, same version is already published
Package 13/13HostnameOS / ArchINSTALLBUILDCHECKBUILD BIN
yamss 1.25.0  (landing page)
Leslie Myint
git_last_commit: 8865015
git_last_commit_date: 2022-11-01 11:14:47 -0400
nebbiolo1Linux (Ubuntu 22.04.1 LTS) / x86_64  OK    OK    OK  UNNEEDED, same version is already published
palomino3Windows Server 2022 Datacenter / x64  OK    OK    OK    OK  UNNEEDED, same version is already published
merida1macOS 10.14.6 Mojave / x86_64  OK    OK    OK    OK  UNNEEDED, same version is already published