Back to Multiple platform build/check report for BioC 3.17: simplified long |
|
This page was generated on 2023-10-16 11:36:32 -0400 (Mon, 16 Oct 2023).
Hostname | OS | Arch (*) | R version | Installed pkgs |
---|---|---|---|---|
nebbiolo1 | Linux (Ubuntu 22.04.2 LTS) | x86_64 | 4.3.1 (2023-06-16) -- "Beagle Scouts" | 4626 |
palomino3 | Windows Server 2022 Datacenter | x64 | 4.3.1 (2023-06-16 ucrt) -- "Beagle Scouts" | 4379 |
merida1 | macOS 12.6.4 Monterey | x86_64 | 4.3.1 (2023-06-16) -- "Beagle Scouts" | 4395 |
Click on any hostname to see more info about the system (e.g. compilers) (*) as reported by 'uname -p', except on Windows and Mac OS X |
Package 1663/2230 | Hostname | OS / Arch | INSTALL | BUILD | CHECK | BUILD BIN | ||||||||
ReactomeGSA 1.14.0 (landing page) Johannes Griss
| nebbiolo1 | Linux (Ubuntu 22.04.2 LTS) / x86_64 | OK | OK | ERROR | |||||||||
palomino3 | Windows Server 2022 Datacenter / x64 | OK | OK | OK | OK | |||||||||
merida1 | macOS 12.6.4 Monterey / x86_64 | OK | OK | OK | OK | |||||||||
kjohnson2 | macOS 12.6.1 Monterey / arm64 | see weekly results here | ||||||||||||
To the developers/maintainers of the ReactomeGSA package: - Allow up to 24 hours (and sometimes 48 hours) for your latest push to git@git.bioconductor.org:packages/ReactomeGSA.git to reflect on this report. See Troubleshooting Build Report for more information. - Use the following Renviron settings to reproduce errors and warnings. - If 'R CMD check' started to fail recently on the Linux builder(s) over a missing dependency, add the missing dependency to 'Suggests:' in your DESCRIPTION file. See Renviron.bioc for more information. |
Package: ReactomeGSA |
Version: 1.14.0 |
Command: F:\biocbuild\bbs-3.17-bioc\R\bin\R.exe CMD check --no-multiarch --install=check:ReactomeGSA.install-out.txt --library=F:\biocbuild\bbs-3.17-bioc\R\library --no-vignettes --timings ReactomeGSA_1.14.0.tar.gz |
StartedAt: 2023-10-16 05:46:40 -0400 (Mon, 16 Oct 2023) |
EndedAt: 2023-10-16 06:02:11 -0400 (Mon, 16 Oct 2023) |
EllapsedTime: 931.1 seconds |
RetCode: 0 |
Status: OK |
CheckDir: ReactomeGSA.Rcheck |
Warnings: 0 |
############################################################################## ############################################################################## ### ### Running command: ### ### F:\biocbuild\bbs-3.17-bioc\R\bin\R.exe CMD check --no-multiarch --install=check:ReactomeGSA.install-out.txt --library=F:\biocbuild\bbs-3.17-bioc\R\library --no-vignettes --timings ReactomeGSA_1.14.0.tar.gz ### ############################################################################## ############################################################################## * using log directory 'F:/biocbuild/bbs-3.17-bioc/meat/ReactomeGSA.Rcheck' * using R version 4.3.1 (2023-06-16 ucrt) * using platform: x86_64-w64-mingw32 (64-bit) * R was compiled by gcc.exe (GCC) 12.2.0 GNU Fortran (GCC) 12.2.0 * running under: Windows Server 2022 x64 (build 20348) * using session charset: UTF-8 * using option '--no-vignettes' * checking for file 'ReactomeGSA/DESCRIPTION' ... OK * checking extension type ... Package * this is package 'ReactomeGSA' version '1.14.0' * package encoding: UTF-8 * checking package namespace information ... OK * checking package dependencies ... OK * checking if this is a source package ... OK * checking if there is a namespace ... OK * checking for hidden files and directories ... OK * checking for portable file names ... OK * checking whether package 'ReactomeGSA' can be installed ... OK * checking installed package size ... OK * checking package directory ... OK * checking 'build' directory ... OK * checking DESCRIPTION meta-information ... OK * checking top-level files ... OK * checking for left-over files ... OK * checking index information ... OK * checking package subdirectories ... OK * checking R files for non-ASCII characters ... OK * checking R files for syntax errors ... OK * checking whether the package can be loaded ... OK * checking whether the package can be loaded with stated dependencies ... OK * checking whether the package can be unloaded cleanly ... OK * checking whether the namespace can be loaded with stated dependencies ... OK * checking whether the namespace can be unloaded cleanly ... OK * checking startup messages can be suppressed ... OK * checking dependencies in R code ... OK * checking S3 generic/method consistency ... OK * checking replacement functions ... OK * checking foreign function calls ... OK * checking R code for possible problems ... NOTE plot_correlations,ReactomeAnalysisResult: no visible binding for global variable 'combined_sig' plot_correlations,ReactomeAnalysisResult: no visible binding for global variable 'alpha' plot_gsva_pathway,ReactomeAnalysisResult: no visible binding for global variable 'cluster_id' plot_gsva_pathway,ReactomeAnalysisResult: no visible binding for global variable 'expr' plot_gsva_pca,ReactomeAnalysisResult: no visible binding for global variable 'gsva_result' plot_gsva_pca,ReactomeAnalysisResult: no visible binding for global variable 'PC1' plot_gsva_pca,ReactomeAnalysisResult: no visible binding for global variable 'PC2' plot_heatmap,ReactomeAnalysisResult: no visible global function definition for 'desc' plot_heatmap,ReactomeAnalysisResult: no visible binding for global variable 'n_sig' plot_heatmap,ReactomeAnalysisResult: no visible binding for global variable 'dataset' plot_heatmap,ReactomeAnalysisResult: no visible binding for global variable 'Name' plot_volcano,ReactomeAnalysisResult: no visible binding for global variable 'av_foldchange' plot_volcano,ReactomeAnalysisResult: no visible binding for global variable 'FDR' Undefined global functions or variables: FDR Name PC1 PC2 alpha av_foldchange cluster_id combined_sig dataset desc expr gsva_result n_sig * checking Rd files ... OK * checking Rd metadata ... OK * checking Rd cross-references ... OK * checking for missing documentation entries ... OK * checking for code/documentation mismatches ... OK * checking Rd \usage sections ... OK * checking Rd contents ... OK * checking for unstated dependencies in examples ... OK * checking files in 'vignettes' ... OK * checking examples ... OK Examples with CPU (user + system) or elapsed time > 5s user system elapsed analyse_sc_clusters-Seurat-method 33.76 1.94 103.45 plot_gsva_heatmap-ReactomeAnalysisResult-method 32.81 1.29 91.64 analyse_sc_clusters 31.46 1.64 92.41 plot_gsva_heatmap 31.27 1.55 92.17 analyse_sc_clusters-SingleCellExperiment-method 30.54 2.06 89.34 plot_gsva_pathway-ReactomeAnalysisResult-method 31.41 1.03 98.11 plot_gsva_pathway 30.03 0.99 95.19 plot_gsva_pca-ReactomeAnalysisResult-method 29.80 1.09 90.86 plot_gsva_pca 28.75 1.08 89.17 ReactomeAnalysisRequest 4.36 0.50 5.80 perform_reactome_analysis 1.78 0.02 17.68 * checking for unstated dependencies in 'tests' ... OK * checking tests ... Running 'testthat.R' OK * checking for unstated dependencies in vignettes ... OK * checking package vignettes in 'inst/doc' ... OK * checking running R code from vignettes ... SKIPPED * checking re-building of vignette outputs ... SKIPPED * checking PDF version of manual ... OK * DONE Status: 1 NOTE See 'F:/biocbuild/bbs-3.17-bioc/meat/ReactomeGSA.Rcheck/00check.log' for details.
ReactomeGSA.Rcheck/00install.out
############################################################################## ############################################################################## ### ### Running command: ### ### F:\biocbuild\bbs-3.17-bioc\R\bin\R.exe CMD INSTALL ReactomeGSA ### ############################################################################## ############################################################################## * installing to library 'F:/biocbuild/bbs-3.17-bioc/R/library' * installing *source* package 'ReactomeGSA' ... ** using staged installation ** R ** inst ** byte-compile and prepare package for lazy loading in method for 'analyse_sc_clusters' with signature 'object="Seurat"': no definition for class "Seurat" in method for 'analyse_sc_clusters' with signature 'object="SingleCellExperiment"': no definition for class "SingleCellExperiment" in method for 'add_dataset' with signature 'request="ReactomeAnalysisRequest",expression_values="EList"': no definition for class "EList" in method for 'add_dataset' with signature 'request="ReactomeAnalysisRequest",expression_values="DGEList"': no definition for class "DGEList" in method for 'add_dataset' with signature 'request="ReactomeAnalysisRequest",expression_values="ExpressionSet"': no definition for class "ExpressionSet" ** help *** installing help indices ** building package indices ** installing vignettes ** testing if installed package can be loaded from temporary location ** testing if installed package can be loaded from final location ** testing if installed package keeps a record of temporary installation path * DONE (ReactomeGSA)
ReactomeGSA.Rcheck/tests/testthat.Rout
R version 4.3.1 (2023-06-16 ucrt) -- "Beagle Scouts" Copyright (C) 2023 The R Foundation for Statistical Computing Platform: x86_64-w64-mingw32/x64 (64-bit) R is free software and comes with ABSOLUTELY NO WARRANTY. You are welcome to redistribute it under certain conditions. Type 'license()' or 'licence()' for distribution details. R is a collaborative project with many contributors. Type 'contributors()' for more information and 'citation()' on how to cite R or R packages in publications. Type 'demo()' for some demos, 'help()' for on-line help, or 'help.start()' for an HTML browser interface to help. Type 'q()' to quit R. > library(testthat) > library(ReactomeGSA) > > test_check("ReactomeGSA") [ FAIL 0 | WARN 0 | SKIP 0 | PASS 17 ] > > proc.time() user system elapsed 0.98 0.23 1.40
ReactomeGSA.Rcheck/ReactomeGSA-Ex.timings
name | user | system | elapsed | |
ReactomeAnalysisRequest | 4.36 | 0.50 | 5.80 | |
ReactomeAnalysisResult-class | 1.30 | 0.04 | 1.36 | |
add_dataset-ReactomeAnalysisRequest-DGEList-method | 0.77 | 0.13 | 0.89 | |
add_dataset-ReactomeAnalysisRequest-EList-method | 0.79 | 0.14 | 0.94 | |
add_dataset-ReactomeAnalysisRequest-ExpressionSet-method | 0.77 | 0.02 | 0.78 | |
add_dataset-ReactomeAnalysisRequest-data.frame-method | 0.66 | 0.03 | 0.69 | |
add_dataset-ReactomeAnalysisRequest-matrix-method | 0.98 | 0.06 | 1.04 | |
add_dataset | 0.77 | 0.11 | 0.88 | |
analyse_sc_clusters-Seurat-method | 33.76 | 1.94 | 103.45 | |
analyse_sc_clusters-SingleCellExperiment-method | 30.54 | 2.06 | 89.34 | |
analyse_sc_clusters | 31.46 | 1.64 | 92.41 | |
get_reactome_data_types | 0.01 | 0.00 | 1.06 | |
get_reactome_methods | 0.03 | 0.00 | 1.36 | |
get_result-ReactomeAnalysisResult-method | 0.16 | 0.02 | 0.17 | |
get_result | 0.16 | 0.00 | 0.16 | |
names-ReactomeAnalysisResult-method | 0.14 | 0.02 | 0.15 | |
open_reactome-ReactomeAnalysisResult-method | 0.12 | 0.04 | 0.17 | |
open_reactome | 0.16 | 0.00 | 0.16 | |
pathways-ReactomeAnalysisResult-method | 1.11 | 0.02 | 1.13 | |
pathways | 1.47 | 0.03 | 1.50 | |
perform_reactome_analysis | 1.78 | 0.02 | 17.68 | |
plot_correlations-ReactomeAnalysisResult-method | 1.17 | 0.03 | 1.21 | |
plot_correlations | 1.17 | 0.00 | 1.17 | |
plot_gsva_heatmap-ReactomeAnalysisResult-method | 32.81 | 1.29 | 91.64 | |
plot_gsva_heatmap | 31.27 | 1.55 | 92.17 | |
plot_gsva_pathway-ReactomeAnalysisResult-method | 31.41 | 1.03 | 98.11 | |
plot_gsva_pathway | 30.03 | 0.99 | 95.19 | |
plot_gsva_pca-ReactomeAnalysisResult-method | 29.80 | 1.09 | 90.86 | |
plot_gsva_pca | 28.75 | 1.08 | 89.17 | |
plot_heatmap-ReactomeAnalysisResult-method | 1.38 | 0.00 | 1.38 | |
plot_heatmap | 1.37 | 0.01 | 1.39 | |
plot_volcano-ReactomeAnalysisResult-method | 0.14 | 0.02 | 0.16 | |
plot_volcano | 0.16 | 0.02 | 0.17 | |
print-ReactomeAnalysisRequest-method | 0 | 0 | 0 | |
print-ReactomeAnalysisResult-method | 0.14 | 0.02 | 0.16 | |
reactome_links-ReactomeAnalysisResult-method | 0.12 | 0.01 | 0.14 | |
reactome_links | 0.16 | 0.02 | 0.17 | |
result_types-ReactomeAnalysisResult-method | 0.13 | 0.01 | 0.14 | |
result_types | 0.14 | 0.02 | 0.16 | |
set_method-ReactomeAnalysisRequest-method | 0.00 | 0.01 | 0.01 | |
set_method | 0 | 0 | 0 | |
set_parameters-ReactomeAnalysisRequest-method | 0 | 0 | 0 | |
set_parameters | 0 | 0 | 0 | |
show-ReactomeAnalysisRequest-method | 0 | 0 | 0 | |
show-ReactomeAnalysisResult-method | 0.13 | 0.04 | 0.16 | |