Back to Multiple platform build/check report for BioC 3.17:   simplified   long
ABCDEFGHIJKLMNOPQRS[T]UVWXYZ

This page was generated on 2023-09-27 11:36:06 -0400 (Wed, 27 Sep 2023).

HostnameOSArch (*)R versionInstalled pkgs
nebbiolo1Linux (Ubuntu 22.04.2 LTS)x86_644.3.1 (2023-06-16) -- "Beagle Scouts" 4625
palomino3Windows Server 2022 Datacenterx644.3.1 (2023-06-16 ucrt) -- "Beagle Scouts" 4378
merida1macOS 12.6.4 Montereyx86_644.3.1 (2023-06-16) -- "Beagle Scouts" 4394
Click on any hostname to see more info about the system (e.g. compilers)      (*) as reported by 'uname -p', except on Windows and Mac OS X

Package 2106/2230HostnameOS / ArchINSTALLBUILDCHECKBUILD BIN
tLOH 1.8.0  (landing page)
Michelle Webb
Snapshot Date: 2023-09-26 14:00:14 -0400 (Tue, 26 Sep 2023)
git_url: https://git.bioconductor.org/packages/tLOH
git_branch: RELEASE_3_17
git_last_commit: d7cef77
git_last_commit_date: 2023-04-25 11:29:06 -0400 (Tue, 25 Apr 2023)
nebbiolo1Linux (Ubuntu 22.04.2 LTS) / x86_64  OK    OK    OK  UNNEEDED, same version is already published
palomino3Windows Server 2022 Datacenter / x64  OK    OK    OK    OK  UNNEEDED, same version is already published
merida1macOS 12.6.4 Monterey / x86_64  OK    OK    OK    OK  UNNEEDED, same version is already published

CHECK results for tLOH on nebbiolo1


To the developers/maintainers of the tLOH package:
- Allow up to 24 hours (and sometimes 48 hours) for your latest push to git@git.bioconductor.org:packages/tLOH.git to reflect on this report. See Troubleshooting Build Report for more information.
- Use the following Renviron settings to reproduce errors and warnings.
- If 'R CMD check' started to fail recently on the Linux builder(s) over a missing dependency, add the missing dependency to 'Suggests:' in your DESCRIPTION file. See Renviron.bioc for more information.

raw results


Summary

Package: tLOH
Version: 1.8.0
Command: /home/biocbuild/bbs-3.17-bioc/R/bin/R CMD check --install=check:tLOH.install-out.txt --library=/home/biocbuild/bbs-3.17-bioc/R/site-library --timings tLOH_1.8.0.tar.gz
StartedAt: 2023-09-27 01:55:35 -0400 (Wed, 27 Sep 2023)
EndedAt: 2023-09-27 02:06:13 -0400 (Wed, 27 Sep 2023)
EllapsedTime: 638.3 seconds
RetCode: 0
Status:   OK  
CheckDir: tLOH.Rcheck
Warnings: 0

Command output

##############################################################################
##############################################################################
###
### Running command:
###
###   /home/biocbuild/bbs-3.17-bioc/R/bin/R CMD check --install=check:tLOH.install-out.txt --library=/home/biocbuild/bbs-3.17-bioc/R/site-library --timings tLOH_1.8.0.tar.gz
###
##############################################################################
##############################################################################


* using log directory ‘/home/biocbuild/bbs-3.17-bioc/meat/tLOH.Rcheck’
* using R version 4.3.1 (2023-06-16)
* using platform: x86_64-pc-linux-gnu (64-bit)
* R was compiled by
    gcc (Ubuntu 11.3.0-1ubuntu1~22.04.1) 11.3.0
    GNU Fortran (Ubuntu 11.3.0-1ubuntu1~22.04.1) 11.3.0
* running under: Ubuntu 22.04.3 LTS
* using session charset: UTF-8
* checking for file ‘tLOH/DESCRIPTION’ ... OK
* checking extension type ... Package
* this is package ‘tLOH’ version ‘1.8.0’
* package encoding: UTF-8
* checking package namespace information ... OK
* checking package dependencies ... OK
* checking if this is a source package ... OK
* checking if there is a namespace ... OK
* checking for hidden files and directories ... OK
* checking for portable file names ... OK
* checking for sufficient/correct file permissions ... OK
* checking whether package ‘tLOH’ can be installed ... OK
* checking installed package size ... OK
* checking package directory ... OK
* checking ‘build’ directory ... OK
* checking DESCRIPTION meta-information ... OK
* checking top-level files ... OK
* checking for left-over files ... OK
* checking index information ... OK
* checking package subdirectories ... NOTE
Problems with news in ‘NEWS.md’:
No news entries found.
* checking R files for non-ASCII characters ... OK
* checking R files for syntax errors ... OK
* checking whether the package can be loaded ... OK
* checking whether the package can be loaded with stated dependencies ... OK
* checking whether the package can be unloaded cleanly ... OK
* checking whether the namespace can be loaded with stated dependencies ... OK
* checking whether the namespace can be unloaded cleanly ... OK
* checking loading without being on the library search path ... OK
* checking dependencies in R code ... OK
* checking S3 generic/method consistency ... OK
* checking replacement functions ... OK
* checking foreign function calls ... OK
* checking R code for possible problems ... OK
* checking Rd files ... OK
* checking Rd metadata ... OK
* checking Rd cross-references ... OK
* checking for missing documentation entries ... OK
* checking for code/documentation mismatches ... OK
* checking Rd \usage sections ... OK
* checking Rd contents ... OK
* checking for unstated dependencies in examples ... OK
* checking contents of ‘data’ directory ... OK
* checking data for non-ASCII characters ... OK
* checking data for ASCII and uncompressed saves ... OK
* checking files in ‘vignettes’ ... OK
* checking examples ... OK
Examples with CPU (user + system) or elapsed time > 5s
                       user system elapsed
hiddenMarkovAnalysis 63.112  1.320  64.421
regionAnalysis       58.950  0.444  63.779
runHMM_2             42.392  0.232  42.625
runHMM_3             41.516  0.120  41.636
runHMM_1             31.551  0.144  36.609
tLOHCalcUpdate       23.782  0.064  23.846
prepareHMMdataframes 23.372  0.128  23.500
splitByChromosome    22.857  0.016  22.872
aggregateCHRPlot      6.944  0.512   7.447
alleleFrequencyPlot   5.385  0.192   5.577
* checking for unstated dependencies in vignettes ... OK
* checking package vignettes in ‘inst/doc’ ... OK
* checking running R code from vignettes ...
  ‘tLOH_vignette.Rmd’ using ‘UTF-8’... OK
 NONE
* checking re-building of vignette outputs ... OK
* checking PDF version of manual ... OK
* DONE

Status: 1 NOTE
See
  ‘/home/biocbuild/bbs-3.17-bioc/meat/tLOH.Rcheck/00check.log’
for details.



Installation output

tLOH.Rcheck/00install.out

##############################################################################
##############################################################################
###
### Running command:
###
###   /home/biocbuild/bbs-3.17-bioc/R/bin/R CMD INSTALL tLOH
###
##############################################################################
##############################################################################


* installing to library ‘/home/biocbuild/bbs-3.17-bioc/R/site-library’
* installing *source* package ‘tLOH’ ...
** using staged installation
** R
** data
** inst
** byte-compile and prepare package for lazy loading
** help
*** installing help indices
** building package indices
** installing vignettes
** testing if installed package can be loaded from temporary location
** testing if installed package can be loaded from final location
** testing if installed package keeps a record of temporary installation path
* DONE (tLOH)

Tests output


Example timings

tLOH.Rcheck/tLOH-Ex.timings

nameusersystemelapsed
aggregateCHRPlot6.9440.5127.447
alleleFrequencyPlot5.3850.1925.577
documentErrorRegions0.0000.0020.002
hiddenMarkovAnalysis63.112 1.32064.421
humanGBMsampleAC0.0360.0040.039
initialStartProbabilities0.0010.0000.001
marginalLikelihoodM10.0000.0020.003
marginalLikelihoodM20.0000.0010.002
marginalM1Calc000
marginalM2CalcBHET0.0010.0000.001
marginalM2CalcBLOH0.0010.0000.001
modePeakCalc0.0010.0000.001
prepareHMMdataframes23.372 0.12823.500
regionAnalysis58.950 0.44463.779
regionFinalize0.0010.0000.000
removeOutlierFromCalc0.0010.0000.001
runHMM_131.551 0.14436.609
runHMM_242.392 0.23242.625
runHMM_341.516 0.12041.636
splitByChromosome22.857 0.01622.872
summarizeRegions10.0010.0000.001
summarizeRegions2000
tLOHCalc4.0580.0484.106
tLOHCalcUpdate23.782 0.06423.846
tLOHDataImport000