Back to Build/check report for BioC 3.17: simplified long |
|
This page was generated on 2023-03-30 12:33:42 -0400 (Thu, 30 Mar 2023).
Hostname | OS | Arch (*) | R version | Installed pkgs |
---|---|---|---|---|
nebbiolo1 | Linux (Ubuntu 22.04.1 LTS) | x86_64 | R Under development (unstable) (2023-03-16 r83996) -- "Unsuffered Consequences" | 4547 |
Click on any hostname to see more info about the system (e.g. compilers) (*) as reported by 'uname -p', except on Windows and Mac OS X |
To the developers/maintainers of the cn.mops package: - Allow up to 24 hours (and sometimes 48 hours) for your latest push to git@git.bioconductor.org:packages/cn.mops.git to reflect on this report. See Troubleshooting Build Report for more information. - Use the following Renviron settings to reproduce errors and warnings. Note: If "R CMD check" recently failed on the Linux builder over a missing dependency, add the missing dependency to "Suggests" in your DESCRIPTION file. See the Renviron.bioc for details. |
Package 370/2195 | Hostname | OS / Arch | INSTALL | BUILD | CHECK | BUILD BIN | ||||||||
cn.mops 1.45.0 (landing page) Gundula Povysil
| nebbiolo1 | Linux (Ubuntu 22.04.1 LTS) / x86_64 | OK | OK | OK | ![]() | ||||||||
Package: cn.mops |
Version: 1.45.0 |
Command: /home/biocbuild/bbs-3.17-bioc/R/bin/R CMD check --install=check:cn.mops.install-out.txt --library=/home/biocbuild/bbs-3.17-bioc/R/site-library --timings cn.mops_1.45.0.tar.gz |
StartedAt: 2023-03-29 19:23:02 -0400 (Wed, 29 Mar 2023) |
EndedAt: 2023-03-29 19:26:56 -0400 (Wed, 29 Mar 2023) |
EllapsedTime: 233.8 seconds |
RetCode: 0 |
Status: OK |
CheckDir: cn.mops.Rcheck |
Warnings: 0 |
############################################################################## ############################################################################## ### ### Running command: ### ### /home/biocbuild/bbs-3.17-bioc/R/bin/R CMD check --install=check:cn.mops.install-out.txt --library=/home/biocbuild/bbs-3.17-bioc/R/site-library --timings cn.mops_1.45.0.tar.gz ### ############################################################################## ############################################################################## * using log directory ‘/home/biocbuild/bbs-3.17-bioc/meat/cn.mops.Rcheck’ * using R Under development (unstable) (2023-03-16 r83996) * using platform: x86_64-pc-linux-gnu (64-bit) * R was compiled by gcc (Ubuntu 11.3.0-1ubuntu1~22.04) 11.3.0 GNU Fortran (Ubuntu 11.3.0-1ubuntu1~22.04) 11.3.0 * running under: Ubuntu 22.04.2 LTS * using session charset: UTF-8 * checking for file ‘cn.mops/DESCRIPTION’ ... OK * checking extension type ... Package * this is package ‘cn.mops’ version ‘1.45.0’ * checking package namespace information ... OK * checking package dependencies ... OK * checking if this is a source package ... OK * checking if there is a namespace ... OK * checking for hidden files and directories ... OK * checking for portable file names ... OK * checking for sufficient/correct file permissions ... OK * checking whether package ‘cn.mops’ can be installed ... OK * used C compiler: ‘gcc (Ubuntu 11.3.0-1ubuntu1~22.04) 11.3.0’ * used C++ compiler: ‘g++ (Ubuntu 11.3.0-1ubuntu1~22.04) 11.3.0’ * checking installed package size ... OK * checking package directory ... OK * checking ‘build’ directory ... OK * checking DESCRIPTION meta-information ... OK * checking top-level files ... OK * checking for left-over files ... OK * checking index information ... OK * checking package subdirectories ... OK * checking R files for non-ASCII characters ... OK * checking R files for syntax errors ... OK * checking whether the package can be loaded ... OK * checking whether the package can be loaded with stated dependencies ... OK * checking whether the package can be unloaded cleanly ... OK * checking whether the namespace can be loaded with stated dependencies ... OK * checking whether the namespace can be unloaded cleanly ... OK * checking loading without being on the library search path ... OK * checking startup messages can be suppressed ... OK * checking dependencies in R code ... OK * checking S3 generic/method consistency ... OK * checking replacement functions ... OK * checking foreign function calls ... OK * checking R code for possible problems ... OK * checking Rd files ... OK * checking Rd metadata ... OK * checking Rd cross-references ... OK * checking for missing documentation entries ... OK * checking for code/documentation mismatches ... OK * checking Rd \usage sections ... OK * checking Rd contents ... OK * checking for unstated dependencies in examples ... OK * checking contents of ‘data’ directory ... OK * checking data for non-ASCII characters ... OK * checking data for ASCII and uncompressed saves ... OK * checking line endings in C/C++/Fortran sources/headers ... OK * checking compiled code ... NOTE Note: information on .o files is not available * checking files in ‘vignettes’ ... OK * checking examples ... OK Examples with CPU (user + system) or elapsed time > 5s user system elapsed referencecn.mops 7.269 0.224 16.356 cn.mops 5.518 0.041 17.074 calcFractionalCopyNumbers-CNVDetectionResult-method 5.355 0.048 5.403 calcFractionalCopyNumbers 5.144 0.020 5.165 haplocn.mops 0.994 0.013 11.049 getSegmentReadCountsFromBAM 0.311 0.019 5.110 * checking for unstated dependencies in vignettes ... OK * checking package vignettes in ‘inst/doc’ ... OK * checking running R code from vignettes ... ‘cn.mops.Rnw’... OK OK * checking re-building of vignette outputs ... OK * checking PDF version of manual ... OK * DONE Status: 1 NOTE See ‘/home/biocbuild/bbs-3.17-bioc/meat/cn.mops.Rcheck/00check.log’ for details.
cn.mops.Rcheck/00install.out
############################################################################## ############################################################################## ### ### Running command: ### ### /home/biocbuild/bbs-3.17-bioc/R/bin/R CMD INSTALL cn.mops ### ############################################################################## ############################################################################## * installing to library ‘/home/biocbuild/bbs-3.17-bioc/R/site-library’ * installing *source* package ‘cn.mops’ ... ** using staged installation ** libs using C compiler: ‘gcc (Ubuntu 11.3.0-1ubuntu1~22.04) 11.3.0’ using C++ compiler: ‘g++ (Ubuntu 11.3.0-1ubuntu1~22.04) 11.3.0’ gcc -I"/home/biocbuild/bbs-3.17-bioc/R/include" -DNDEBUG -I/usr/local/include -fpic -g -O2 -Wall -c R_init_cnmops.c -o R_init_cnmops.o g++ -std=gnu++17 -I"/home/biocbuild/bbs-3.17-bioc/R/include" -DNDEBUG -I/usr/local/include -fpic -g -O2 -Wall -c cnmops.cpp -o cnmops.o g++ -std=gnu++17 -I"/home/biocbuild/bbs-3.17-bioc/R/include" -DNDEBUG -I/usr/local/include -fpic -g -O2 -Wall -c segment.cpp -o segment.o segment.cpp: In function ‘SEXPREC* segment(SEXP, SEXP, SEXP, SEXP, SEXP, SEXP)’: segment.cpp:59:27: warning: variable ‘globalSd’ set but not used [-Wunused-but-set-variable] 59 | double globalMean,globalSd,diff,M2,globalVariance; | ^~~~~~~~ segment.cpp:60:16: warning: variable ‘oldStatistic’ set but not used [-Wunused-but-set-variable] 60 | double oldStatistic, meanLeft,meanRight,varLeft,varRight; | ^~~~~~~~~~~~ segment.cpp:61:38: warning: variable ‘maxStatistic’ set but not used [-Wunused-but-set-variable] 61 | double newStatistic,meanDiff,maxStatistic,DOF,a,b,eps1; | ^~~~~~~~~~~~ segment.cpp:62:47: warning: variable ‘maxIdx’ set but not used [-Wunused-but-set-variable] 62 | double newPValue, maxPValue,oldPValue,maxIdx; | ^~~~~~ In file included from segment.cpp:10: /home/biocbuild/bbs-3.17-bioc/R/include/Rmath.h:210:25: warning: unused variable ‘Rf_beta’ [-Wunused-variable] 210 | #define beta Rf_beta | ^~~~~~~ segment.cpp:64:16: note: in expansion of macro ‘beta’ 64 | double beta,nn; | ^~~~ g++ -std=gnu++17 -shared -L/home/biocbuild/bbs-3.17-bioc/R/lib -L/usr/local/lib -o cn.mops.so R_init_cnmops.o cnmops.o segment.o -L/home/biocbuild/bbs-3.17-bioc/R/lib -lR installing to /home/biocbuild/bbs-3.17-bioc/R/site-library/00LOCK-cn.mops/00new/cn.mops/libs ** R ** data ** inst ** byte-compile and prepare package for lazy loading ** help *** installing help indices ** building package indices ** installing vignettes ** testing if installed package can be loaded from temporary location ** checking absolute paths in shared objects and dynamic libraries ** testing if installed package can be loaded from final location ** testing if installed package keeps a record of temporary installation path * DONE (cn.mops)
cn.mops.Rcheck/cn.mops-Ex.timings
name | user | system | elapsed | |
CNVDetectionResult | 0.001 | 0.000 | 0.001 | |
calcFractionalCopyNumbers-CNVDetectionResult-method | 5.355 | 0.048 | 5.403 | |
calcFractionalCopyNumbers | 5.144 | 0.020 | 5.165 | |
calcIntegerCopyNumbers-CNVDetectionResult-method | 0.463 | 0.004 | 0.467 | |
calcIntegerCopyNumbers | 0.379 | 0.000 | 0.380 | |
cn.mops | 5.518 | 0.041 | 17.074 | |
cnvr-CNVDetectionResult-method | 0.26 | 0.00 | 0.26 | |
cnvr | 0.213 | 0.004 | 0.217 | |
cnvs-CNVDetectionResult-method | 0.247 | 0.040 | 0.288 | |
cnvs | 0.234 | 0.067 | 0.301 | |
exomecn.mops | 2.327 | 0.148 | 2.475 | |
getReadCountsFromBAM | 0.492 | 0.009 | 4.917 | |
getSegmentReadCountsFromBAM | 0.311 | 0.019 | 5.110 | |
gr-CNVDetectionResult-method | 0.216 | 0.012 | 0.228 | |
gr | 0.201 | 0.012 | 0.213 | |
haplocn.mops | 0.994 | 0.013 | 11.049 | |
individualCall-CNVDetectionResult-method | 0.211 | 0.004 | 0.215 | |
individualCall | 0.233 | 0.012 | 0.245 | |
iniCall-CNVDetectionResult-method | 0.223 | 0.000 | 0.223 | |
iniCall | 0.222 | 0.004 | 0.226 | |
integerCopyNumber-CNVDetectionResult-method | 0.223 | 0.000 | 0.223 | |
integerCopyNumber | 0.202 | 0.012 | 0.214 | |
localAssessments-CNVDetectionResult-method | 0.217 | 0.000 | 0.217 | |
localAssessments | 0.21 | 0.00 | 0.21 | |
makeRobustCNVR | 0.381 | 0.004 | 0.385 | |
normalizeChromosomes | 0.155 | 0.008 | 0.164 | |
normalizeGenome | 0.171 | 0.000 | 0.170 | |
normalizedData-CNVDetectionResult-method | 0.231 | 0.004 | 0.235 | |
normalizedData | 0.212 | 0.000 | 0.212 | |
params-CNVDetectionResult-method | 0.230 | 0.008 | 0.238 | |
params | 0.200 | 0.012 | 0.212 | |
posteriorProbs-CNVDetectionResult-method | 0.214 | 0.000 | 0.215 | |
posteriorProbs | 0.241 | 0.004 | 0.245 | |
referencecn.mops | 7.269 | 0.224 | 16.356 | |
sampleNames-CNVDetectionResult-method | 0.191 | 0.047 | 0.238 | |
sampleNames | 0.196 | 0.008 | 0.204 | |
segment | 0.019 | 0.000 | 0.018 | |
segmentation-CNVDetectionResult-method | 0.206 | 0.004 | 0.210 | |
segmentation | 0.192 | 0.000 | 0.192 | |
segplot-CNVDetectionResult-method | 0.809 | 0.004 | 0.813 | |
segplot | 0.844 | 0.008 | 0.852 | |
singlecn.mops | 0.562 | 0.012 | 0.574 | |