Back to Multiple platform build/check report for BioC 3.17:   simplified   long
[A]BCDEFGHIJKLMNOPQRSTUVWXYZ

This page was generated on 2023-06-02 11:04:12 -0400 (Fri, 02 Jun 2023).

HostnameOSArch (*)R versionInstalled pkgs
nebbiolo1Linux (Ubuntu 22.04.2 LTS)x86_644.3.0 RC (2023-04-13 r84269) -- "Already Tomorrow" 4618
palomino3Windows Server 2022 Datacenterx644.3.0 RC (2023-04-13 r84269 ucrt) -- "Already Tomorrow" 4369
merida1macOS 12.6.4 Montereyx86_644.3.0 RC (2023-04-13 r84257) -- "Already Tomorrow" 4327
Click on any hostname to see more info about the system (e.g. compilers)      (*) as reported by 'uname -p', except on Windows and Mac OS X

All results for package AnnotationHub


To the developers/maintainers of the AnnotationHub package:
- Allow up to 24 hours (and sometimes 48 hours) for your latest push to git@git.bioconductor.org:packages/AnnotationHub.git to reflect on this report. See Troubleshooting Build Report for more information.

- Use the following Renviron settings to reproduce errors and warnings.

Note: If "R CMD check" recently failed on the Linux builder over a missing dependency, add the missing dependency to "Suggests" in your DESCRIPTION file. See the Renviron.bioc for details.

raw results

Package 71/2229HostnameOS / ArchINSTALLBUILDCHECKBUILD BIN
AnnotationHub 3.8.0  (landing page)
Bioconductor Package Maintainer
Snapshot Date: 2023-06-01 14:00:08 -0400 (Thu, 01 Jun 2023)
git_url: https://git.bioconductor.org/packages/AnnotationHub
git_branch: RELEASE_3_17
git_last_commit: 975022d
git_last_commit_date: 2023-04-25 10:26:37 -0400 (Tue, 25 Apr 2023)
nebbiolo1Linux (Ubuntu 22.04.2 LTS) / x86_64  OK    OK    WARNINGS  UNNEEDED, same version is already published
palomino3Windows Server 2022 Datacenter / x64  OK    OK    WARNINGS    OK  UNNEEDED, same version is already published
merida1macOS 12.6.4 Monterey / x86_64  OK    OK    WARNINGS    OK  UNNEEDED, same version is already published

Results for Bioconductor software packages that depend directly on package AnnotationHub

QUICK STATSOS / ArchINSTALLBUILDCHECKBUILD BIN
nebbiolo1Linux (Ubuntu 22.04.2 LTS) / x86_64
0044
0341
041126
palomino3Windows Server 2022 Datacenter / x64
0043
0241
011327
0041
merida1macOS 12.6.4 Monterey / x86_64
0044
0143
011230
0043
Package 1/44HostnameOS / ArchINSTALLBUILDCHECKBUILD BIN
adductomicsR 1.16.0  (landing page)
Josie Hayes
git_last_commit: 7476fb3
git_last_commit_date: 2023-04-25 11:07:24 -0400
nebbiolo1Linux (Ubuntu 22.04.2 LTS) / x86_64  OK    OK    WARNINGS  UNNEEDED, same version is already published
palomino3Windows Server 2022 Datacenter / x64  OK    OK    WARNINGS    OK  UNNEEDED, same version is already published
merida1macOS 12.6.4 Monterey / x86_64  OK    OK    WARNINGS    OK  UNNEEDED, same version is already published
Package 2/44HostnameOS / ArchINSTALLBUILDCHECKBUILD BIN
AnnotationHubData 1.30.0  (landing page)
Bioconductor Package Maintainer
git_last_commit: 3cf163f
git_last_commit_date: 2023-04-25 10:41:16 -0400
nebbiolo1Linux (Ubuntu 22.04.2 LTS) / x86_64  OK    OK    WARNINGS  UNNEEDED, same version is already published
palomino3Windows Server 2022 Datacenter / x64  OK    OK    WARNINGS    OK  UNNEEDED, same version is already published
merida1macOS 12.6.4 Monterey / x86_64  OK    OK    WARNINGS    OK  UNNEEDED, same version is already published
Package 3/44HostnameOS / ArchINSTALLBUILDCHECKBUILD BIN
annotatr 1.26.0  (landing page)
Raymond G. Cavalcante
git_last_commit: 2a45d0a
git_last_commit_date: 2023-04-25 10:50:36 -0400
nebbiolo1Linux (Ubuntu 22.04.2 LTS) / x86_64  OK    OK    OK  UNNEEDED, same version is already published
palomino3Windows Server 2022 Datacenter / x64  OK    OK    OK    OK  UNNEEDED, same version is already published
merida1macOS 12.6.4 Monterey / x86_64  OK    OK    OK    OK  UNNEEDED, same version is already published
Package 4/44HostnameOS / ArchINSTALLBUILDCHECKBUILD BIN
atena 1.6.0  (landing page)
Beatriz Calvo-Serra
git_last_commit: 4053ecb
git_last_commit_date: 2023-04-25 11:32:49 -0400
nebbiolo1Linux (Ubuntu 22.04.2 LTS) / x86_64  OK    OK    OK  UNNEEDED, same version is already published
palomino3Windows Server 2022 Datacenter / x64  OK    OK    OK    OK  UNNEEDED, same version is already published
merida1macOS 12.6.4 Monterey / x86_64  OK    OK    OK    OK  UNNEEDED, same version is already published
Package 5/44HostnameOS / ArchINSTALLBUILDCHECKBUILD BIN
BiocHubsShiny 1.0.0  (landing page)
Marcel Ramos
git_last_commit: 762fd05
git_last_commit_date: 2023-04-25 11:42:30 -0400
nebbiolo1Linux (Ubuntu 22.04.2 LTS) / x86_64  OK    OK    OK  UNNEEDED, same version is already published
palomino3Windows Server 2022 Datacenter / x64  OK    OK    OK    OK  UNNEEDED, same version is already published
merida1macOS 12.6.4 Monterey / x86_64  OK    OK    OK    OK  UNNEEDED, same version is already published
Package 6/44HostnameOS / ArchINSTALLBUILDCHECKBUILD BIN
circRNAprofiler 1.14.0  (landing page)
Simona Aufiero
git_last_commit: 1ddc8f7
git_last_commit_date: 2023-04-25 11:11:15 -0400
nebbiolo1Linux (Ubuntu 22.04.2 LTS) / x86_64  OK    OK    OK  UNNEEDED, same version is already published
palomino3Windows Server 2022 Datacenter / x64  OK    OK    OK    OK  UNNEEDED, same version is already published
merida1macOS 12.6.4 Monterey / x86_64  OK    OK    OK    OK  UNNEEDED, same version is already published
Package 7/44HostnameOS / ArchINSTALLBUILDCHECKBUILD BIN
coMethDMR 1.4.0  (landing page)
Fernanda Veitzman
git_last_commit: 40e80ff
git_last_commit_date: 2023-04-25 11:35:11 -0400
nebbiolo1Linux (Ubuntu 22.04.2 LTS) / x86_64  OK    OK    OK  UNNEEDED, same version is already published
palomino3Windows Server 2022 Datacenter / x64  OK    OK    OK    OK  UNNEEDED, same version is already published
merida1macOS 12.6.4 Monterey / x86_64  OK    OK    OK    OK  UNNEEDED, same version is already published
Package 8/44HostnameOS / ArchINSTALLBUILDCHECKBUILD BIN
cTRAP 1.18.0  (landing page)
Nuno Saraiva-Agostinho
git_last_commit: 781acdc
git_last_commit_date: 2023-04-25 11:05:43 -0400
nebbiolo1Linux (Ubuntu 22.04.2 LTS) / x86_64  OK    OK    OK  UNNEEDED, same version is already published
palomino3Windows Server 2022 Datacenter / x64  OK    OK    WARNINGS    OK  UNNEEDED, same version is already published
merida1macOS 12.6.4 Monterey / x86_64  OK    OK    OK    OK  UNNEEDED, same version is already published
Package 9/44HostnameOS / ArchINSTALLBUILDCHECKBUILD BIN
customCMPdb 1.10.0  (landing page)
Yuzhu Duan
git_last_commit: e24325f
git_last_commit_date: 2023-04-25 11:23:30 -0400
nebbiolo1Linux (Ubuntu 22.04.2 LTS) / x86_64  OK    OK    OK  UNNEEDED, same version is already published
palomino3Windows Server 2022 Datacenter / x64  OK    OK    OK    OK  UNNEEDED, same version is already published
merida1macOS 12.6.4 Monterey / x86_64  OK    OK    OK    OK  UNNEEDED, same version is already published
Package 10/44HostnameOS / ArchINSTALLBUILDCHECKBUILD BIN
dmrseq 1.20.0  (landing page)
Keegan Korthauer
git_last_commit: 3abc5d8
git_last_commit_date: 2023-04-25 10:59:39 -0400
nebbiolo1Linux (Ubuntu 22.04.2 LTS) / x86_64  OK    OK    ERROR  
palomino3Windows Server 2022 Datacenter / x64  OK    OK    OK    OK  UNNEEDED, same version is already published
merida1macOS 12.6.4 Monterey / x86_64  OK    OK    OK    OK  UNNEEDED, same version is already published
Package 11/44HostnameOS / ArchINSTALLBUILDCHECKBUILD BIN
ENmix 1.36.01  (landing page)
Zongli Xu
git_last_commit: 313f491
git_last_commit_date: 2023-05-15 14:27:39 -0400
nebbiolo1Linux (Ubuntu 22.04.2 LTS) / x86_64  OK    OK    OK  UNNEEDED, same version is already published
palomino3Windows Server 2022 Datacenter / x64  OK    OK    OK    OK  UNNEEDED, same version is already published
merida1macOS 12.6.4 Monterey / x86_64  OK    OK    OK    OK  UNNEEDED, same version is already published
Package 12/44HostnameOS / ArchINSTALLBUILDCHECKBUILD BIN
EpiCompare 1.4.0  (landing page)
Sera Choi
git_last_commit: 9b39948
git_last_commit_date: 2023-04-25 11:38:09 -0400
nebbiolo1Linux (Ubuntu 22.04.2 LTS) / x86_64  OK    OK    ERROR  
palomino3Windows Server 2022 Datacenter / x64  OK    ERROR  skippedskipped
merida1macOS 12.6.4 Monterey / x86_64  OK    OK    OK    OK  NO, package depends on 'ChIPseeker' which is not available
Package 13/44HostnameOS / ArchINSTALLBUILDCHECKBUILD BIN
EpiMix 1.2.0  (landing page)
Yuanning Zheng
git_last_commit: 68204f3
git_last_commit_date: 2023-04-25 11:39:07 -0400
nebbiolo1Linux (Ubuntu 22.04.2 LTS) / x86_64  OK    ERROR  skipped
palomino3Windows Server 2022 Datacenter / x64  OK    ERROR  skippedskipped
merida1macOS 12.6.4 Monterey / x86_64  OK    ERROR  skippedskipped
Package 14/44HostnameOS / ArchINSTALLBUILDCHECKBUILD BIN
epimutacions 1.4.0  (landing page)
Dolors Pelegri-Siso
git_last_commit: 78170ad
git_last_commit_date: 2023-04-25 11:37:33 -0400
nebbiolo1Linux (Ubuntu 22.04.2 LTS) / x86_64  OK    ERROR  skipped
palomino3Windows Server 2022 Datacenter / x64  OK    OK    OK    OK  UNNEEDED, same version is already published
merida1macOS 12.6.4 Monterey / x86_64  OK    OK    OK    OK  UNNEEDED, same version is already published
Package 15/44HostnameOS / ArchINSTALLBUILDCHECKBUILD BIN
ExperimentHub 2.8.0  (landing page)
Bioconductor Package Maintainer
git_last_commit: f25c854
git_last_commit_date: 2023-04-25 10:44:39 -0400
nebbiolo1Linux (Ubuntu 22.04.2 LTS) / x86_64  OK    OK    WARNINGS  UNNEEDED, same version is already published
palomino3Windows Server 2022 Datacenter / x64  OK    OK    WARNINGS    OK  UNNEEDED, same version is already published
merida1macOS 12.6.4 Monterey / x86_64  OK    OK    WARNINGS    OK  UNNEEDED, same version is already published
Package 16/44HostnameOS / ArchINSTALLBUILDCHECKBUILD BIN
GenomicScores 2.12.0  (landing page)
Robert Castelo
git_last_commit: a4c785f
git_last_commit_date: 2023-04-25 10:53:43 -0400
nebbiolo1Linux (Ubuntu 22.04.2 LTS) / x86_64  OK    OK    OK  UNNEEDED, same version is already published
palomino3Windows Server 2022 Datacenter / x64  OK    OK    OK    OK  UNNEEDED, same version is already published
merida1macOS 12.6.4 Monterey / x86_64  OK    OK    OK    OK  UNNEEDED, same version is already published
Package 17/44HostnameOS / ArchINSTALLBUILDCHECKBUILD BIN
GSEABenchmarkeR 1.20.0  (landing page)
Ludwig Geistlinger
git_last_commit: e81805a
git_last_commit_date: 2023-04-25 11:00:18 -0400
nebbiolo1Linux (Ubuntu 22.04.2 LTS) / x86_64  OK    OK    OK  UNNEEDED, same version is already published
palomino3Windows Server 2022 Datacenter / x64  OK    OK    OK    OK  UNNEEDED, same version is already published
merida1macOS 12.6.4 Monterey / x86_64  OK    OK    OK    OK  UNNEEDED, same version is already published
Package 18/44HostnameOS / ArchINSTALLBUILDCHECKBUILD BIN
gwascat 2.32.0  (landing page)
VJ Carey
git_last_commit: 8c1533d
git_last_commit_date: 2023-04-25 10:22:24 -0400
nebbiolo1Linux (Ubuntu 22.04.2 LTS) / x86_64  OK    OK    OK  UNNEEDED, same version is already published
palomino3Windows Server 2022 Datacenter / x64  OK    OK    OK    OK  UNNEEDED, same version is already published
merida1macOS 12.6.4 Monterey / x86_64  OK    OK    OK    OK  UNNEEDED, same version is already published
Package 19/44HostnameOS / ArchINSTALLBUILDCHECKBUILD BIN
hipathia 3.0.1  (landing page)
Marta R. Hidalgo
git_last_commit: 2d5c5c0
git_last_commit_date: 2023-06-01 05:39:51 -0400
nebbiolo1Linux (Ubuntu 22.04.2 LTS) / x86_64  OK    OK    WARNINGS  YES
palomino3Windows Server 2022 Datacenter / x64  OK    OK    WARNINGS    OK  YES
merida1macOS 12.6.4 Monterey / x86_64  OK    OK    WARNINGS    OK  YES
Package 20/44HostnameOS / ArchINSTALLBUILDCHECKBUILD BIN
ipdDb 1.18.0  (landing page)
Steffen Klasberg
git_last_commit: de41d05
git_last_commit_date: 2023-04-25 11:02:53 -0400
nebbiolo1Linux (Ubuntu 22.04.2 LTS) / x86_64  OK    OK    OK  UNNEEDED, same version is already published
palomino3Windows Server 2022 Datacenter / x64  OK    OK    OK    OK  UNNEEDED, same version is already published
merida1macOS 12.6.4 Monterey / x86_64  OK    OK    OK    OK  UNNEEDED, same version is already published
Package 21/44HostnameOS / ArchINSTALLBUILDCHECKBUILD BIN
iSEEhub 1.2.0  (landing page)
Kevin Rue-Albrecht
git_last_commit: 975d4f1
git_last_commit_date: 2023-04-25 11:40:08 -0400
nebbiolo1Linux (Ubuntu 22.04.2 LTS) / x86_64  OK    OK    ERROR  
palomino3Windows Server 2022 Datacenter / x64  OK    OK    ERROR    OK  
merida1macOS 12.6.4 Monterey / x86_64  OK    OK    ERROR    OK  
Package 22/44HostnameOS / ArchINSTALLBUILDCHECKBUILD BIN
LRcell 1.8.0  (landing page)
Wenjing Ma
git_last_commit: 9bef146
git_last_commit_date: 2023-04-25 11:28:14 -0400
nebbiolo1Linux (Ubuntu 22.04.2 LTS) / x86_64  OK    OK    OK  UNNEEDED, same version is already published
palomino3Windows Server 2022 Datacenter / x64  OK    OK    OK    OK  UNNEEDED, same version is already published
merida1macOS 12.6.4 Monterey / x86_64  OK    OK    OK    OK  UNNEEDED, same version is already published
Package 23/44HostnameOS / ArchINSTALLBUILDCHECKBUILD BIN
MACSr 1.8.0  (landing page)
Qiang Hu
git_last_commit: 6dfc2bd
git_last_commit_date: 2023-04-25 11:26:37 -0400
nebbiolo1Linux (Ubuntu 22.04.2 LTS) / x86_64  OK    OK    OK  UNNEEDED, same version is already published
palomino3Windows Server 2022 Datacenter / x64... NOT SUPPORTED ...
merida1macOS 12.6.4 Monterey / x86_64  OK    OK    OK    OK  NO, package depends on 'basilisk' which is not available
Package 24/44HostnameOS / ArchINSTALLBUILDCHECKBUILD BIN
meshes 1.26.0  (landing page)
Guangchuang Yu
git_last_commit: ab142fa
git_last_commit_date: 2023-04-25 10:50:38 -0400
nebbiolo1Linux (Ubuntu 22.04.2 LTS) / x86_64  OK    OK    OK  UNNEEDED, same version is already published
palomino3Windows Server 2022 Datacenter / x64  OK    OK    OK    OK  UNNEEDED, same version is already published
merida1macOS 12.6.4 Monterey / x86_64  OK    OK    OK    OK  UNNEEDED, same version is already published
Package 25/44HostnameOS / ArchINSTALLBUILDCHECKBUILD BIN
MethReg 1.10.0  (landing page)
Tiago Silva
git_last_commit: 871f82e
git_last_commit_date: 2023-04-25 11:22:54 -0400
nebbiolo1Linux (Ubuntu 22.04.2 LTS) / x86_64  OK    OK    WARNINGS  UNNEEDED, same version is already published
palomino3Windows Server 2022 Datacenter / x64  OK    OK    WARNINGS    OK  UNNEEDED, same version is already published
merida1macOS 12.6.4 Monterey / x86_64  OK    OK    WARNINGS    OK  UNNEEDED, same version is already published
Package 26/44HostnameOS / ArchINSTALLBUILDCHECKBUILD BIN
MSnID 1.34.0  (landing page)
Vlad Petyuk
git_last_commit: 587f568
git_last_commit_date: 2023-04-25 10:34:42 -0400
nebbiolo1Linux (Ubuntu 22.04.2 LTS) / x86_64  OK    OK    OK  UNNEEDED, same version is already published
palomino3Windows Server 2022 Datacenter / x64  OK    OK    OK    OK  UNNEEDED, same version is already published
merida1macOS 12.6.4 Monterey / x86_64  OK    OK    OK    OK  UNNEEDED, same version is already published
Package 27/44HostnameOS / ArchINSTALLBUILDCHECKBUILD BIN
NxtIRFcore 1.6.0  (landing page)
Alex Chit Hei Wong
git_last_commit: 2829efa
git_last_commit_date: 2023-04-25 11:34:18 -0400
nebbiolo1Linux (Ubuntu 22.04.2 LTS) / x86_64  OK    OK    WARNINGS  UNNEEDED, same version is already published
palomino3Windows Server 2022 Datacenter / x64  OK    OK    WARNINGS    OK  UNNEEDED, same version is already published
merida1macOS 12.6.4 Monterey / x86_64  OK    OK    WARNINGS    OK  UNNEEDED, same version is already published
Package 28/44HostnameOS / ArchINSTALLBUILDCHECKBUILD BIN
octad 1.2.0  (landing page)
E. Chekalin
git_last_commit: b8d75bb
git_last_commit_date: 2023-04-25 11:41:23 -0400
nebbiolo1Linux (Ubuntu 22.04.2 LTS) / x86_64  OK    OK    OK  UNNEEDED, same version is already published
palomino3Windows Server 2022 Datacenter / x64  OK    OK    OK    OK  UNNEEDED, same version is already published
merida1macOS 12.6.4 Monterey / x86_64  OK    OK    OK    OK  UNNEEDED, same version is already published
Package 29/44HostnameOS / ArchINSTALLBUILDCHECKBUILD BIN
OGRE 1.4.0  (landing page)
Sven Berres
git_last_commit: 4f0404e
git_last_commit_date: 2023-04-25 11:35:27 -0400
nebbiolo1Linux (Ubuntu 22.04.2 LTS) / x86_64  OK    OK    OK  UNNEEDED, same version is already published
palomino3Windows Server 2022 Datacenter / x64  OK    OK    OK    OK  UNNEEDED, same version is already published
merida1macOS 12.6.4 Monterey / x86_64  OK    OK    OK    OK  UNNEEDED, same version is already published
Package 30/44HostnameOS / ArchINSTALLBUILDCHECKBUILD BIN
ontoProc 1.22.0  (landing page)
Vincent Carey
git_last_commit: ad47230
git_last_commit_date: 2023-04-25 10:57:39 -0400
nebbiolo1Linux (Ubuntu 22.04.2 LTS) / x86_64  OK    ERROR  skipped
palomino3Windows Server 2022 Datacenter / x64  OK    OK    OK    OK  UNNEEDED, same version is already published
merida1macOS 12.6.4 Monterey / x86_64  OK    OK    OK    OK  UNNEEDED, same version is already published
Package 31/44HostnameOS / ArchINSTALLBUILDCHECKBUILD BIN
psichomics 1.26.0  (landing page)
Nuno Saraiva-Agostinho
git_last_commit: 44fe230
git_last_commit_date: 2023-04-25 10:50:25 -0400
nebbiolo1Linux (Ubuntu 22.04.2 LTS) / x86_64  OK    OK    WARNINGS  UNNEEDED, same version is already published
palomino3Windows Server 2022 Datacenter / x64  OK    OK    WARNINGS    OK  UNNEEDED, same version is already published
merida1macOS 12.6.4 Monterey / x86_64  OK    OK    WARNINGS    OK  UNNEEDED, same version is already published
Package 32/44HostnameOS / ArchINSTALLBUILDCHECKBUILD BIN
pwOmics 1.32.0  (landing page)
Maren Sitte
git_last_commit: b7a7328
git_last_commit_date: 2023-04-25 10:39:39 -0400
nebbiolo1Linux (Ubuntu 22.04.2 LTS) / x86_64  OK    OK    ERROR  
palomino3Windows Server 2022 Datacenter / x64  OK    OK    WARNINGS    OK  UNNEEDED, same version is already published
merida1macOS 12.6.4 Monterey / x86_64  OK    OK    WARNINGS    OK  UNNEEDED, same version is already published
Package 33/44HostnameOS / ArchINSTALLBUILDCHECKBUILD BIN
regutools 1.12.0  (landing page)
Joselyn Chavez
git_last_commit: a823588
git_last_commit_date: 2023-04-25 11:17:58 -0400
nebbiolo1Linux (Ubuntu 22.04.2 LTS) / x86_64  OK    OK    OK  UNNEEDED, same version is already published
palomino3Windows Server 2022 Datacenter / x64  OK    OK    OK    OK  UNNEEDED, same version is already published
merida1macOS 12.6.4 Monterey / x86_64  OK    OK    OK    OK  UNNEEDED, same version is already published
Package 34/44HostnameOS / ArchINSTALLBUILDCHECKBUILD BIN
REMP 1.24.0  (landing page)
Yinan Zheng
git_last_commit: b860b44
git_last_commit_date: 2023-04-25 10:52:22 -0400
nebbiolo1Linux (Ubuntu 22.04.2 LTS) / x86_64  OK    OK    OK  UNNEEDED, same version is already published
palomino3Windows Server 2022 Datacenter / x64  OK    OK    OK    OK  UNNEEDED, same version is already published
merida1macOS 12.6.4 Monterey / x86_64  OK    OK    OK    OK  UNNEEDED, same version is already published
Package 35/44HostnameOS / ArchINSTALLBUILDCHECKBUILD BIN
restfulSE 1.22.0  (landing page)
Shweta Gopaulakrishnan
git_last_commit: 882a17b
git_last_commit_date: 2023-04-25 10:56:49 -0400
nebbiolo1Linux (Ubuntu 22.04.2 LTS) / x86_64  OK    OK    OK  UNNEEDED, same version is already published
palomino3Windows Server 2022 Datacenter / x64  OK    OK    OK    OK  UNNEEDED, same version is already published
merida1macOS 12.6.4 Monterey / x86_64  OK    OK    OK    OK  UNNEEDED, same version is already published
Package 36/44HostnameOS / ArchINSTALLBUILDCHECKBUILD BIN
RLSeq 1.6.0  (landing page)
Henry Miller
git_last_commit: 27816ce
git_last_commit_date: 2023-04-25 11:34:48 -0400
nebbiolo1Linux (Ubuntu 22.04.2 LTS) / x86_64  OK    OK    OK  UNNEEDED, same version is already published
palomino3Windows Server 2022 Datacenter / x64  OK    OK    OK    OK  UNNEEDED, same version is already published
merida1macOS 12.6.4 Monterey / x86_64  OK    OK    OK    OK  UNNEEDED, same version is already published
Package 37/44HostnameOS / ArchINSTALLBUILDCHECKBUILD BIN
scanMiRApp 1.6.0  (landing page)
Pierre-Luc Germain
git_last_commit: 81b3eae
git_last_commit_date: 2023-04-25 11:31:44 -0400
nebbiolo1Linux (Ubuntu 22.04.2 LTS) / x86_64  OK    OK    WARNINGS  UNNEEDED, same version is already published
palomino3Windows Server 2022 Datacenter / x64  OK    OK    WARNINGS    OK  UNNEEDED, same version is already published
merida1macOS 12.6.4 Monterey / x86_64  OK    OK    WARNINGS    OK  UNNEEDED, same version is already published
Package 38/44HostnameOS / ArchINSTALLBUILDCHECKBUILD BIN
scAnnotatR 1.6.0  (landing page)
Johannes Griss
git_last_commit: b567a90
git_last_commit_date: 2023-04-25 11:32:25 -0400
nebbiolo1Linux (Ubuntu 22.04.2 LTS) / x86_64  OK    OK    WARNINGS  UNNEEDED, same version is already published
palomino3Windows Server 2022 Datacenter / x64  OK    OK    WARNINGS    OK  UNNEEDED, same version is already published
merida1macOS 12.6.4 Monterey / x86_64  OK    OK    WARNINGS    OK  UNNEEDED, same version is already published
Package 39/44HostnameOS / ArchINSTALLBUILDCHECKBUILD BIN
scmeth 1.20.0  (landing page)
Divy Kangeyan
git_last_commit: a2b9cf1
git_last_commit_date: 2023-04-25 10:59:30 -0400
nebbiolo1Linux (Ubuntu 22.04.2 LTS) / x86_64  OK    OK    OK  UNNEEDED, same version is already published
palomino3Windows Server 2022 Datacenter / x64  OK    OK    OK    OK  UNNEEDED, same version is already published
merida1macOS 12.6.4 Monterey / x86_64  OK    OK    OK    OK  UNNEEDED, same version is already published
Package 40/44HostnameOS / ArchINSTALLBUILDCHECKBUILD BIN
scTensor 2.10.0  (landing page)
Koki Tsuyuzaki
git_last_commit: 32e2912
git_last_commit_date: 2023-04-25 11:06:25 -0400
nebbiolo1Linux (Ubuntu 22.04.2 LTS) / x86_64  OK    OK    WARNINGS  UNNEEDED, same version is already published
palomino3Windows Server 2022 Datacenter / x64  OK    OK    WARNINGS    OK  UNNEEDED, same version is already published
merida1macOS 12.6.4 Monterey / x86_64  OK    OK    WARNINGS    OK  UNNEEDED, same version is already published
Package 41/44HostnameOS / ArchINSTALLBUILDCHECKBUILD BIN
singleCellTK 2.10.0  (landing page)
Yichen Wang
git_last_commit: 277e675
git_last_commit_date: 2023-04-25 11:01:21 -0400
nebbiolo1Linux (Ubuntu 22.04.2 LTS) / x86_64  OK    OK    OK  UNNEEDED, same version is already published
palomino3Windows Server 2022 Datacenter / x64  OK    OK    OK    OK  UNNEEDED, same version is already published
merida1macOS 12.6.4 Monterey / x86_64  OK    OK    OK    OK  NO, package depends on 'scater' which is not available
Package 42/44HostnameOS / ArchINSTALLBUILDCHECKBUILD BIN
SpliceWiz 1.2.1  (landing page)
Alex Chit Hei Wong
git_last_commit: d3a2512
git_last_commit_date: 2023-05-20 02:32:04 -0400
nebbiolo1Linux (Ubuntu 22.04.2 LTS) / x86_64  OK    OK    OK  UNNEEDED, same version is already published
palomino3Windows Server 2022 Datacenter / x64  OK    OK    OK    OK  UNNEEDED, same version is already published
merida1macOS 12.6.4 Monterey / x86_64  OK    OK    OK    OK  UNNEEDED, same version is already published
Package 43/44HostnameOS / ArchINSTALLBUILDCHECKBUILD BIN
tximeta 1.18.0  (landing page)
Michael Love
git_last_commit: 8f87d53
git_last_commit_date: 2023-04-25 11:04:06 -0400
nebbiolo1Linux (Ubuntu 22.04.2 LTS) / x86_64  OK    OK    OK  UNNEEDED, same version is already published
palomino3Windows Server 2022 Datacenter / x64  OK    OK    OK    OK  UNNEEDED, same version is already published
merida1macOS 12.6.4 Monterey / x86_64  OK    OK    OK    OK  UNNEEDED, same version is already published
Package 44/44HostnameOS / ArchINSTALLBUILDCHECKBUILD BIN
Ularcirc 1.18.0  (landing page)
David Humphreys
git_last_commit: 59e062b
git_last_commit_date: 2023-04-25 11:02:25 -0400
nebbiolo1Linux (Ubuntu 22.04.2 LTS) / x86_64  OK    OK    WARNINGS  UNNEEDED, same version is already published
palomino3Windows Server 2022 Datacenter / x64  OK    OK    WARNINGS    OK  UNNEEDED, same version is already published
merida1macOS 12.6.4 Monterey / x86_64  OK    OK    WARNINGS    OK  UNNEEDED, same version is already published