Back to Multiple platform build/check report for BioC 3.17:   simplified   long
ABCDEF[G]HIJKLMNOPQRSTUVWXYZ

This page was generated on 2023-02-07 11:04:34 -0500 (Tue, 07 Feb 2023).

HostnameOSArch (*)R versionInstalled pkgs
nebbiolo1Linux (Ubuntu 22.04.1 LTS)x86_64R Under development (unstable) (2023-01-10 r83596) -- "Unsuffered Consequences" 4483
palomino3Windows Server 2022 Datacenterx64R Under development (unstable) (2023-01-10 r83596 ucrt) -- "Unsuffered Consequences" 4249
merida1macOS 10.14.6 Mojavex86_64R Under development (unstable) (2023-01-10 r83596) -- "Unsuffered Consequences" 4272
Click on any hostname to see more info about the system (e.g. compilers)      (*) as reported by 'uname -p', except on Windows and Mac OS X

All results for package graph


To the developers/maintainers of the graph package:
- Please allow up to 24 hours (and sometimes 48 hours) for your latest push to git@git.bioconductor.org:packages/graph.git to
reflect on this report. See How and When does the builder pull? When will my changes propagate? for more information.
- Make sure to use the following settings in order to reproduce any error or warning you see on this page.

raw results

Package 843/2164HostnameOS / ArchINSTALLBUILDCHECKBUILD BIN
graph 1.77.1  (landing page)
Bioconductor Package Maintainer
Snapshot Date: 2023-02-06 14:00:21 -0500 (Mon, 06 Feb 2023)
git_url: https://git.bioconductor.org/packages/graph
git_branch: master
git_last_commit: 4cf9f98
git_last_commit_date: 2022-12-06 20:33:16 -0500 (Tue, 06 Dec 2022)
nebbiolo1Linux (Ubuntu 22.04.1 LTS) / x86_64  OK    OK    OK  UNNEEDED, same version is already published
palomino3Windows Server 2022 Datacenter / x64  OK    OK    OK    OK  UNNEEDED, same version is already published
merida1macOS 10.14.6 Mojave / x86_64  OK    OK    OK    OK  UNNEEDED, same version is already published

Results for Bioconductor software packages that depend directly on package graph

QUICK STATSOS / ArchINSTALLBUILDCHECKBUILD BIN
nebbiolo1Linux (Ubuntu 22.04.1 LTS) / x86_64
0089
0485
152158
palomino3Windows Server 2022 Datacenter / x64
0087
0582
022258
0082
merida1macOS 10.14.6 Mojave / x86_64
0086
1580
022157
0080
Package 1/89HostnameOS / ArchINSTALLBUILDCHECKBUILD BIN
alpine 1.25.0  (landing page)
Michael Love
git_last_commit: 609ae1e
git_last_commit_date: 2022-11-01 11:14:18 -0500
nebbiolo1Linux (Ubuntu 22.04.1 LTS) / x86_64  OK    OK    OK  UNNEEDED, same version is already published
palomino3Windows Server 2022 Datacenter / x64  OK    OK    OK    OK  UNNEEDED, same version is already published
merida1macOS 10.14.6 Mojave / x86_64  OK    OK    OK    OK  UNNEEDED, same version is already published
Package 2/89HostnameOS / ArchINSTALLBUILDCHECKBUILD BIN
AnnotationHubData 1.29.1  (landing page)
Bioconductor Package Maintainer
git_last_commit: 3214594
git_last_commit_date: 2022-12-13 10:09:22 -0500
nebbiolo1Linux (Ubuntu 22.04.1 LTS) / x86_64  OK    OK    WARNINGS  UNNEEDED, same version is already published
palomino3Windows Server 2022 Datacenter / x64  OK    OK    WARNINGS    OK  UNNEEDED, same version is already published
merida1macOS 10.14.6 Mojave / x86_64  OK    OK    WARNINGS    OK  UNNEEDED, same version is already published
Package 3/89HostnameOS / ArchINSTALLBUILDCHECKBUILD BIN
apComplex 2.65.0  (landing page)
Denise Scholtens
git_last_commit: da43727
git_last_commit_date: 2022-11-01 10:38:32 -0500
nebbiolo1Linux (Ubuntu 22.04.1 LTS) / x86_64  OK    OK    OK  UNNEEDED, same version is already published
palomino3Windows Server 2022 Datacenter / x64  OK    OK    OK    OK  UNNEEDED, same version is already published
merida1macOS 10.14.6 Mojave / x86_64  OK    OK    OK    OK  UNNEEDED, same version is already published
Package 4/89HostnameOS / ArchINSTALLBUILDCHECKBUILD BIN
BgeeDB 2.25.0  (landing page)
Julien Wollbrett , Julien Roux , Andrea Komljenovic , Frederic Bastian
git_last_commit: 4fa7597
git_last_commit_date: 2022-11-01 11:13:33 -0500
nebbiolo1Linux (Ubuntu 22.04.1 LTS) / x86_64  OK    OK    OK  UNNEEDED, same version is already published
palomino3Windows Server 2022 Datacenter / x64  OK    OK    OK    OK  UNNEEDED, same version is already published
merida1macOS 10.14.6 Mojave / x86_64  OK    OK    OK    OK  UNNEEDED, same version is already published
Package 5/89HostnameOS / ArchINSTALLBUILDCHECKBUILD BIN
BiocCheck 1.35.9  (landing page)
Marcel Ramos
git_last_commit: 0d30b7e
git_last_commit_date: 2023-01-03 14:50:47 -0500
nebbiolo1Linux (Ubuntu 22.04.1 LTS) / x86_64  OK    OK    OK  UNNEEDED, same version is already published
palomino3Windows Server 2022 Datacenter / x64  OK    OK    OK    OK  UNNEEDED, same version is already published
merida1macOS 10.14.6 Mojave / x86_64  OK    OK    OK    OK  UNNEEDED, same version is already published
Package 6/89HostnameOS / ArchINSTALLBUILDCHECKBUILD BIN
BiocFHIR 1.1.5  (landing page)
Vincent Carey
git_last_commit: 10f9d06
git_last_commit_date: 2022-11-29 09:48:55 -0500
nebbiolo1Linux (Ubuntu 22.04.1 LTS) / x86_64  OK    OK    OK  UNNEEDED, same version is already published
palomino3Windows Server 2022 Datacenter / x64  OK    OK    OK    OK  UNNEEDED, same version is already published
merida1macOS 10.14.6 Mojave / x86_64  OK    OK    OK    OK  UNNEEDED, same version is already published
Package 7/89HostnameOS / ArchINSTALLBUILDCHECKBUILD BIN
biocGraph 1.61.0  (landing page)
Florian Hahne
git_last_commit: eed50d0
git_last_commit_date: 2022-11-01 11:03:31 -0500
nebbiolo1Linux (Ubuntu 22.04.1 LTS) / x86_64  OK    OK    OK  UNNEEDED, same version is already published
palomino3Windows Server 2022 Datacenter / x64  OK    OK    OK    OK  UNNEEDED, same version is already published
merida1macOS 10.14.6 Mojave / x86_64  OK    OK    OK    OK  UNNEEDED, same version is already published
Package 8/89HostnameOS / ArchINSTALLBUILDCHECKBUILD BIN
BiocOncoTK 1.19.1  (landing page)
VJ Carey
git_last_commit: 438fb9d
git_last_commit_date: 2023-02-05 08:42:51 -0500
nebbiolo1Linux (Ubuntu 22.04.1 LTS) / x86_64  OK    ERROR  skipped
palomino3Windows Server 2022 Datacenter / x64  OK    ERROR  skippedskipped
merida1macOS 10.14.6 Mojave / x86_64  OK    ERROR  skippedskipped
Package 9/89HostnameOS / ArchINSTALLBUILDCHECKBUILD BIN
BiocPkgTools 1.17.7  (landing page)
Sean Davis
git_last_commit: 009c719
git_last_commit_date: 2023-02-02 13:55:37 -0500
nebbiolo1Linux (Ubuntu 22.04.1 LTS) / x86_64  OK    OK    WARNINGS  UNNEEDED, same version is already published
palomino3Windows Server 2022 Datacenter / x64  OK    OK    WARNINGS    OK  UNNEEDED, same version is already published
merida1macOS 10.14.6 Mojave / x86_64  OK    OK    WARNINGS    OK  UNNEEDED, same version is already published
Package 10/89HostnameOS / ArchINSTALLBUILDCHECKBUILD BIN
biocViews 1.67.2  (landing page)
Bioconductor Package Maintainer
git_last_commit: 9977de4
git_last_commit_date: 2022-12-22 10:20:23 -0500
nebbiolo1Linux (Ubuntu 22.04.1 LTS) / x86_64  OK    OK    OK  UNNEEDED, same version is already published
palomino3Windows Server 2022 Datacenter / x64  OK    OK    OK    OK  UNNEEDED, same version is already published
merida1macOS 10.14.6 Mojave / x86_64  OK    OK    OK    OK  UNNEEDED, same version is already published
Package 11/89HostnameOS / ArchINSTALLBUILDCHECKBUILD BIN
BioMVCClass 1.67.0  (landing page)
Elizabeth Whalen
git_last_commit: 3f81a2a
git_last_commit_date: 2022-11-01 10:41:56 -0500
nebbiolo1Linux (Ubuntu 22.04.1 LTS) / x86_64  OK    OK    OK  UNNEEDED, same version is already published
palomino3Windows Server 2022 Datacenter / x64  OK    OK    OK    OK  UNNEEDED, same version is already published
merida1macOS 10.14.6 Mojave / x86_64  OK    OK    OK    OK  UNNEEDED, same version is already published
Package 12/89HostnameOS / ArchINSTALLBUILDCHECKBUILD BIN
BioNet 1.59.0  (landing page)
Marcus Dittrich
git_last_commit: 67ccb37
git_last_commit_date: 2022-11-01 11:05:12 -0500
nebbiolo1Linux (Ubuntu 22.04.1 LTS) / x86_64  OK    OK    OK  UNNEEDED, same version is already published
palomino3Windows Server 2022 Datacenter / x64  OK    OK    OK    OK  UNNEEDED, same version is already published
merida1macOS 10.14.6 Mojave / x86_64  OK    OK    OK    OK  UNNEEDED, same version is already published
Package 13/89HostnameOS / ArchINSTALLBUILDCHECKBUILD BIN
BLMA 1.23.0  (landing page)
Hung Nguyen
git_last_commit: d9b35cc
git_last_commit_date: 2022-11-01 11:15:36 -0500
nebbiolo1Linux (Ubuntu 22.04.1 LTS) / x86_64  OK    OK    OK  UNNEEDED, same version is already published
palomino3Windows Server 2022 Datacenter / x64  OK    OK    OK    OK  UNNEEDED, same version is already published
merida1macOS 10.14.6 Mojave / x86_64  OK    OK    OK    OK  UNNEEDED, same version is already published
Package 14/89HostnameOS / ArchINSTALLBUILDCHECKBUILD BIN
bnem 1.7.0  (landing page)
Martin Pirkl
git_last_commit: c3803ae
git_last_commit_date: 2022-12-02 05:16:11 -0500
nebbiolo1Linux (Ubuntu 22.04.1 LTS) / x86_64  OK    OK    OK  UNNEEDED, same version is already published
palomino3Windows Server 2022 Datacenter / x64  OK    OK    OK    OK  UNNEEDED, same version is already published
merida1macOS 10.14.6 Mojave / x86_64  OK    OK    OK    OK  UNNEEDED, same version is already published
Package 15/89HostnameOS / ArchINSTALLBUILDCHECKBUILD BIN
CAMERA 1.55.0  (landing page)
Steffen Neumann
git_last_commit: de7b17f
git_last_commit_date: 2022-11-01 11:04:20 -0500
nebbiolo1Linux (Ubuntu 22.04.1 LTS) / x86_64  OK    OK    OK  UNNEEDED, same version is already published
palomino3Windows Server 2022 Datacenter / x64  OK    OK    OK    OK  UNNEEDED, same version is already published
merida1macOS 10.14.6 Mojave / x86_64  OK    OK    OK    OK  UNNEEDED, same version is already published
Package 16/89HostnameOS / ArchINSTALLBUILDCHECKBUILD BIN
Category 2.65.0  (landing page)
Bioconductor Package Maintainer
git_last_commit: 6ef74a5
git_last_commit_date: 2022-11-01 10:39:25 -0500
nebbiolo1Linux (Ubuntu 22.04.1 LTS) / x86_64  OK    OK    OK  UNNEEDED, same version is already published
palomino3Windows Server 2022 Datacenter / x64  OK    OK    OK    OK  UNNEEDED, same version is already published
merida1macOS 10.14.6 Mojave / x86_64  OK    OK    OK    OK  UNNEEDED, same version is already published
Package 17/89HostnameOS / ArchINSTALLBUILDCHECKBUILD BIN
categoryCompare 1.43.0  (landing page)
Robert M. Flight
git_last_commit: d82fecd
git_last_commit_date: 2022-11-01 11:06:57 -0500
nebbiolo1Linux (Ubuntu 22.04.1 LTS) / x86_64  OK    OK    OK  UNNEEDED, same version is already published
palomino3Windows Server 2022 Datacenter / x64  OK    OK    OK    OK  UNNEEDED, same version is already published
merida1macOS 10.14.6 Mojave / x86_64  OK    OK    OK    OK  UNNEEDED, same version is already published
Package 18/89HostnameOS / ArchINSTALLBUILDCHECKBUILD BIN
CellNOptR 1.45.0  (landing page)
Attila Gabor
git_last_commit: 673da20
git_last_commit_date: 2022-11-01 11:06:29 -0500
nebbiolo1Linux (Ubuntu 22.04.1 LTS) / x86_64  OK    OK    OK  UNNEEDED, same version is already published
palomino3Windows Server 2022 Datacenter / x64  OK    OK    OK    OK  UNNEEDED, same version is already published
merida1macOS 10.14.6 Mojave / x86_64  OK    OK    OK    OK  UNNEEDED, same version is already published
Package 19/89HostnameOS / ArchINSTALLBUILDCHECKBUILD BIN
chimeraviz 1.25.0  (landing page)
Stian Lågstad
git_last_commit: f00dfd8
git_last_commit_date: 2022-11-01 11:14:55 -0500
nebbiolo1Linux (Ubuntu 22.04.1 LTS) / x86_64  OK    OK    OK  UNNEEDED, same version is already published
palomino3Windows Server 2022 Datacenter / x64  OK    OK    OK    OK  UNNEEDED, same version is already published
merida1macOS 10.14.6 Mojave / x86_64  OK    OK    OK    OK  UNNEEDED, same version is already published
Package 20/89HostnameOS / ArchINSTALLBUILDCHECKBUILD BIN
ChIPpeakAnno 3.33.1  (landing page)
Jianhong Ou
git_last_commit: 2c08eb8
git_last_commit_date: 2022-11-12 17:40:09 -0500
nebbiolo1Linux (Ubuntu 22.04.1 LTS) / x86_64  OK    OK    OK  UNNEEDED, same version is already published
palomino3Windows Server 2022 Datacenter / x64  OK    OK    OK    OK  UNNEEDED, same version is already published
merida1macOS 10.14.6 Mojave / x86_64  OK    OK    OK    OK  UNNEEDED, same version is already published
Package 21/89HostnameOS / ArchINSTALLBUILDCHECKBUILD BIN
CHRONOS 1.27.0  (landing page)
Panos Balomenos
git_last_commit: 6778591
git_last_commit_date: 2022-11-01 11:13:39 -0500
nebbiolo1Linux (Ubuntu 22.04.1 LTS) / x86_64  OK    OK    OK  UNNEEDED, same version is already published
palomino3Windows Server 2022 Datacenter / x64  OK    OK    OK    OK  UNNEEDED, same version is already published
merida1macOS 10.14.6 Mojave / x86_64  OK    OK    OK    OK  UNNEEDED, same version is already published
Package 22/89HostnameOS / ArchINSTALLBUILDCHECKBUILD BIN
clipper 1.39.0  (landing page)
Paolo Martini
git_last_commit: d52d2e6
git_last_commit_date: 2022-11-01 11:07:47 -0500
nebbiolo1Linux (Ubuntu 22.04.1 LTS) / x86_64  OK    OK    OK  UNNEEDED, same version is already published
palomino3Windows Server 2022 Datacenter / x64  OK    OK    OK    OK  UNNEEDED, same version is already published
merida1macOS 10.14.6 Mojave / x86_64  OK    OK    OK    OK  UNNEEDED, same version is already published
Package 23/89HostnameOS / ArchINSTALLBUILDCHECKBUILD BIN
CNORfeeder 1.39.0  (landing page)
Attila Gabor
git_last_commit: 25540ec
git_last_commit_date: 2022-11-01 11:08:02 -0500
nebbiolo1Linux (Ubuntu 22.04.1 LTS) / x86_64  OK    OK    ERROR  
palomino3Windows Server 2022 Datacenter / x64  OK    OK    ERROR    OK  
merida1macOS 10.14.6 Mojave / x86_64  OK    OK    ERROR    OK  
Package 24/89HostnameOS / ArchINSTALLBUILDCHECKBUILD BIN
consICA 1.1.0  (landing page)
Petr V. Nazarov
git_last_commit: 8d0b8b3
git_last_commit_date: 2022-11-01 11:27:30 -0500
nebbiolo1Linux (Ubuntu 22.04.1 LTS) / x86_64  OK    OK    OK  UNNEEDED, same version is already published
palomino3Windows Server 2022 Datacenter / x64  OK    OK    OK    OK  UNNEEDED, same version is already published
merida1macOS 10.14.6 Mojave / x86_64  OK    OK    OK    OK  UNNEEDED, same version is already published
Package 25/89HostnameOS / ArchINSTALLBUILDCHECKBUILD BIN
CytoML 2.11.0  (landing page)
Mike Jiang
git_last_commit: c252d18
git_last_commit_date: 2022-11-01 11:14:00 -0500
nebbiolo1Linux (Ubuntu 22.04.1 LTS) / x86_64  OK    OK    WARNINGS  UNNEEDED, same version is already published
palomino3Windows Server 2022 Datacenter / x64  OK    OK    WARNINGS    OK  UNNEEDED, same version is already published
merida1macOS 10.14.6 Mojave / x86_64  OK    OK    WARNINGS    OK  UNNEEDED, same version is already published
Package 26/89HostnameOS / ArchINSTALLBUILDCHECKBUILD BIN
dce 1.7.0  (landing page)
Kim Philipp Jablonski
git_last_commit: 6c5f4ac
git_last_commit_date: 2022-11-01 11:24:07 -0500
nebbiolo1Linux (Ubuntu 22.04.1 LTS) / x86_64  OK    OK    OK  UNNEEDED, same version is already published
palomino3Windows Server 2022 Datacenter / x64  OK    OK    OK    OK  UNNEEDED, same version is already published
merida1macOS 10.14.6 Mojave / x86_64  OK    OK    OK    OK  UNNEEDED, same version is already published
Package 27/89HostnameOS / ArchINSTALLBUILDCHECKBUILD BIN
DEGraph 1.51.0  (landing page)
Laurent Jacob
git_last_commit: b48cd43
git_last_commit_date: 2022-11-01 11:05:25 -0500
nebbiolo1Linux (Ubuntu 22.04.1 LTS) / x86_64  OK    OK    OK  UNNEEDED, same version is already published
palomino3Windows Server 2022 Datacenter / x64... NOT SUPPORTED ...
merida1macOS 10.14.6 Mojave / x86_64... NOT SUPPORTED ...
Package 28/89HostnameOS / ArchINSTALLBUILDCHECKBUILD BIN
DEsubs 1.25.0  (landing page)
Aristidis G. Vrahatis , Panos Balomenos
git_last_commit: c66c7be
git_last_commit_date: 2022-11-01 11:14:32 -0500
nebbiolo1Linux (Ubuntu 22.04.1 LTS) / x86_64  OK    OK    WARNINGS  UNNEEDED, same version is already published
palomino3Windows Server 2022 Datacenter / x64  OK    OK    WARNINGS    OK  UNNEEDED, same version is already published
merida1macOS 10.14.6 Mojave / x86_64  OK    OK    WARNINGS    OK  UNNEEDED, same version is already published
Package 29/89HostnameOS / ArchINSTALLBUILDCHECKBUILD BIN
EnrichmentBrowser 2.29.0  (landing page)
Ludwig Geistlinger
git_last_commit: ce09298
git_last_commit_date: 2022-11-01 11:10:18 -0500
nebbiolo1Linux (Ubuntu 22.04.1 LTS) / x86_64  OK    OK    OK  UNNEEDED, same version is already published
palomino3Windows Server 2022 Datacenter / x64  OK    OK    OK    OK  UNNEEDED, same version is already published
merida1macOS 10.14.6 Mojave / x86_64  OK    OK    OK    OK  UNNEEDED, same version is already published
Package 30/89HostnameOS / ArchINSTALLBUILDCHECKBUILD BIN
epiNEM 1.23.0  (landing page)
Martin Pirkl
git_last_commit: 9aefa1a
git_last_commit_date: 2022-12-13 10:04:03 -0500
nebbiolo1Linux (Ubuntu 22.04.1 LTS) / x86_64  OK    OK    OK  UNNEEDED, same version is already published
palomino3Windows Server 2022 Datacenter / x64  OK    OK    OK    OK  UNNEEDED, same version is already published
merida1macOS 10.14.6 Mojave / x86_64  OK    OK    OK    OK  UNNEEDED, same version is already published
Package 31/89HostnameOS / ArchINSTALLBUILDCHECKBUILD BIN
EventPointer 3.7.0  (landing page)
Juan A. Ferrer-Bonsoms
git_last_commit: 870be76
git_last_commit_date: 2022-11-01 11:15:15 -0500
nebbiolo1Linux (Ubuntu 22.04.1 LTS) / x86_64  OK    ERROR  skipped
palomino3Windows Server 2022 Datacenter / x64  OK    ERROR  skippedskipped
merida1macOS 10.14.6 Mojave / x86_64  OK    ERROR  skippedskipped
Package 32/89HostnameOS / ArchINSTALLBUILDCHECKBUILD BIN
fgga 1.7.0  (landing page)
Flavio Spetale
git_last_commit: 93b1f1b
git_last_commit_date: 2022-11-01 11:24:53 -0500
nebbiolo1Linux (Ubuntu 22.04.1 LTS) / x86_64  OK    OK    OK  UNNEEDED, same version is already published
palomino3Windows Server 2022 Datacenter / x64  OK    OK    OK    OK  UNNEEDED, same version is already published
merida1macOS 10.14.6 Mojave / x86_64  OK    OK    OK    OK  UNNEEDED, same version is already published
Package 33/89HostnameOS / ArchINSTALLBUILDCHECKBUILD BIN
flowClust 3.37.0  (landing page)
Greg Finak , Mike Jiang
git_last_commit: 97b31b3
git_last_commit_date: 2022-11-01 11:03:47 -0500
nebbiolo1Linux (Ubuntu 22.04.1 LTS) / x86_64  OK    OK    WARNINGS  UNNEEDED, same version is already published
palomino3Windows Server 2022 Datacenter / x64  OK    OK    WARNINGS    OK  UNNEEDED, same version is already published
merida1macOS 10.14.6 Mojave / x86_64  OK    OK    WARNINGS    OK  UNNEEDED, same version is already published
Package 34/89HostnameOS / ArchINSTALLBUILDCHECKBUILD BIN
flowMerge 2.47.0  (landing page)
Greg Finak
git_last_commit: f8c5f4b
git_last_commit_date: 2022-11-01 11:04:30 -0500
nebbiolo1Linux (Ubuntu 22.04.1 LTS) / x86_64  OK    OK    WARNINGS  UNNEEDED, same version is already published
palomino3Windows Server 2022 Datacenter / x64  OK    OK    WARNINGS    OK  UNNEEDED, same version is already published
merida1macOS 10.14.6 Mojave / x86_64  OK    OK    WARNINGS    OK  UNNEEDED, same version is already published
Package 35/89HostnameOS / ArchINSTALLBUILDCHECKBUILD BIN
flowWorkspace 4.11.1  (landing page)
Greg Finak , Mike Jiang
git_last_commit: 3f5adab
git_last_commit_date: 2022-12-28 20:58:18 -0500
nebbiolo1Linux (Ubuntu 22.04.1 LTS) / x86_64  OK    OK    WARNINGS  UNNEEDED, same version is already published
palomino3Windows Server 2022 Datacenter / x64  OK    OK    WARNINGS    OK  UNNEEDED, same version is already published
merida1macOS 10.14.6 Mojave / x86_64  OK    OK    WARNINGS    OK  UNNEEDED, same version is already published
Package 36/89HostnameOS / ArchINSTALLBUILDCHECKBUILD BIN
gage 2.49.0  (landing page)
Weijun Luo
git_last_commit: b9e81a1
git_last_commit_date: 2022-11-01 11:05:20 -0500
nebbiolo1Linux (Ubuntu 22.04.1 LTS) / x86_64  OK    OK    WARNINGS  UNNEEDED, same version is already published
palomino3Windows Server 2022 Datacenter / x64  OK    OK    WARNINGS    OK  UNNEEDED, same version is already published
merida1macOS 10.14.6 Mojave / x86_64  OK    OK    WARNINGS    OK  UNNEEDED, same version is already published
Package 37/89HostnameOS / ArchINSTALLBUILDCHECKBUILD BIN
gaggle 1.67.0  (landing page)
Christopher Bare
git_last_commit: 90dc3df
git_last_commit_date: 2022-11-01 10:41:33 -0500
nebbiolo1Linux (Ubuntu 22.04.1 LTS) / x86_64  OK    OK    OK  UNNEEDED, same version is already published
palomino3Windows Server 2022 Datacenter / x64  OK    OK    OK    OK  UNNEEDED, same version is already published
merida1macOS 10.14.6 Mojave / x86_64  OK    OK    OK    OK  UNNEEDED, same version is already published
Package 38/89HostnameOS / ArchINSTALLBUILDCHECKBUILD BIN
GAPGOM 1.15.0  (landing page)
Rezvan Ehsani
git_last_commit: defab98
git_last_commit_date: 2022-11-01 11:19:11 -0500
nebbiolo1Linux (Ubuntu 22.04.1 LTS) / x86_64  OK    ERROR  skipped
palomino3Windows Server 2022 Datacenter / x64  OK    ERROR  skippedskipped
merida1macOS 10.14.6 Mojave / x86_64  OK    ERROR  skippedskipped
Package 39/89HostnameOS / ArchINSTALLBUILDCHECKBUILD BIN
GeneNetworkBuilder 1.41.0  (landing page)
Jianhong Ou
git_last_commit: 94a1526
git_last_commit_date: 2022-11-01 11:07:16 -0500
nebbiolo1Linux (Ubuntu 22.04.1 LTS) / x86_64  OK    OK    OK  UNNEEDED, same version is already published
palomino3Windows Server 2022 Datacenter / x64  OK    OK    OK    OK  UNNEEDED, same version is already published
merida1macOS 10.14.6 Mojave / x86_64  OK    OK    OK    OK  UNNEEDED, same version is already published
Package 40/89HostnameOS / ArchINSTALLBUILDCHECKBUILD BIN
GenomicInteractionNodes 1.3.0  (landing page)
Jianhong Ou
git_last_commit: d333b67
git_last_commit_date: 2022-11-01 11:26:54 -0500
nebbiolo1Linux (Ubuntu 22.04.1 LTS) / x86_64  OK    OK    OK  UNNEEDED, same version is already published
palomino3Windows Server 2022 Datacenter / x64  OK    OK    OK    OK  UNNEEDED, same version is already published
merida1macOS 10.14.6 Mojave / x86_64  OK    OK    OK    OK  UNNEEDED, same version is already published
Package 41/89HostnameOS / ArchINSTALLBUILDCHECKBUILD BIN
GOSim 1.37.0  (landing page)
Holger Froehlich
git_last_commit: 04d1a87
git_last_commit_date: 2022-11-01 11:08:42 -0500
nebbiolo1Linux (Ubuntu 22.04.1 LTS) / x86_64  OK    OK    OK  UNNEEDED, same version is already published
palomino3Windows Server 2022 Datacenter / x64  OK    OK    OK    OK  UNNEEDED, same version is already published
merida1macOS 10.14.6 Mojave / x86_64  OK    OK    OK    OK  UNNEEDED, same version is already published
Package 42/89HostnameOS / ArchINSTALLBUILDCHECKBUILD BIN
GOstats 2.65.0  (landing page)
Bioconductor Package Maintainer
git_last_commit: 1e9259a
git_last_commit_date: 2022-11-01 10:37:26 -0500
nebbiolo1Linux (Ubuntu 22.04.1 LTS) / x86_64  OK    OK    OK  UNNEEDED, same version is already published
palomino3Windows Server 2022 Datacenter / x64  OK    OK    OK    OK  UNNEEDED, same version is already published
merida1macOS 10.14.6 Mojave / x86_64  OK    OK    OK    OK  UNNEEDED, same version is already published
Package 43/89HostnameOS / ArchINSTALLBUILDCHECKBUILD BIN
GraphAT 1.71.0  (landing page)
Thomas LaFramboise
git_last_commit: ead4536
git_last_commit_date: 2022-11-01 10:37:36 -0500
nebbiolo1Linux (Ubuntu 22.04.1 LTS) / x86_64  OK    OK    OK  UNNEEDED, same version is already published
palomino3Windows Server 2022 Datacenter / x64  OK    OK    OK    OK  UNNEEDED, same version is already published
merida1macOS 10.14.6 Mojave / x86_64  OK    OK    OK    OK  UNNEEDED, same version is already published
Package 44/89HostnameOS / ArchINSTALLBUILDCHECKBUILD BIN
graphite 1.45.0  (landing page)
Gabriele Sales
git_last_commit: 76666d6
git_last_commit_date: 2022-11-01 11:06:12 -0500
nebbiolo1Linux (Ubuntu 22.04.1 LTS) / x86_64  OK    OK    WARNINGS  UNNEEDED, same version is already published
palomino3Windows Server 2022 Datacenter / x64  OK    OK    WARNINGS    OK  UNNEEDED, same version is already published
merida1macOS 10.14.6 Mojave / x86_64  OK    OK    WARNINGS    OK  UNNEEDED, same version is already published
Package 45/89HostnameOS / ArchINSTALLBUILDCHECKBUILD BIN
GRridge 1.23.0  (landing page)
Mark A. van de Wiel
git_last_commit: 82dc35a
git_last_commit_date: 2022-11-01 11:14:53 -0500
nebbiolo1Linux (Ubuntu 22.04.1 LTS) / x86_64  OK    OK    ERROR  
palomino3Windows Server 2022 Datacenter / x64  OK    OK    ERROR    OK  
merida1macOS 10.14.6 Mojave / x86_64  OK    OK    WARNINGS    OK  UNNEEDED, same version is already published
Package 46/89HostnameOS / ArchINSTALLBUILDCHECKBUILD BIN
GSEABase 1.61.0  (landing page)
Bioconductor Package Maintainer
git_last_commit: 1d30521
git_last_commit_date: 2022-11-01 11:03:29 -0500
nebbiolo1Linux (Ubuntu 22.04.1 LTS) / x86_64  OK    OK    OK  UNNEEDED, same version is already published
palomino3Windows Server 2022 Datacenter / x64  OK    OK    OK    OK  UNNEEDED, same version is already published
merida1macOS 10.14.6 Mojave / x86_64  OK    OK    OK    OK  UNNEEDED, same version is already published
Package 47/89HostnameOS / ArchINSTALLBUILDCHECKBUILD BIN
hyperdraw 1.51.0  (landing page)
Paul Murrell
git_last_commit: dc2dec1
git_last_commit_date: 2022-11-01 11:04:49 -0500
nebbiolo1Linux (Ubuntu 22.04.1 LTS) / x86_64  OK    OK    OK  UNNEEDED, same version is already published
palomino3Windows Server 2022 Datacenter / x64  OK    OK    OK    OK  UNNEEDED, same version is already published
merida1macOS 10.14.6 Mojave / x86_64  OK    OK    OK    OK  UNNEEDED, same version is already published
Package 48/89HostnameOS / ArchINSTALLBUILDCHECKBUILD BIN
hypergraph 1.71.0  (landing page)
Bioconductor Package Maintainer
git_last_commit: 700ca67
git_last_commit_date: 2022-11-01 10:39:21 -0500
nebbiolo1Linux (Ubuntu 22.04.1 LTS) / x86_64  OK    OK    OK  UNNEEDED, same version is already published
palomino3Windows Server 2022 Datacenter / x64  OK    OK    OK    OK  UNNEEDED, same version is already published
merida1macOS 10.14.6 Mojave / x86_64  OK    OK    OK    OK  UNNEEDED, same version is already published
Package 49/89HostnameOS / ArchINSTALLBUILDCHECKBUILD BIN
KEGGgraph 1.59.3  (landing page)
Jitao David Zhang
git_last_commit: 858dae4
git_last_commit_date: 2022-12-18 03:30:39 -0500
nebbiolo1Linux (Ubuntu 22.04.1 LTS) / x86_64  OK    OK    WARNINGS  UNNEEDED, same version is already published
palomino3Windows Server 2022 Datacenter / x64  OK    OK    WARNINGS    OK  UNNEEDED, same version is already published
merida1macOS 10.14.6 Mojave / x86_64  OK    OK    WARNINGS    OK  UNNEEDED, same version is already published
Package 50/89HostnameOS / ArchINSTALLBUILDCHECKBUILD BIN
keggorthology 2.51.0  (landing page)
VJ Carey
git_last_commit: 92152b3
git_last_commit_date: 2022-11-01 11:03:31 -0500
nebbiolo1Linux (Ubuntu 22.04.1 LTS) / x86_64  OK    OK    OK  UNNEEDED, same version is already published
palomino3Windows Server 2022 Datacenter / x64  OK    OK    OK    OK  UNNEEDED, same version is already published
merida1macOS 10.14.6 Mojave / x86_64  OK    OK    OK    OK  UNNEEDED, same version is already published
Package 51/89HostnameOS / ArchINSTALLBUILDCHECKBUILD BIN
maigesPack 1.63.0  (landing page)
Gustavo H. Esteves
git_last_commit: 3d50cbe
git_last_commit_date: 2022-11-01 11:03:37 -0500
nebbiolo1Linux (Ubuntu 22.04.1 LTS) / x86_64  OK    OK    OK  UNNEEDED, same version is already published
palomino3Windows Server 2022 Datacenter / x64  OK    OK    OK    OK  UNNEEDED, same version is already published
merida1macOS 10.14.6 Mojave / x86_64  OK    OK    OK    OK  UNNEEDED, same version is already published
Package 52/89HostnameOS / ArchINSTALLBUILDCHECKBUILD BIN
MIGSA 1.23.0  (landing page)
Juan C. Rodriguez
git_last_commit: 1cc82b6
git_last_commit_date: 2022-11-01 11:15:16 -0500
nebbiolo1Linux (Ubuntu 22.04.1 LTS) / x86_64  OK    ERROR  skipped
palomino3Windows Server 2022 Datacenter / x64  OK    ERROR  skippedskipped
merida1macOS 10.14.6 Mojave / x86_64  OK    ERROR  skippedskipped
Package 53/89HostnameOS / ArchINSTALLBUILDCHECKBUILD BIN
MineICA 1.39.0  (landing page)
Anne Biton
git_last_commit: 1062666
git_last_commit_date: 2022-11-01 11:07:52 -0500
nebbiolo1Linux (Ubuntu 22.04.1 LTS) / x86_64  OK    OK    ERROR  
palomino3Windows Server 2022 Datacenter / x64  OK    ERROR  skippedskipped
merida1macOS 10.14.6 Mojave / x86_64  OK    ERROR  skippedskipped
Package 54/89HostnameOS / ArchINSTALLBUILDCHECKBUILD BIN
mirIntegrator 1.29.0  (landing page)
Diana Diaz
git_last_commit: 2cd1993
git_last_commit_date: 2022-11-01 11:11:47 -0500
nebbiolo1Linux (Ubuntu 22.04.1 LTS) / x86_64  OK    OK    OK  UNNEEDED, same version is already published
palomino3Windows Server 2022 Datacenter / x64  OK    OK    OK    OK  UNNEEDED, same version is already published
merida1macOS 10.14.6 Mojave / x86_64  OK    OK    OK    OK  UNNEEDED, same version is already published
Package 55/89HostnameOS / ArchINSTALLBUILDCHECKBUILD BIN
mnem 1.15.0  (landing page)
Martin Pirkl
git_last_commit: 9bda8a6
git_last_commit_date: 2022-12-22 02:37:37 -0500
nebbiolo1Linux (Ubuntu 22.04.1 LTS) / x86_64  OK    OK    OK  UNNEEDED, same version is already published
palomino3Windows Server 2022 Datacenter / x64  OK    OK    OK    OK  UNNEEDED, same version is already published
merida1macOS 10.14.6 Mojave / x86_64  OK    OK    OK    OK  UNNEEDED, same version is already published
Package 56/89HostnameOS / ArchINSTALLBUILDCHECKBUILD BIN
NCIgraph 1.47.0  (landing page)
Laurent Jacob
git_last_commit: 5be4f0a
git_last_commit_date: 2022-11-01 11:05:48 -0500
nebbiolo1Linux (Ubuntu 22.04.1 LTS) / x86_64  OK    OK    OK  UNNEEDED, same version is already published
palomino3Windows Server 2022 Datacenter / x64... NOT SUPPORTED ...
merida1macOS 10.14.6 Mojave / x86_64... NOT SUPPORTED ...
Package 57/89HostnameOS / ArchINSTALLBUILDCHECKBUILD BIN
NeighborNet 1.17.0  (landing page)
Sahar Ansari
git_last_commit: 516aaca
git_last_commit_date: 2022-11-01 11:18:35 -0500
nebbiolo1Linux (Ubuntu 22.04.1 LTS) / x86_64  OK    OK    OK  UNNEEDED, same version is already published
palomino3Windows Server 2022 Datacenter / x64  OK    OK    OK    OK  UNNEEDED, same version is already published
merida1macOS 10.14.6 Mojave / x86_64  OK    OK    OK    OK  UNNEEDED, same version is already published
Package 58/89HostnameOS / ArchINSTALLBUILDCHECKBUILD BIN
netresponse 1.59.0  (landing page)
Leo Lahti
git_last_commit: d338648
git_last_commit_date: 2022-11-01 11:05:19 -0500
nebbiolo1Linux (Ubuntu 22.04.1 LTS) / x86_64  OK    OK    OK  UNNEEDED, same version is already published
palomino3Windows Server 2022 Datacenter / x64  OK    OK    OK    OK  UNNEEDED, same version is already published
merida1macOS 10.14.6 Mojave / x86_64  OK    OK    OK    OK  UNNEEDED, same version is already published
Package 59/89HostnameOS / ArchINSTALLBUILDCHECKBUILD BIN
OncoSimulR 4.1.1  (landing page)
Ramon Diaz-Uriarte
git_last_commit: a61b2fd
git_last_commit_date: 2022-11-24 08:24:15 -0500
nebbiolo1Linux (Ubuntu 22.04.1 LTS) / x86_64  OK    OK    OK  UNNEEDED, same version is already published
palomino3Windows Server 2022 Datacenter / x64  OK    OK    OK    OK  UNNEEDED, same version is already published
merida1macOS 10.14.6 Mojave / x86_64  OK    OK    OK    OK  UNNEEDED, same version is already published
Package 60/89HostnameOS / ArchINSTALLBUILDCHECKBUILD BIN
ontoProc 1.21.0  (landing page)
Vincent Carey
git_last_commit: 9d840b9
git_last_commit_date: 2022-11-01 11:16:39 -0500
nebbiolo1Linux (Ubuntu 22.04.1 LTS) / x86_64  OK    OK    OK  UNNEEDED, same version is already published
palomino3Windows Server 2022 Datacenter / x64  OK    OK    OK    OK  UNNEEDED, same version is already published
merida1macOS 10.14.6 Mojave / x86_64  OK    OK    OK    OK  UNNEEDED, same version is already published
Package 61/89HostnameOS / ArchINSTALLBUILDCHECKBUILD BIN
openCyto 2.11.1  (landing page)
Mike Jiang
git_last_commit: 3f60af9
git_last_commit_date: 2022-11-29 19:33:29 -0500
nebbiolo1Linux (Ubuntu 22.04.1 LTS) / x86_64  OK    OK    WARNINGS  UNNEEDED, same version is already published
palomino3Windows Server 2022 Datacenter / x64  OK    OK    WARNINGS    OK  UNNEEDED, same version is already published
merida1macOS 10.14.6 Mojave / x86_64  OK    OK    WARNINGS    OK  UNNEEDED, same version is already published
Package 62/89HostnameOS / ArchINSTALLBUILDCHECKBUILD BIN
oposSOM 2.17.0  (landing page)
Henry Loeffler-Wirth
git_last_commit: db2d86c
git_last_commit_date: 2022-11-01 11:09:54 -0500
nebbiolo1Linux (Ubuntu 22.04.1 LTS) / x86_64  OK    OK    ERROR  
palomino3Windows Server 2022 Datacenter / x64  OK    OK    WARNINGS    OK  UNNEEDED, same version is already published
merida1macOS 10.14.6 Mojave / x86_64  OK    OK    WARNINGS    OK  UNNEEDED, same version is already published
Package 63/89HostnameOS / ArchINSTALLBUILDCHECKBUILD BIN
OrganismDbi 1.41.0  (landing page)
Bioconductor Package Maintainer
git_last_commit: 784ff35
git_last_commit_date: 2022-11-01 11:07:19 -0500
nebbiolo1Linux (Ubuntu 22.04.1 LTS) / x86_64  OK    OK    ERROR  
palomino3Windows Server 2022 Datacenter / x64  OK    OK    WARNINGS    OK  UNNEEDED, same version is already published
merida1macOS 10.14.6 Mojave / x86_64  OK    OK    ERROR    OK  
Package 64/89HostnameOS / ArchINSTALLBUILDCHECKBUILD BIN
pathRender 1.67.0  (landing page)
Vince Carey
git_last_commit: 2709b3b
git_last_commit_date: 2022-11-01 10:40:23 -0500
nebbiolo1Linux (Ubuntu 22.04.1 LTS) / x86_64  OK    OK    OK  UNNEEDED, same version is already published
palomino3Windows Server 2022 Datacenter / x64  OK    OK    OK    OK  UNNEEDED, same version is already published
merida1macOS 10.14.6 Mojave / x86_64  OK    OK    OK    OK  UNNEEDED, same version is already published
Package 65/89HostnameOS / ArchINSTALLBUILDCHECKBUILD BIN
pathview 1.39.0  (landing page)
Weijun Luo
git_last_commit: 8602503
git_last_commit_date: 2022-11-01 11:07:58 -0500
nebbiolo1Linux (Ubuntu 22.04.1 LTS) / x86_64  OK    OK    WARNINGS  UNNEEDED, same version is already published
palomino3Windows Server 2022 Datacenter / x64  OK    OK    WARNINGS    OK  UNNEEDED, same version is already published
merida1macOS 10.14.6 Mojave / x86_64  OK    OK    WARNINGS    OK  UNNEEDED, same version is already published
Package 66/89HostnameOS / ArchINSTALLBUILDCHECKBUILD BIN
PFP 1.7.0  (landing page)
XC Zhang
git_last_commit: c11fb9c
git_last_commit_date: 2022-11-01 11:23:44 -0500
nebbiolo1Linux (Ubuntu 22.04.1 LTS) / x86_64  OK    OK    OK  UNNEEDED, same version is already published
palomino3Windows Server 2022 Datacenter / x64  OK    OK    OK    OK  UNNEEDED, same version is already published
merida1macOS 10.14.6 Mojave / x86_64  OK    OK    OK    OK  UNNEEDED, same version is already published
Package 67/89HostnameOS / ArchINSTALLBUILDCHECKBUILD BIN
PhenStat 2.35.0  (landing page)
Hamed Haselimashhadi
git_last_commit: 747056e
git_last_commit_date: 2022-11-01 11:09:03 -0500
nebbiolo1Linux (Ubuntu 22.04.1 LTS) / x86_64  OK    OK    OK  UNNEEDED, same version is already published
palomino3Windows Server 2022 Datacenter / x64  OK    OK    OK    OK  UNNEEDED, same version is already published
merida1macOS 10.14.6 Mojave / x86_64  OK    OK    OK    OK  UNNEEDED, same version is already published
Package 68/89HostnameOS / ArchINSTALLBUILDCHECKBUILD BIN
Pigengene 1.25.10  (landing page)
Habil Zare
git_last_commit: 666e32d
git_last_commit_date: 2023-01-04 18:35:08 -0500
nebbiolo1Linux (Ubuntu 22.04.1 LTS) / x86_64  OK    OK    OK  UNNEEDED, same version is already published
palomino3Windows Server 2022 Datacenter / x64  OK    OK    OK    OK  UNNEEDED, same version is already published
merida1macOS 10.14.6 Mojave / x86_64  OK    OK    OK    OK  UNNEEDED, same version is already published
Package 69/89HostnameOS / ArchINSTALLBUILDCHECKBUILD BIN
pkgDepTools 1.65.1  (landing page)
Bioconductor Package Maintainer
git_last_commit: fea3b6d
git_last_commit_date: 2023-01-06 13:06:59 -0500
nebbiolo1Linux (Ubuntu 22.04.1 LTS) / x86_64  OK    OK    TIMEOUT  
palomino3Windows Server 2022 Datacenter / x64  OK    OK    WARNINGS    OK  UNNEEDED, same version is already published
merida1macOS 10.14.6 Mojave / x86_64  OK    TIMEOUT  skippedskipped
Package 70/89HostnameOS / ArchINSTALLBUILDCHECKBUILD BIN
pwOmics 1.31.0  (landing page)
Maren Sitte
git_last_commit: aa14525
git_last_commit_date: 2022-11-01 11:11:40 -0500
nebbiolo1Linux (Ubuntu 22.04.1 LTS) / x86_64  OK    OK    WARNINGS  UNNEEDED, same version is already published
palomino3Windows Server 2022 Datacenter / x64  OK    OK    WARNINGS    OK  UNNEEDED, same version is already published
merida1macOS 10.14.6 Mojave / x86_64  OK    OK    WARNINGS    OK  UNNEEDED, same version is already published
Package 71/89HostnameOS / ArchINSTALLBUILDCHECKBUILD BIN
qpgraph 2.33.0  (landing page)
Robert Castelo
git_last_commit: 35ee6f1
git_last_commit_date: 2022-11-01 11:04:16 -0500
nebbiolo1Linux (Ubuntu 22.04.1 LTS) / x86_64  OK    OK    WARNINGS  UNNEEDED, same version is already published
palomino3Windows Server 2022 Datacenter / x64  OK    OK    OK    OK  UNNEEDED, same version is already published
merida1macOS 10.14.6 Mojave / x86_64  OK    OK    WARNINGS    OK  UNNEEDED, same version is already published
Package 72/89HostnameOS / ArchINSTALLBUILDCHECKBUILD BIN
RbcBook1 1.67.0  (landing page)
Vince Carey
git_last_commit: 0c55b7e
git_last_commit_date: 2022-11-01 10:42:16 -0500
nebbiolo1Linux (Ubuntu 22.04.1 LTS) / x86_64  OK    OK    OK  UNNEEDED, same version is already published
palomino3Windows Server 2022 Datacenter / x64  OK    OK    OK    OK  UNNEEDED, same version is already published
merida1macOS 10.14.6 Mojave / x86_64  OK    OK    OK    OK  UNNEEDED, same version is already published
Package 73/89HostnameOS / ArchINSTALLBUILDCHECKBUILD BIN
RBGL 1.75.0  (landing page)
Bioconductor Package Maintainer
git_last_commit: ea470d8
git_last_commit_date: 2022-11-01 10:36:11 -0500
nebbiolo1Linux (Ubuntu 22.04.1 LTS) / x86_64  OK    OK    WARNINGS  UNNEEDED, same version is already published
palomino3Windows Server 2022 Datacenter / x64  OK    OK    WARNINGS    OK  UNNEEDED, same version is already published
merida1macOS 10.14.6 Mojave / x86_64  OK    OK    OK    OK  UNNEEDED, same version is already published
Package 74/89HostnameOS / ArchINSTALLBUILDCHECKBUILD BIN
RBioinf 1.59.0  (landing page)
Robert Gentleman
git_last_commit: 3750e86
git_last_commit_date: 2022-11-01 11:03:48 -0500
nebbiolo1Linux (Ubuntu 22.04.1 LTS) / x86_64  OK    OK    OK  UNNEEDED, same version is already published
palomino3Windows Server 2022 Datacenter / x64  OK    OK    OK    OK  UNNEEDED, same version is already published
merida1macOS 10.14.6 Mojave / x86_64  OK    OK    OK    OK  UNNEEDED, same version is already published
Package 75/89HostnameOS / ArchINSTALLBUILDCHECKBUILD BIN
RCy3 2.19.0  (landing page)
Alex Pico
git_last_commit: 92d567f
git_last_commit_date: 2023-01-31 03:46:17 -0500
nebbiolo1Linux (Ubuntu 22.04.1 LTS) / x86_64  OK    OK    OK  UNNEEDED, same version is already published
palomino3Windows Server 2022 Datacenter / x64  OK    OK    OK    OK  UNNEEDED, same version is already published
merida1macOS 10.14.6 Mojave / x86_64  OK    OK    OK    OK  UNNEEDED, same version is already published
Package 76/89HostnameOS / ArchINSTALLBUILDCHECKBUILD BIN
RCyjs 2.21.0  (landing page)
Paul Shannon
git_last_commit: 1f677cc
git_last_commit_date: 2022-11-01 11:11:32 -0500
nebbiolo1Linux (Ubuntu 22.04.1 LTS) / x86_64  OK    OK    WARNINGS  UNNEEDED, same version is already published
palomino3Windows Server 2022 Datacenter / x64  OK    OK    WARNINGS    OK  UNNEEDED, same version is already published
merida1macOS 10.14.6 Mojave / x86_64  OK    OK    WARNINGS    OK  UNNEEDED, same version is already published
Package 77/89HostnameOS / ArchINSTALLBUILDCHECKBUILD BIN
RGraph2js 1.27.0  (landing page)
Stephane Cano
git_last_commit: 2aa4a3f
git_last_commit_date: 2022-11-01 11:12:49 -0500
nebbiolo1Linux (Ubuntu 22.04.1 LTS) / x86_64  OK    OK    OK  UNNEEDED, same version is already published
palomino3Windows Server 2022 Datacenter / x64  OK    OK    OK    OK  UNNEEDED, same version is already published
merida1macOS 10.14.6 Mojave / x86_64  OK    OK    OK    OK  UNNEEDED, same version is already published
Package 78/89HostnameOS / ArchINSTALLBUILDCHECKBUILD BIN
Rgraphviz 2.43.0  (landing page)
Kasper Daniel Hansen
git_last_commit: 765f1ea
git_last_commit_date: 2022-11-01 10:35:36 -0500
nebbiolo1Linux (Ubuntu 22.04.1 LTS) / x86_64  OK    OK    WARNINGS  UNNEEDED, same version is already published
palomino3Windows Server 2022 Datacenter / x64  OK    OK    WARNINGS    OK  UNNEEDED, same version is already published
merida1macOS 10.14.6 Mojave / x86_64  OK    OK    WARNINGS    OK  UNNEEDED, same version is already published
Package 79/89HostnameOS / ArchINSTALLBUILDCHECKBUILD BIN
ROntoTools 2.27.0  (landing page)
Calin Voichita
git_last_commit: 3826d57
git_last_commit_date: 2022-11-01 11:08:04 -0500
nebbiolo1Linux (Ubuntu 22.04.1 LTS) / x86_64  OK    OK    OK  UNNEEDED, same version is already published
palomino3Windows Server 2022 Datacenter / x64  OK    OK    OK    OK  UNNEEDED, same version is already published
merida1macOS 10.14.6 Mojave / x86_64  OK    OK    OK    OK  UNNEEDED, same version is already published
Package 80/89HostnameOS / ArchINSTALLBUILDCHECKBUILD BIN
rsbml 2.57.0  (landing page)
Michael Lawrence
git_last_commit: a582b45
git_last_commit_date: 2022-11-01 11:03:36 -0500
nebbiolo1Linux (Ubuntu 22.04.1 LTS) / x86_64  OK    OK    WARNINGS  UNNEEDED, same version is already published
palomino3Windows Server 2022 Datacenter / x64  OK    OK    WARNINGS    OK  UNNEEDED, same version is already published
merida1macOS 10.14.6 Mojave / x86_64... NOT SUPPORTED ...
Package 81/89HostnameOS / ArchINSTALLBUILDCHECKBUILD BIN
Rtreemix 1.61.0  (landing page)
Jasmina Bogojeska
git_last_commit: 6f3173e
git_last_commit_date: 2022-11-01 11:03:39 -0500
nebbiolo1Linux (Ubuntu 22.04.1 LTS) / x86_64  OK    OK    WARNINGS  UNNEEDED, same version is already published
palomino3Windows Server 2022 Datacenter / x64  OK    OK    OK    OK  UNNEEDED, same version is already published
merida1macOS 10.14.6 Mojave / x86_64  OK    OK    WARNINGS    OK  UNNEEDED, same version is already published
Package 82/89HostnameOS / ArchINSTALLBUILDCHECKBUILD BIN
SGCP 0.99.10  (landing page)
Niloofar AghaieAbiane
git_last_commit: 73b69c4
git_last_commit_date: 2022-12-20 16:47:52 -0500
nebbiolo1Linux (Ubuntu 22.04.1 LTS) / x86_64  OK    OK    OK  UNNEEDED, same version is already published
palomino3Windows Server 2022 Datacenter / x64  OK    OK    OK    OK  UNNEEDED, same version is already published
merida1macOS 10.14.6 Mojave / x86_64  OK    OK    OK    OK  UNNEEDED, same version is already published
Package 83/89HostnameOS / ArchINSTALLBUILDCHECKBUILD BIN
SplicingGraphs 1.39.0  (landing page)
H. Pagès
git_last_commit: 547459a
git_last_commit_date: 2022-11-01 11:08:13 -0500
nebbiolo1Linux (Ubuntu 22.04.1 LTS) / x86_64  OK    OK    WARNINGS  UNNEEDED, same version is already published
palomino3Windows Server 2022 Datacenter / x64  OK    OK    WARNINGS    OK  UNNEEDED, same version is already published
merida1macOS 10.14.6 Mojave / x86_64  OK    OK    WARNINGS    OK  UNNEEDED, same version is already published
Package 84/89HostnameOS / ArchINSTALLBUILDCHECKBUILD BIN
SRAdb 1.61.0  (landing page)
Jack Zhu
git_last_commit: f71e429
git_last_commit_date: 2022-11-01 11:05:00 -0500
nebbiolo1Linux (Ubuntu 22.04.1 LTS) / x86_64  OK    OK    OK  UNNEEDED, same version is already published
palomino3Windows Server 2022 Datacenter / x64  OK    OK    OK    OK  UNNEEDED, same version is already published
merida1macOS 10.14.6 Mojave / x86_64  OK    OK    OK    OK  UNNEEDED, same version is already published
Package 85/89HostnameOS / ArchINSTALLBUILDCHECKBUILD BIN
Streamer 1.45.0  (landing page)
Martin Morgan
git_last_commit: 129425a
git_last_commit_date: 2022-11-01 11:06:06 -0500
nebbiolo1Linux (Ubuntu 22.04.1 LTS) / x86_64  OK    OK    OK  UNNEEDED, same version is already published
palomino3Windows Server 2022 Datacenter / x64  OK    OK    OK    OK  UNNEEDED, same version is already published
merida1macOS 10.14.6 Mojave / x86_64  OK    OK    OK    OK  UNNEEDED, same version is already published
Package 86/89HostnameOS / ArchINSTALLBUILDCHECKBUILD BIN
topGO 2.51.0  (landing page)
Adrian Alexa
git_last_commit: 074dd0d
git_last_commit_date: 2022-11-01 11:03:20 -0500
nebbiolo1Linux (Ubuntu 22.04.1 LTS) / x86_64  OK    OK    OK  UNNEEDED, same version is already published
palomino3Windows Server 2022 Datacenter / x64  OK    OK    OK    OK  UNNEEDED, same version is already published
merida1macOS 10.14.6 Mojave / x86_64  OK    OK    OK    OK  UNNEEDED, same version is already published
Package 87/89HostnameOS / ArchINSTALLBUILDCHECKBUILD BIN
trackViewer 1.35.4  (landing page)
Jianhong Ou
git_last_commit: aa48248
git_last_commit_date: 2023-02-01 10:40:20 -0500
nebbiolo1Linux (Ubuntu 22.04.1 LTS) / x86_64  OK    OK    OK  UNNEEDED, same version is already published
palomino3Windows Server 2022 Datacenter / x64  OK    OK    OK    OK  UNNEEDED, same version is already published
merida1macOS 10.14.6 Mojave / x86_64  OK    OK    OK    OK  UNNEEDED, same version is already published
Package 88/89HostnameOS / ArchINSTALLBUILDCHECKBUILD BIN
VariantFiltering 1.35.0  (landing page)
Robert Castelo
git_last_commit: 7638b6f
git_last_commit_date: 2022-11-01 11:09:33 -0500
nebbiolo1Linux (Ubuntu 22.04.1 LTS) / x86_64  OK    OK    WARNINGS  UNNEEDED, same version is already published
palomino3Windows Server 2022 Datacenter / x64  OK    OK    WARNINGS    OK  UNNEEDED, same version is already published
merida1macOS 10.14.6 Mojave / x86_64  OK    OK    WARNINGS    OK  UNNEEDED, same version is already published
Package 89/89HostnameOS / ArchINSTALLBUILDCHECKBUILD BIN
vtpnet 0.39.0  (landing page)
VJ Carey
git_last_commit: be96c38
git_last_commit_date: 2022-11-01 11:08:18 -0500
nebbiolo1Linux (Ubuntu 22.04.1 LTS) / x86_64  OK    OK    OK  UNNEEDED, same version is already published
palomino3Windows Server 2022 Datacenter / x64  OK    OK    OK    OK  UNNEEDED, same version is already published
merida1macOS 10.14.6 Mojave / x86_64  OK    OK    OK    OK  UNNEEDED, same version is already published