Back to Multiple platform build/check report for BioC 3.17:   simplified   long
ABCDEFGHIJKLMN[O]PQRSTUVWXYZ

This page was generated on 2023-03-20 11:05:14 -0400 (Mon, 20 Mar 2023).

HostnameOSArch (*)R versionInstalled pkgs
nebbiolo1Linux (Ubuntu 22.04.1 LTS)x86_64R Under development (unstable) (2023-03-16 r83996) -- "Unsuffered Consequences" 4297
palomino3Windows Server 2022 Datacenterx64R Under development (unstable) (2023-03-15 r83984 ucrt) -- "Unsuffered Consequences" 4286
merida1macOS 10.14.6 Mojavex86_64R Under development (unstable) (2023-03-16 r83985) -- "Unsuffered Consequences" 4150
Click on any hostname to see more info about the system (e.g. compilers)      (*) as reported by 'uname -p', except on Windows and Mac OS X

BUILD results for Organism.dplyr on nebbiolo1


To the developers/maintainers of the Organism.dplyr package:
- Please allow up to 24 hours (and sometimes 48 hours) for your latest push to git@git.bioconductor.org:packages/Organism.dplyr.git to
reflect on this report. See How and When does the builder pull? When will my changes propagate? for more information.
- Make sure to use the following settings in order to reproduce any error or warning you see on this page.

raw results

Package 1423/2189HostnameOS / ArchINSTALLBUILDCHECKBUILD BIN
Organism.dplyr 1.27.1  (landing page)
Martin Morgan
Snapshot Date: 2023-03-19 14:00:12 -0400 (Sun, 19 Mar 2023)
git_url: https://git.bioconductor.org/packages/Organism.dplyr
git_branch: master
git_last_commit: 814e7b2
git_last_commit_date: 2023-02-21 13:49:35 -0400 (Tue, 21 Feb 2023)
nebbiolo1Linux (Ubuntu 22.04.1 LTS) / x86_64  OK    OK    OK  UNNEEDED, same version is already published
palomino3Windows Server 2022 Datacenter / x64  OK    OK    OK    OK  UNNEEDED, same version is already published
merida1macOS 10.14.6 Mojave / x86_64  OK    OK    OK    OK  UNNEEDED, same version is already published

Summary

Package: Organism.dplyr
Version: 1.27.1
Command: /home/biocbuild/bbs-3.17-bioc/R/bin/R CMD build --keep-empty-dirs --no-resave-data Organism.dplyr
StartedAt: 2023-03-19 17:18:49 -0400 (Sun, 19 Mar 2023)
EndedAt: 2023-03-19 17:21:08 -0400 (Sun, 19 Mar 2023)
EllapsedTime: 138.8 seconds
RetCode: 0
Status:   OK  
PackageFile: Organism.dplyr_1.27.1.tar.gz
PackageFileSize: 505.4 KiB

Command output

##############################################################################
##############################################################################
###
### Running command:
###
###   /home/biocbuild/bbs-3.17-bioc/R/bin/R CMD build --keep-empty-dirs --no-resave-data Organism.dplyr
###
##############################################################################
##############################################################################


* checking for file ‘Organism.dplyr/DESCRIPTION’ ... OK
* preparing ‘Organism.dplyr’:
* checking DESCRIPTION meta-information ... OK
* installing the package to build vignettes
* creating vignettes ... OK
* checking for LF line-endings in source and make files and shell scripts
* checking for empty or unneeded directories
* building ‘Organism.dplyr_1.27.1.tar.gz’