Back to Multiple platform build/check report for BioC 3.17: simplified long |
|
This page was generated on 2023-05-27 11:06:33 -0400 (Sat, 27 May 2023).
Hostname | OS | Arch (*) | R version | Installed pkgs |
---|---|---|---|---|
nebbiolo1 | Linux (Ubuntu 22.04.2 LTS) | x86_64 | 4.3.0 RC (2023-04-13 r84269) -- "Already Tomorrow" | 4617 |
palomino3 | Windows Server 2022 Datacenter | x64 | 4.3.0 RC (2023-04-13 r84269 ucrt) -- "Already Tomorrow" | 4368 |
merida1 | macOS 12.6.4 Monterey | x86_64 | 4.3.0 RC (2023-04-13 r84257) -- "Already Tomorrow" | 4326 |
Click on any hostname to see more info about the system (e.g. compilers) (*) as reported by 'uname -p', except on Windows and Mac OS X |
To the developers/maintainers of the cytomapper package: - Allow up to 24 hours (and sometimes 48 hours) for your latest push to git@git.bioconductor.org:packages/cytomapper.git to reflect on this report. See Troubleshooting Build Report for more information. - Use the following Renviron settings to reproduce errors and warnings. Note: If "R CMD check" recently failed on the Linux builder over a missing dependency, add the missing dependency to "Suggests" in your DESCRIPTION file. See the Renviron.bioc for details. |
Package 483/2229 | Hostname | OS / Arch | INSTALL | BUILD | CHECK | BUILD BIN | ||||||||
cytomapper 1.12.0 (landing page) Nils Eling
| nebbiolo1 | Linux (Ubuntu 22.04.2 LTS) / x86_64 | OK | OK | OK | ![]() | ||||||||
palomino3 | Windows Server 2022 Datacenter / x64 | OK | OK | OK | OK | ![]() | ||||||||
merida1 | macOS 12.6.4 Monterey / x86_64 | OK | OK | OK | OK | ![]() | ||||||||
Package: cytomapper |
Version: 1.12.0 |
Command: /Library/Frameworks/R.framework/Resources/bin/R CMD check --install=check:cytomapper.install-out.txt --library=/Library/Frameworks/R.framework/Resources/library --no-vignettes --timings cytomapper_1.12.0.tar.gz |
StartedAt: 2023-05-27 00:41:01 -0400 (Sat, 27 May 2023) |
EndedAt: 2023-05-27 01:20:38 -0400 (Sat, 27 May 2023) |
EllapsedTime: 2377.3 seconds |
RetCode: 0 |
Status: OK |
CheckDir: cytomapper.Rcheck |
Warnings: 0 |
############################################################################## ############################################################################## ### ### Running command: ### ### /Library/Frameworks/R.framework/Resources/bin/R CMD check --install=check:cytomapper.install-out.txt --library=/Library/Frameworks/R.framework/Resources/library --no-vignettes --timings cytomapper_1.12.0.tar.gz ### ############################################################################## ############################################################################## * using log directory ‘/Users/biocbuild/bbs-3.17-bioc/meat/cytomapper.Rcheck’ * using R version 4.3.0 RC (2023-04-13 r84257) * using platform: x86_64-apple-darwin20 (64-bit) * R was compiled by Apple clang version 14.0.3 (clang-1403.0.22.14.1) GNU Fortran (GCC) 12.2.0 * running under: macOS Monterey 12.6.4 * using session charset: UTF-8 * using option ‘--no-vignettes’ * checking for file ‘cytomapper/DESCRIPTION’ ... OK * this is package ‘cytomapper’ version ‘1.12.0’ * package encoding: UTF-8 * checking package namespace information ... OK * checking package dependencies ... OK * checking if this is a source package ... OK * checking if there is a namespace ... OK * checking for hidden files and directories ... OK * checking for portable file names ... OK * checking for sufficient/correct file permissions ... OK * checking whether package ‘cytomapper’ can be installed ... OK * checking installed package size ... OK * checking package directory ... OK * checking ‘build’ directory ... OK * checking DESCRIPTION meta-information ... OK * checking top-level files ... OK * checking for left-over files ... OK * checking index information ... OK * checking package subdirectories ... OK * checking R files for non-ASCII characters ... OK * checking R files for syntax errors ... OK * checking whether the package can be loaded ... OK * checking whether the package can be loaded with stated dependencies ... OK * checking whether the package can be unloaded cleanly ... OK * checking whether the namespace can be loaded with stated dependencies ... OK * checking whether the namespace can be unloaded cleanly ... OK * checking dependencies in R code ... OK * checking S3 generic/method consistency ... OK * checking replacement functions ... OK * checking foreign function calls ... OK * checking R code for possible problems ... OK * checking Rd files ... OK * checking Rd metadata ... OK * checking Rd cross-references ... OK * checking for missing documentation entries ... OK * checking for code/documentation mismatches ... OK * checking Rd \usage sections ... OK * checking Rd contents ... OK * checking for unstated dependencies in examples ... OK * checking contents of ‘data’ directory ... OK * checking data for non-ASCII characters ... OK * checking data for ASCII and uncompressed saves ... OK * checking files in ‘vignettes’ ... OK * checking examples ... OK Examples with CPU (user + system) or elapsed time > 5s user system elapsed plotting-param 8.221 0.139 10.667 measureObjects 7.810 0.526 10.765 plotCells 6.387 0.125 8.531 plotPixels 4.618 0.280 6.192 CytoImageList-manipulation 4.384 0.078 5.657 * checking for unstated dependencies in ‘tests’ ... OK * checking tests ... Running ‘testthat.R’ OK * checking for unstated dependencies in vignettes ... OK * checking package vignettes in ‘inst/doc’ ... OK * checking running R code from vignettes ... SKIPPED * checking re-building of vignette outputs ... SKIPPED * checking PDF version of manual ... OK * DONE Status: OK
cytomapper.Rcheck/00install.out
############################################################################## ############################################################################## ### ### Running command: ### ### /Library/Frameworks/R.framework/Resources/bin/R CMD INSTALL cytomapper ### ############################################################################## ############################################################################## * installing to library ‘/Library/Frameworks/R.framework/Versions/4.3-x86_64/Resources/library’ * installing *source* package ‘cytomapper’ ... ** using staged installation ** R ** data ** inst ** byte-compile and prepare package for lazy loading ** help *** installing help indices ** building package indices ** installing vignettes ** testing if installed package can be loaded from temporary location ** testing if installed package can be loaded from final location ** testing if installed package keeps a record of temporary installation path * DONE (cytomapper)
cytomapper.Rcheck/tests/testthat.Rout
R version 4.3.0 RC (2023-04-13 r84257) -- "Already Tomorrow" Copyright (C) 2023 The R Foundation for Statistical Computing Platform: x86_64-apple-darwin20 (64-bit) R is free software and comes with ABSOLUTELY NO WARRANTY. You are welcome to redistribute it under certain conditions. Type 'license()' or 'licence()' for distribution details. R is a collaborative project with many contributors. Type 'contributors()' for more information and 'citation()' on how to cite R or R packages in publications. Type 'demo()' for some demos, 'help()' for on-line help, or 'help.start()' for an HTML browser interface to help. Type 'q()' to quit R. > library(testthat) > library(cytomapper) Loading required package: EBImage Loading required package: SingleCellExperiment Loading required package: SummarizedExperiment Loading required package: MatrixGenerics Loading required package: matrixStats Attaching package: 'MatrixGenerics' The following objects are masked from 'package:matrixStats': colAlls, colAnyNAs, colAnys, colAvgsPerRowSet, colCollapse, colCounts, colCummaxs, colCummins, colCumprods, colCumsums, colDiffs, colIQRDiffs, colIQRs, colLogSumExps, colMadDiffs, colMads, colMaxs, colMeans2, colMedians, colMins, colOrderStats, colProds, colQuantiles, colRanges, colRanks, colSdDiffs, colSds, colSums2, colTabulates, colVarDiffs, colVars, colWeightedMads, colWeightedMeans, colWeightedMedians, colWeightedSds, colWeightedVars, rowAlls, rowAnyNAs, rowAnys, rowAvgsPerColSet, rowCollapse, rowCounts, rowCummaxs, rowCummins, rowCumprods, rowCumsums, rowDiffs, rowIQRDiffs, rowIQRs, rowLogSumExps, rowMadDiffs, rowMads, rowMaxs, rowMeans2, rowMedians, rowMins, rowOrderStats, rowProds, rowQuantiles, rowRanges, rowRanks, rowSdDiffs, rowSds, rowSums2, rowTabulates, rowVarDiffs, rowVars, rowWeightedMads, rowWeightedMeans, rowWeightedMedians, rowWeightedSds, rowWeightedVars Loading required package: GenomicRanges Loading required package: stats4 Loading required package: BiocGenerics Attaching package: 'BiocGenerics' The following objects are masked from 'package:stats': IQR, mad, sd, var, xtabs The following objects are masked from 'package:base': Filter, Find, Map, Position, Reduce, anyDuplicated, aperm, append, as.data.frame, basename, cbind, colnames, dirname, do.call, duplicated, eval, evalq, get, grep, grepl, intersect, is.unsorted, lapply, mapply, match, mget, order, paste, pmax, pmax.int, pmin, pmin.int, rank, rbind, rownames, sapply, setdiff, sort, table, tapply, union, unique, unsplit, which.max, which.min Loading required package: S4Vectors Attaching package: 'S4Vectors' The following object is masked from 'package:utils': findMatches The following objects are masked from 'package:base': I, expand.grid, unname Loading required package: IRanges Attaching package: 'IRanges' The following objects are masked from 'package:EBImage': resize, tile Loading required package: GenomeInfoDb Loading required package: Biobase Welcome to Bioconductor Vignettes contain introductory material; view with 'browseVignettes()'. To cite Bioconductor, see 'citation("Biobase")', and for packages 'citation("pkgname")'. Attaching package: 'Biobase' The following object is masked from 'package:MatrixGenerics': rowMedians The following objects are masked from 'package:matrixStats': anyMissing, rowMedians The following object is masked from 'package:EBImage': channel Attaching package: 'cytomapper' The following objects are masked from 'package:Biobase': channelNames, channelNames<- > > test_check("cytomapper") 2023-05-27 01:19:39.491 R[55365:320542614] XType: com.apple.fonts is not accessible. 2023-05-27 01:19:39.492 R[55365:320542614] XType: XTFontStaticRegistry is enabled. [ FAIL 0 | WARN 0 | SKIP 12 | PASS 2928 ] ══ Skipped tests ═══════════════════════════════════════════════════════════════ • On Bioconductor (2) • On CRAN (5) • empty test (5) [ FAIL 0 | WARN 0 | SKIP 12 | PASS 2928 ] > > proc.time() user system elapsed 1013.197 47.688 1413.385
cytomapper.Rcheck/cytomapper-Ex.timings
name | user | system | elapsed | |
CytoImageList-manipulation | 4.384 | 0.078 | 5.657 | |
CytoImageList-naming | 0.081 | 0.006 | 0.104 | |
CytoImageList-subsetting | 2.234 | 0.209 | 3.080 | |
CytoImageList | 0.325 | 0.062 | 0.494 | |
compImage | 2.907 | 0.152 | 3.897 | |
cytomapperShiny | 0.002 | 0.002 | 0.003 | |
loadImages | 3.022 | 0.386 | 3.889 | |
measureObjects | 7.810 | 0.526 | 10.765 | |
plotCells | 6.387 | 0.125 | 8.531 | |
plotPixels | 4.618 | 0.280 | 6.192 | |
plotting-param | 8.221 | 0.139 | 10.667 | |