Back to Multiple platform build/check report for BioC 3.17:   simplified   long
[A]BCDEFGHIJKLMNOPQRSTUVWXYZ

This page was generated on 2023-03-31 11:02:58 -0400 (Fri, 31 Mar 2023).

HostnameOSArch (*)R versionInstalled pkgs
nebbiolo1Linux (Ubuntu 22.04.1 LTS)x86_64R Under development (unstable) (2023-03-16 r83996) -- "Unsuffered Consequences" 4547
palomino3Windows Server 2022 Datacenterx64R Under development (unstable) (2023-03-15 r83984 ucrt) -- "Unsuffered Consequences" 4308
Click on any hostname to see more info about the system (e.g. compilers)      (*) as reported by 'uname -p', except on Windows and Mac OS X

BUILD BIN results for atena on palomino3


To the developers/maintainers of the atena package:
- Allow up to 24 hours (and sometimes 48 hours) for your latest push to git@git.bioconductor.org:packages/atena.git to reflect on this report. See Troubleshooting Build Report for more information.

- Use the following Renviron settings to reproduce errors and warnings.

Note: If "R CMD check" recently failed on the Linux builder over a missing dependency, add the missing dependency to "Suggests" in your DESCRIPTION file. See the Renviron.bioc for details.

raw results

Package 107/2195HostnameOS / ArchINSTALLBUILDCHECKBUILD BIN
atena 1.5.11  (landing page)
Beatriz Calvo-Serra
Snapshot Date: 2023-03-30 14:00:16 -0400 (Thu, 30 Mar 2023)
git_url: https://git.bioconductor.org/packages/atena
git_branch: devel
git_last_commit: f24df02
git_last_commit_date: 2023-03-28 16:27:00 -0400 (Tue, 28 Mar 2023)
nebbiolo1Linux (Ubuntu 22.04.1 LTS) / x86_64  OK    OK    OK  UNNEEDED, same version is already published
palomino3Windows Server 2022 Datacenter / x64  OK    OK    OK    OK  YES

Summary

Package: atena
Version: 1.5.11
Command: rm -rf atena.buildbin-libdir && mkdir atena.buildbin-libdir && F:\biocbuild\bbs-3.17-bioc\R\bin\R.exe CMD INSTALL --build --library=atena.buildbin-libdir atena_1.5.11.tar.gz
StartedAt: 2023-03-31 08:01:57 -0400 (Fri, 31 Mar 2023)
EndedAt: 2023-03-31 08:02:43 -0400 (Fri, 31 Mar 2023)
EllapsedTime: 45.7 seconds
RetCode: 0
Status:   OK  
PackageFile: atena_1.5.11.zip
PackageFileSize: 1.533 MiB

Command output

##############################################################################
##############################################################################
###
### Running command:
###
###   rm -rf atena.buildbin-libdir && mkdir atena.buildbin-libdir && F:\biocbuild\bbs-3.17-bioc\R\bin\R.exe CMD INSTALL --build --library=atena.buildbin-libdir atena_1.5.11.tar.gz
###
##############################################################################
##############################################################################


* installing *source* package 'atena' ...
** using staged installation
** R
** inst
** byte-compile and prepare package for lazy loading
** help
*** installing help indices
** building package indices
** installing vignettes
** testing if installed package can be loaded from temporary location
** testing if installed package can be loaded from final location
** testing if installed package keeps a record of temporary installation path
* MD5 sums
packaged installation of 'atena' as atena_1.5.11.zip
* DONE (atena)