Back to Multiple platform build/check report for BioC 3.17:   simplified   long
ABCDEFGHIJKLMNOPQR[S]TUVWXYZ

This page was generated on 2023-10-03 11:36:58 -0400 (Tue, 03 Oct 2023).

HostnameOSArch (*)R versionInstalled pkgs
nebbiolo1Linux (Ubuntu 22.04.2 LTS)x86_644.3.1 (2023-06-16) -- "Beagle Scouts" 4626
palomino3Windows Server 2022 Datacenterx644.3.1 (2023-06-16 ucrt) -- "Beagle Scouts" 4379
merida1macOS 12.6.4 Montereyx86_644.3.1 (2023-06-16) -- "Beagle Scouts" 4395
Click on any hostname to see more info about the system (e.g. compilers)      (*) as reported by 'uname -p', except on Windows and Mac OS X

Package 1976/2230HostnameOS / ArchINSTALLBUILDCHECKBUILD BIN
spatialHeatmap 2.6.2  (landing page)
Jianhai Zhang
Snapshot Date: 2023-10-02 14:00:11 -0400 (Mon, 02 Oct 2023)
git_url: https://git.bioconductor.org/packages/spatialHeatmap
git_branch: RELEASE_3_17
git_last_commit: 83ed9ad
git_last_commit_date: 2023-08-30 06:13:04 -0400 (Wed, 30 Aug 2023)
nebbiolo1Linux (Ubuntu 22.04.2 LTS) / x86_64  OK    OK    OK  UNNEEDED, same version is already published
palomino3Windows Server 2022 Datacenter / x64  OK    OK    OK    OK  UNNEEDED, same version is already published
merida1macOS 12.6.4 Monterey / x86_64  OK    OK    OK    OK  UNNEEDED, same version is already published

CHECK results for spatialHeatmap on palomino3


To the developers/maintainers of the spatialHeatmap package:
- Allow up to 24 hours (and sometimes 48 hours) for your latest push to git@git.bioconductor.org:packages/spatialHeatmap.git to reflect on this report. See Troubleshooting Build Report for more information.
- Use the following Renviron settings to reproduce errors and warnings.
- If 'R CMD check' started to fail recently on the Linux builder(s) over a missing dependency, add the missing dependency to 'Suggests:' in your DESCRIPTION file. See Renviron.bioc for more information.

raw results


Summary

Package: spatialHeatmap
Version: 2.6.2
Command: F:\biocbuild\bbs-3.17-bioc\R\bin\R.exe CMD check --no-multiarch --install=check:spatialHeatmap.install-out.txt --library=F:\biocbuild\bbs-3.17-bioc\R\library --no-vignettes --timings spatialHeatmap_2.6.2.tar.gz
StartedAt: 2023-10-03 07:16:17 -0400 (Tue, 03 Oct 2023)
EndedAt: 2023-10-03 07:23:23 -0400 (Tue, 03 Oct 2023)
EllapsedTime: 426.1 seconds
RetCode: 0
Status:   OK  
CheckDir: spatialHeatmap.Rcheck
Warnings: 0

Command output

##############################################################################
##############################################################################
###
### Running command:
###
###   F:\biocbuild\bbs-3.17-bioc\R\bin\R.exe CMD check --no-multiarch --install=check:spatialHeatmap.install-out.txt --library=F:\biocbuild\bbs-3.17-bioc\R\library --no-vignettes --timings spatialHeatmap_2.6.2.tar.gz
###
##############################################################################
##############################################################################


* using log directory 'F:/biocbuild/bbs-3.17-bioc/meat/spatialHeatmap.Rcheck'
* using R version 4.3.1 (2023-06-16 ucrt)
* using platform: x86_64-w64-mingw32 (64-bit)
* R was compiled by
    gcc.exe (GCC) 12.2.0
    GNU Fortran (GCC) 12.2.0
* running under: Windows Server 2022 x64 (build 20348)
* using session charset: UTF-8
* using option '--no-vignettes'
* checking for file 'spatialHeatmap/DESCRIPTION' ... OK
* checking extension type ... Package
* this is package 'spatialHeatmap' version '2.6.2'
* package encoding: UTF-8
* checking package namespace information ... OK
* checking package dependencies ... OK
* checking if this is a source package ... OK
* checking if there is a namespace ... OK
* checking for hidden files and directories ... OK
* checking for portable file names ... OK
* checking whether package 'spatialHeatmap' can be installed ... OK
* checking installed package size ... NOTE
  installed size is 30.6Mb
  sub-directories of 1Mb or more:
    R         1.2Mb
    extdata  29.0Mb
* checking package directory ... OK
* checking 'build' directory ... OK
* checking DESCRIPTION meta-information ... OK
* checking top-level files ... OK
* checking for left-over files ... OK
* checking index information ... OK
* checking package subdirectories ... OK
* checking R files for non-ASCII characters ... OK
* checking R files for syntax errors ... OK
* checking whether the package can be loaded ... OK
* checking whether the package can be loaded with stated dependencies ... OK
* checking whether the package can be unloaded cleanly ... OK
* checking whether the namespace can be loaded with stated dependencies ... OK
* checking whether the namespace can be unloaded cleanly ... OK
* checking dependencies in R code ... OK
* checking S3 generic/method consistency ... OK
* checking replacement functions ... OK
* checking foreign function calls ... OK
* checking R code for possible problems ... OK
* checking Rd files ... OK
* checking Rd metadata ... OK
* checking Rd cross-references ... OK
* checking for missing documentation entries ... OK
* checking for code/documentation mismatches ... OK
* checking Rd \usage sections ... OK
* checking Rd contents ... OK
* checking for unstated dependencies in examples ... OK
* checking contents of 'data' directory ... OK
* checking data for non-ASCII characters ... OK
* checking data for ASCII and uncompressed saves ... OK
* checking files in 'vignettes' ... OK
* checking examples ... OK
Examples with CPU (user + system) or elapsed time > 5s
                   user system elapsed
covis             16.16   0.23   17.59
SPHM              15.53   0.39   17.55
cell_group        10.54   0.13   10.66
process_cell_meta  7.93   0.13    8.08
reduce_dim         7.68   0.06    7.75
spatial_hm         4.82   0.11    5.66
* checking for unstated dependencies in 'tests' ... OK
* checking tests ...
  Running 'runTests.R'
 OK
* checking for unstated dependencies in vignettes ... OK
* checking package vignettes in 'inst/doc' ... OK
* checking running R code from vignettes ... SKIPPED
* checking re-building of vignette outputs ... SKIPPED
* checking PDF version of manual ... OK
* DONE

Status: 1 NOTE
See
  'F:/biocbuild/bbs-3.17-bioc/meat/spatialHeatmap.Rcheck/00check.log'
for details.



Installation output

spatialHeatmap.Rcheck/00install.out

##############################################################################
##############################################################################
###
### Running command:
###
###   F:\biocbuild\bbs-3.17-bioc\R\bin\R.exe CMD INSTALL spatialHeatmap
###
##############################################################################
##############################################################################


* installing to library 'F:/biocbuild/bbs-3.17-bioc/R/library'
* installing *source* package 'spatialHeatmap' ...
** using staged installation
** R
** data
** inst
** byte-compile and prepare package for lazy loading
Creating a new generic function for 'svg' in package 'spatialHeatmap'
Creating a new generic function for 'match' in package 'spatialHeatmap'
** help
*** installing help indices
** building package indices
** installing vignettes
** testing if installed package can be loaded from temporary location
** testing if installed package can be loaded from final location
** testing if installed package keeps a record of temporary installation path
* DONE (spatialHeatmap)

Tests output

spatialHeatmap.Rcheck/tests/runTests.Rout


R version 4.3.1 (2023-06-16 ucrt) -- "Beagle Scouts"
Copyright (C) 2023 The R Foundation for Statistical Computing
Platform: x86_64-w64-mingw32/x64 (64-bit)

R is free software and comes with ABSOLUTELY NO WARRANTY.
You are welcome to redistribute it under certain conditions.
Type 'license()' or 'licence()' for distribution details.

R is a collaborative project with many contributors.
Type 'contributors()' for more information and
'citation()' on how to cite R or R packages in publications.

Type 'demo()' for some demos, 'help()' for on-line help, or
'help.start()' for an HTML browser interface to help.
Type 'q()' to quit R.

> BiocGenerics:::testPackage("spatialHeatmap")

Attaching package: 'spatialHeatmap'

The following object is masked from 'package:grDevices':

    svg

The following object is masked from 'package:base':

    match

Loading required package: Biobase
Loading required package: BiocGenerics

Attaching package: 'BiocGenerics'

The following object is masked from 'package:spatialHeatmap':

    match

The following objects are masked from 'package:stats':

    IQR, mad, sd, var, xtabs

The following objects are masked from 'package:base':

    Filter, Find, Map, Position, Reduce, anyDuplicated, aperm, append,
    as.data.frame, basename, cbind, colnames, dirname, do.call,
    duplicated, eval, evalq, get, grep, grepl, intersect, is.unsorted,
    lapply, mapply, match, mget, order, paste, pmax, pmax.int, pmin,
    pmin.int, rank, rbind, rownames, sapply, setdiff, sort, table,
    tapply, union, unique, unsplit, which.max, which.min

Welcome to Bioconductor

    Vignettes contain introductory material; view with
    'browseVignettes()'. To cite Bioconductor, see
    'citation("Biobase")', and for packages 'citation("pkgname")'.

Loading required package: SummarizedExperiment
Loading required package: MatrixGenerics
Loading required package: matrixStats

Attaching package: 'matrixStats'

The following objects are masked from 'package:Biobase':

    anyMissing, rowMedians


Attaching package: 'MatrixGenerics'

The following objects are masked from 'package:matrixStats':

    colAlls, colAnyNAs, colAnys, colAvgsPerRowSet, colCollapse,
    colCounts, colCummaxs, colCummins, colCumprods, colCumsums,
    colDiffs, colIQRDiffs, colIQRs, colLogSumExps, colMadDiffs,
    colMads, colMaxs, colMeans2, colMedians, colMins, colOrderStats,
    colProds, colQuantiles, colRanges, colRanks, colSdDiffs, colSds,
    colSums2, colTabulates, colVarDiffs, colVars, colWeightedMads,
    colWeightedMeans, colWeightedMedians, colWeightedSds,
    colWeightedVars, rowAlls, rowAnyNAs, rowAnys, rowAvgsPerColSet,
    rowCollapse, rowCounts, rowCummaxs, rowCummins, rowCumprods,
    rowCumsums, rowDiffs, rowIQRDiffs, rowIQRs, rowLogSumExps,
    rowMadDiffs, rowMads, rowMaxs, rowMeans2, rowMedians, rowMins,
    rowOrderStats, rowProds, rowQuantiles, rowRanges, rowRanks,
    rowSdDiffs, rowSds, rowSums2, rowTabulates, rowVarDiffs, rowVars,
    rowWeightedMads, rowWeightedMeans, rowWeightedMedians,
    rowWeightedSds, rowWeightedVars

The following object is masked from 'package:Biobase':

    rowMedians

Loading required package: GenomicRanges
Loading required package: stats4
Loading required package: S4Vectors

Attaching package: 'S4Vectors'

The following object is masked from 'package:utils':

    findMatches

The following objects are masked from 'package:base':

    I, expand.grid, unname

Loading required package: IRanges

Attaching package: 'IRanges'

The following object is masked from 'package:grDevices':

    windows

Loading required package: GenomeInfoDb
Loading required package: limma

Attaching package: 'limma'

The following object is masked from 'package:BiocGenerics':

    plotMA

Loading required package: xml2
Loading required package: RCurl
Loading required package: jsonlite
Loading required package: BiocStyle

Attaching package: 'BiocStyle'

The following object is masked from 'package:spatialHeatmap':

    output

Normalising: ESF 
   type 
"ratio" 
Syntactically valid column names are made! 
Syntactically valid column names are made! 
All values before filtering:
   Min. 1st Qu.  Median    Mean 3rd Qu.    Max. 
  0.000   0.000   0.287   2.442   4.268  19.991 
All coefficient of variances (CVs) before filtering:
     Min.   1st Qu.    Median      Mean   3rd Qu.      Max. 
0.0007742 0.0767696 0.4019655 0.6217813 0.9956157 2.0000000 
All values after filtering:
   Min. 1st Qu.  Median    Mean 3rd Qu.    Max. 
  0.000   2.654   4.976   4.779   6.451  14.695 
All coefficient of variances (CVs) after filtering:
   Min. 1st Qu.  Median    Mean 3rd Qu.    Max. 
 0.3001  0.3648  0.4637  0.5651  0.7392  1.1548 

Warning: variables of sample/condition are less than 5! 
..connectivity..
..matrix multiplication (system BLAS)..
..normalization..
..done.
 ..done.
 ..done.
 ..done.
 ..done.
Normalising: ESF 
   type 
"ratio" 
Syntactically valid column names are made! 
Syntactically valid column names are made! 
All values before filtering:
   Min. 1st Qu.  Median    Mean 3rd Qu.    Max. 
  0.000   0.000   0.287   2.442   4.268  19.991 
All coefficient of variances (CVs) before filtering:
     Min.   1st Qu.    Median      Mean   3rd Qu.      Max. 
0.0007742 0.0767696 0.4019655 0.6217813 0.9956157 2.0000000 
All values after filtering:
   Min. 1st Qu.  Median    Mean 3rd Qu.    Max. 
  0.000   2.654   4.976   4.779   6.451  14.695 
All coefficient of variances (CVs) after filtering:
   Min. 1st Qu.  Median    Mean 3rd Qu.    Max. 
 0.3001  0.3648  0.4637  0.5651  0.7392  1.1548 


RUNIT TEST PROTOCOL -- Tue Oct  3 07:23:07 2023 
*********************************************** 
Number of test functions: 2 
Number of errors: 0 
Number of failures: 0 

 
1 Test Suite : 
spatialHeatmap RUnit Tests - 2 test functions, 0 errors, 0 failures
Number of test functions: 2 
Number of errors: 0 
Number of failures: 0 
> 
> proc.time()
   user  system elapsed 
  24.85    2.34   26.10 

Example timings

spatialHeatmap.Rcheck/spatialHeatmap-Ex.timings

nameusersystemelapsed
Database0.440.020.61
SPHM15.53 0.3917.55
SPHMMethods1.700.212.66
SVG0.380.011.44
SVGMethods0.340.080.93
SpatialEnrichment4.270.174.99
aSVG.remote.repo000
adj_mod2.870.333.31
aggr_rep0.900.030.93
cell_group10.54 0.1310.66
cluster_cell1.180.091.28
coclus_opt0.260.020.72
cocluster0.240.040.48
com_factor0.220.030.25
covis16.16 0.2317.59
custom_shiny0.030.000.03
cut_dendro0.560.110.69
cvt_id0.510.020.53
edit_tar000
filter_data1.030.001.03
matrix_hm2.280.062.36
network2.140.132.27
norm_cell2.010.112.12
norm_data0.970.041.02
norm_srsc2.140.252.39
opt_bar0.110.000.11
opt_setting0.020.000.02
opt_violin0.20.00.2
optimal_k0.160.000.16
plot_dim1.620.071.69
plot_kmeans0.530.030.56
plot_meta2.520.073.77
process_cell_meta7.930.138.08
qc_cell1.160.051.20
read_cache2.220.092.31
read_fr0.000.020.02
read_svg0.190.091.33
reduce_dim7.680.067.75
reduce_rep000
return_feature0.690.030.72
save_cache2.160.052.20
shiny_shm000
shm3.150.164.23
spatialHeatmap-package000
spatial_hm4.820.115.66
submatrix2.310.112.44
true_bulk0.350.010.36
update_feature000
write_svg2.940.113.77