Back to Multiple platform build/check report for BioC 3.17:   simplified   long
ABCDEFGH[I]JKLMNOPQRSTUVWXYZ

This page was generated on 2023-03-31 11:03:09 -0400 (Fri, 31 Mar 2023).

HostnameOSArch (*)R versionInstalled pkgs
nebbiolo1Linux (Ubuntu 22.04.1 LTS)x86_64R Under development (unstable) (2023-03-16 r83996) -- "Unsuffered Consequences" 4547
palomino3Windows Server 2022 Datacenterx64R Under development (unstable) (2023-03-15 r83984 ucrt) -- "Unsuffered Consequences" 4308
Click on any hostname to see more info about the system (e.g. compilers)      (*) as reported by 'uname -p', except on Windows and Mac OS X

BUILD BIN results for InPAS on palomino3


To the developers/maintainers of the InPAS package:
- Allow up to 24 hours (and sometimes 48 hours) for your latest push to git@git.bioconductor.org:packages/InPAS.git to reflect on this report. See Troubleshooting Build Report for more information.

- Use the following Renviron settings to reproduce errors and warnings.

Note: If "R CMD check" recently failed on the Linux builder over a missing dependency, add the missing dependency to "Suggests" in your DESCRIPTION file. See the Renviron.bioc for details.

raw results

Package 984/2195HostnameOS / ArchINSTALLBUILDCHECKBUILD BIN
InPAS 2.7.0  (landing page)
Jianhong Ou
Snapshot Date: 2023-03-30 14:00:16 -0400 (Thu, 30 Mar 2023)
git_url: https://git.bioconductor.org/packages/InPAS
git_branch: devel
git_last_commit: e85a9a3
git_last_commit_date: 2022-11-01 11:11:19 -0400 (Tue, 01 Nov 2022)
nebbiolo1Linux (Ubuntu 22.04.1 LTS) / x86_64  OK    OK    OK  UNNEEDED, same version is already published
palomino3Windows Server 2022 Datacenter / x64  OK    OK    OK    OK  UNNEEDED, same version is already published

Summary

Package: InPAS
Version: 2.7.0
Command: rm -rf InPAS.buildbin-libdir && mkdir InPAS.buildbin-libdir && F:\biocbuild\bbs-3.17-bioc\R\bin\R.exe CMD INSTALL --build --library=InPAS.buildbin-libdir InPAS_2.7.0.tar.gz
StartedAt: 2023-03-31 08:35:01 -0400 (Fri, 31 Mar 2023)
EndedAt: 2023-03-31 08:36:06 -0400 (Fri, 31 Mar 2023)
EllapsedTime: 65.4 seconds
RetCode: 0
Status:   OK  
PackageFile: InPAS_2.7.0.zip
PackageFileSize: 3.45 MiB

Command output

##############################################################################
##############################################################################
###
### Running command:
###
###   rm -rf InPAS.buildbin-libdir && mkdir InPAS.buildbin-libdir && F:\biocbuild\bbs-3.17-bioc\R\bin\R.exe CMD INSTALL --build --library=InPAS.buildbin-libdir InPAS_2.7.0.tar.gz
###
##############################################################################
##############################################################################


* installing *source* package 'InPAS' ...
** using staged installation
** R
** data
*** moving datasets to lazyload DB
** inst
** byte-compile and prepare package for lazy loading
** help
*** installing help indices
** building package indices
** installing vignettes
** testing if installed package can be loaded from temporary location
** testing if installed package can be loaded from final location
** testing if installed package keeps a record of temporary installation path
* MD5 sums
packaged installation of 'InPAS' as InPAS_2.7.0.zip
* DONE (InPAS)