Back to Multiple platform build/check report for BioC 3.17:   simplified   long
A[B]CDEFGHIJKLMNOPQRSTUVWXYZ

This page was generated on 2023-06-03 14:35:33 -0400 (Sat, 03 Jun 2023).

HostnameOSArch (*)R versionInstalled pkgs
nebbiolo1Linux (Ubuntu 22.04.2 LTS)x86_644.3.0 RC (2023-04-13 r84269) -- "Already Tomorrow" 4623
palomino3Windows Server 2022 Datacenterx644.3.0 RC (2023-04-13 r84269 ucrt) -- "Already Tomorrow" 4374
merida1macOS 12.6.4 Montereyx86_644.3.0 RC (2023-04-13 r84257) -- "Already Tomorrow" 4332
Click on any hostname to see more info about the system (e.g. compilers)      (*) as reported by 'uname -p', except on Windows and Mac OS X

All results for package biomaRt


To the developers/maintainers of the biomaRt package:
- Allow up to 24 hours (and sometimes 48 hours) for your latest push to git@git.bioconductor.org:packages/biomaRt.git to reflect on this report. See Troubleshooting Build Report for more information.

- Use the following Renviron settings to reproduce errors and warnings.

Note: If "R CMD check" recently failed on the Linux builder over a missing dependency, add the missing dependency to "Suggests" in your DESCRIPTION file. See the Renviron.bioc for details.

raw results

Package 205/2229HostnameOS / ArchINSTALLBUILDCHECKBUILD BIN
biomaRt 2.56.0  (landing page)
Mike Smith
Snapshot Date: 2023-06-02 14:00:14 -0400 (Fri, 02 Jun 2023)
git_url: https://git.bioconductor.org/packages/biomaRt
git_branch: RELEASE_3_17
git_last_commit: 91ca89e
git_last_commit_date: 2023-04-25 09:41:32 -0400 (Tue, 25 Apr 2023)
nebbiolo1Linux (Ubuntu 22.04.2 LTS) / x86_64  OK    OK    ERROR  
palomino3Windows Server 2022 Datacenter / x64  OK    OK    ERROR    OK  
merida1macOS 12.6.4 Monterey / x86_64  OK    OK    ERROR    OK  

Results for Bioconductor software packages that depend directly on package biomaRt

QUICK STATSOS / ArchINSTALLBUILDCHECKBUILD BIN
nebbiolo1Linux (Ubuntu 22.04.2 LTS) / x86_64
0380
0875
051456
palomino3Windows Server 2022 Datacenter / x64
0280
0775
311655
0075
merida1macOS 12.6.4 Monterey / x86_64
0380
1874
121358
0074
Package 1/83HostnameOS / ArchINSTALLBUILDCHECKBUILD BIN
ArrayExpressHTS 1.50.0  (landing page)
Angela Goncalves , Andrew Tikhonov
git_last_commit: 7b79d4b
git_last_commit_date: 2023-04-25 10:19:47 -0400
nebbiolo1Linux (Ubuntu 22.04.2 LTS) / x86_64  ERROR    ERROR  skipped
palomino3Windows Server 2022 Datacenter / x64... NOT SUPPORTED ...
merida1macOS 12.6.4 Monterey / x86_64  ERROR    ERROR  skippedskipped
Package 2/83HostnameOS / ArchINSTALLBUILDCHECKBUILD BIN
ASpediaFI 1.14.0  (landing page)
Doyeong Yu
git_last_commit: 00e9ece
git_last_commit_date: 2023-04-25 11:13:24 -0400
nebbiolo1Linux (Ubuntu 22.04.2 LTS) / x86_64  ERROR    ERROR  skipped
palomino3Windows Server 2022 Datacenter / x64  ERROR    ERROR  skippedskipped
merida1macOS 12.6.4 Monterey / x86_64  ERROR    ERROR  skippedskipped
Package 3/83HostnameOS / ArchINSTALLBUILDCHECKBUILD BIN
BadRegionFinder 1.28.0  (landing page)
Sarah Sandmann
git_last_commit: 95a67a9
git_last_commit_date: 2023-04-25 10:45:57 -0400
nebbiolo1Linux (Ubuntu 22.04.2 LTS) / x86_64  OK    OK    OK  UNNEEDED, same version is already published
palomino3Windows Server 2022 Datacenter / x64  OK    OK    OK    OK  UNNEEDED, same version is already published
merida1macOS 12.6.4 Monterey / x86_64  OK    OK    OK    OK  UNNEEDED, same version is already published
Package 4/83HostnameOS / ArchINSTALLBUILDCHECKBUILD BIN
BgeeCall 1.16.0  (landing page)
Julien Wollbrett
git_last_commit: 74944b5
git_last_commit_date: 2023-04-25 11:14:49 -0400
nebbiolo1Linux (Ubuntu 22.04.2 LTS) / x86_64  OK    OK    OK  UNNEEDED, same version is already published
palomino3Windows Server 2022 Datacenter / x64  OK    OK    OK    OK  UNNEEDED, same version is already published
merida1macOS 12.6.4 Monterey / x86_64  OK    OK    OK    OK  UNNEEDED, same version is already published
Package 5/83HostnameOS / ArchINSTALLBUILDCHECKBUILD BIN
branchpointer 1.26.0  (landing page)
Beth Signal
git_last_commit: 2c21581
git_last_commit_date: 2023-04-25 10:52:58 -0400
nebbiolo1Linux (Ubuntu 22.04.2 LTS) / x86_64  OK    OK    OK  UNNEEDED, same version is already published
palomino3Windows Server 2022 Datacenter / x64  OK    OK    OK    OK  UNNEEDED, same version is already published
merida1macOS 12.6.4 Monterey / x86_64  OK    OK    OK    OK  UNNEEDED, same version is already published
Package 6/83HostnameOS / ArchINSTALLBUILDCHECKBUILD BIN
BUSpaRse 1.14.1  (landing page)
Lambda Moses
git_last_commit: 3eac292
git_last_commit_date: 2023-05-01 20:03:03 -0400
nebbiolo1Linux (Ubuntu 22.04.2 LTS) / x86_64  OK    OK    OK  UNNEEDED, same version is already published
palomino3Windows Server 2022 Datacenter / x64  OK    OK    OK    OK  UNNEEDED, same version is already published
merida1macOS 12.6.4 Monterey / x86_64  OK    OK    OK    OK  UNNEEDED, same version is already published
Package 7/83HostnameOS / ArchINSTALLBUILDCHECKBUILD BIN
ChIPpeakAnno 3.34.1  (landing page)
Jianhong Ou
git_last_commit: 1a47186
git_last_commit_date: 2023-04-26 18:52:20 -0400
nebbiolo1Linux (Ubuntu 22.04.2 LTS) / x86_64  OK    OK    OK  UNNEEDED, same version is already published
palomino3Windows Server 2022 Datacenter / x64  OK    OK    OK    OK  UNNEEDED, same version is already published
merida1macOS 12.6.4 Monterey / x86_64  OK    OK    OK    OK  UNNEEDED, same version is already published
Package 8/83HostnameOS / ArchINSTALLBUILDCHECKBUILD BIN
chromPlot 1.28.0  (landing page)
Karen Y. Orostica
git_last_commit: 0eeab67
git_last_commit_date: 2023-04-25 10:44:28 -0400
nebbiolo1Linux (Ubuntu 22.04.2 LTS) / x86_64  OK    OK    OK  UNNEEDED, same version is already published
palomino3Windows Server 2022 Datacenter / x64  OK    OK    WARNINGS    OK  UNNEEDED, same version is already published
merida1macOS 12.6.4 Monterey / x86_64  OK    OK    OK    OK  UNNEEDED, same version is already published
Package 9/83HostnameOS / ArchINSTALLBUILDCHECKBUILD BIN
CHRONOS 1.28.0  (landing page)
Panos Balomenos
git_last_commit: cfa3e63
git_last_commit_date: 2023-04-25 10:46:50 -0400
nebbiolo1Linux (Ubuntu 22.04.2 LTS) / x86_64  OK    OK    OK  UNNEEDED, same version is already published
palomino3Windows Server 2022 Datacenter / x64  OK    OK    OK    OK  UNNEEDED, same version is already published
merida1macOS 12.6.4 Monterey / x86_64  OK    OK    OK    OK  UNNEEDED, same version is already published
Package 10/83HostnameOS / ArchINSTALLBUILDCHECKBUILD BIN
coMET 1.32.0  (landing page)
Tiphaine Martin
git_last_commit: 208d035
git_last_commit_date: 2023-04-25 11:41:26 -0400
nebbiolo1Linux (Ubuntu 22.04.2 LTS) / x86_64  OK    OK    WARNINGS  UNNEEDED, same version is already published
palomino3Windows Server 2022 Datacenter / x64  OK    OK    WARNINGS    OK  UNNEEDED, same version is already published
merida1macOS 12.6.4 Monterey / x86_64  OK    OK    WARNINGS    OK  UNNEEDED, same version is already published
Package 11/83HostnameOS / ArchINSTALLBUILDCHECKBUILD BIN
CoSIA 1.0.0  (landing page)
Amanda D. Clark
git_last_commit: d7f2302
git_last_commit_date: 2023-04-25 11:44:57 -0400
nebbiolo1Linux (Ubuntu 22.04.2 LTS) / x86_64  OK    OK    OK  UNNEEDED, same version is already published
palomino3Windows Server 2022 Datacenter / x64  OK    OK    OK    OK  UNNEEDED, same version is already published
merida1macOS 12.6.4 Monterey / x86_64  OK    OK    OK    OK  UNNEEDED, same version is already published
Package 12/83HostnameOS / ArchINSTALLBUILDCHECKBUILD BIN
customProDB 1.40.0  (landing page)
Xiaojing Wang
git_last_commit: 267665c
git_last_commit_date: 2023-04-25 10:27:25 -0400
nebbiolo1Linux (Ubuntu 22.04.2 LTS) / x86_64  OK    OK    OK  UNNEEDED, same version is already published
palomino3Windows Server 2022 Datacenter / x64  OK    OK    OK    OK  UNNEEDED, same version is already published
merida1macOS 12.6.4 Monterey / x86_64  OK    OK    OK    OK  UNNEEDED, same version is already published
Package 13/83HostnameOS / ArchINSTALLBUILDCHECKBUILD BIN
dagLogo 1.38.0  (landing page)
Jianhong Ou
git_last_commit: c92ba5e
git_last_commit_date: 2023-04-25 10:29:01 -0400
nebbiolo1Linux (Ubuntu 22.04.2 LTS) / x86_64  OK    OK    OK  UNNEEDED, same version is already published
palomino3Windows Server 2022 Datacenter / x64  OK    OK    OK    OK  UNNEEDED, same version is already published
merida1macOS 12.6.4 Monterey / x86_64  OK    OK    OK    OK  UNNEEDED, same version is already published
Package 14/83HostnameOS / ArchINSTALLBUILDCHECKBUILD BIN
DEXSeq 1.46.0  (landing page)
Alejandro Reyes
git_last_commit: 074c0bf
git_last_commit_date: 2023-04-25 10:20:02 -0400
nebbiolo1Linux (Ubuntu 22.04.2 LTS) / x86_64  OK    OK    ERROR  
palomino3Windows Server 2022 Datacenter / x64  OK    OK    OK    OK  UNNEEDED, same version is already published
merida1macOS 12.6.4 Monterey / x86_64  OK    OK    OK    OK  UNNEEDED, same version is already published
Package 15/83HostnameOS / ArchINSTALLBUILDCHECKBUILD BIN
DominoEffect 1.20.0  (landing page)
Marija Buljan
git_last_commit: cee6a68
git_last_commit_date: 2023-04-25 10:59:32 -0400
nebbiolo1Linux (Ubuntu 22.04.2 LTS) / x86_64  OK    OK    OK  UNNEEDED, same version is already published
palomino3Windows Server 2022 Datacenter / x64  OK    OK    OK    OK  UNNEEDED, same version is already published
merida1macOS 12.6.4 Monterey / x86_64  OK    OK    OK    OK  UNNEEDED, same version is already published
Package 16/83HostnameOS / ArchINSTALLBUILDCHECKBUILD BIN
drugTargetInteractions 1.8.0  (landing page)
Thomas Girke
git_last_commit: 8ace133
git_last_commit_date: 2023-04-25 11:27:59 -0400
nebbiolo1Linux (Ubuntu 22.04.2 LTS) / x86_64  OK    OK    OK  UNNEEDED, same version is already published
palomino3Windows Server 2022 Datacenter / x64  OK    OK    OK    OK  UNNEEDED, same version is already published
merida1macOS 12.6.4 Monterey / x86_64  OK    OK    OK    OK  UNNEEDED, same version is already published
Package 17/83HostnameOS / ArchINSTALLBUILDCHECKBUILD BIN
DrugVsDisease 2.42.0  (landing page)
j. Saez-Rodriguez
git_last_commit: 4cafa86
git_last_commit_date: 2023-04-25 10:25:32 -0400
nebbiolo1Linux (Ubuntu 22.04.2 LTS) / x86_64  OK    OK    OK  UNNEEDED, same version is already published
palomino3Windows Server 2022 Datacenter / x64  OK    OK    OK    OK  UNNEEDED, same version is already published
merida1macOS 12.6.4 Monterey / x86_64  OK    OK    OK    OK  UNNEEDED, same version is already published
Package 18/83HostnameOS / ArchINSTALLBUILDCHECKBUILD BIN
easyRNASeq 2.36.0  (landing page)
Nicolas Delhomme
git_last_commit: e5e1842
git_last_commit_date: 2023-04-25 10:22:04 -0400
nebbiolo1Linux (Ubuntu 22.04.2 LTS) / x86_64  OK    OK    OK  UNNEEDED, same version is already published
palomino3Windows Server 2022 Datacenter / x64  OK    OK    OK    OK  UNNEEDED, same version is already published
merida1macOS 12.6.4 Monterey / x86_64  OK    OK    OK    OK  UNNEEDED, same version is already published
Package 19/83HostnameOS / ArchINSTALLBUILDCHECKBUILD BIN
EDASeq 2.34.0  (landing page)
Davide Risso
git_last_commit: 71b52e3
git_last_commit_date: 2023-04-25 10:20:57 -0400
nebbiolo1Linux (Ubuntu 22.04.2 LTS) / x86_64  OK    OK    OK  UNNEEDED, same version is already published
palomino3Windows Server 2022 Datacenter / x64  OK    OK    OK    OK  UNNEEDED, same version is already published
merida1macOS 12.6.4 Monterey / x86_64  OK    OK    OK    OK  UNNEEDED, same version is already published
Package 20/83HostnameOS / ArchINSTALLBUILDCHECKBUILD BIN
ELMER 2.24.1  (landing page)
Tiago Chedraoui Silva
git_last_commit: 5c6fd17
git_last_commit_date: 2023-05-07 16:43:07 -0400
nebbiolo1Linux (Ubuntu 22.04.2 LTS) / x86_64  OK    OK    WARNINGS  UNNEEDED, same version is already published
palomino3Windows Server 2022 Datacenter / x64  OK    OK    WARNINGS    OK  UNNEEDED, same version is already published
merida1macOS 12.6.4 Monterey / x86_64  OK    OK    WARNINGS    OK  UNNEEDED, same version is already published
Package 21/83HostnameOS / ArchINSTALLBUILDCHECKBUILD BIN
EpiMix 1.2.0  (landing page)
Yuanning Zheng
git_last_commit: 68204f3
git_last_commit_date: 2023-04-25 11:39:07 -0400
nebbiolo1Linux (Ubuntu 22.04.2 LTS) / x86_64  OK    ERROR  skipped
palomino3Windows Server 2022 Datacenter / x64  OK    ERROR  skippedskipped
merida1macOS 12.6.4 Monterey / x86_64  OK    ERROR  skippedskipped
Package 22/83HostnameOS / ArchINSTALLBUILDCHECKBUILD BIN
epimutacions 1.4.0  (landing page)
Dolors Pelegri-Siso
git_last_commit: 78170ad
git_last_commit_date: 2023-04-25 11:37:33 -0400
nebbiolo1Linux (Ubuntu 22.04.2 LTS) / x86_64  OK    OK    OK  UNNEEDED, same version is already published
palomino3Windows Server 2022 Datacenter / x64  OK    OK    OK    OK  UNNEEDED, same version is already published
merida1macOS 12.6.4 Monterey / x86_64  OK    OK    OK    OK  UNNEEDED, same version is already published
Package 23/83HostnameOS / ArchINSTALLBUILDCHECKBUILD BIN
FRASER 1.12.1  (landing page)
Christian Mertes
git_last_commit: 72d97bf
git_last_commit_date: 2023-05-01 20:07:22 -0400
nebbiolo1Linux (Ubuntu 22.04.2 LTS) / x86_64  OK    OK    OK  UNNEEDED, same version is already published
palomino3Windows Server 2022 Datacenter / x64  OK    OK    OK    OK  UNNEEDED, same version is already published
merida1macOS 12.6.4 Monterey / x86_64  OK    OK    OK    OK  UNNEEDED, same version is already published
Package 24/83HostnameOS / ArchINSTALLBUILDCHECKBUILD BIN
GDCRNATools 1.20.0  (landing page)
Ruidong Li
git_last_commit: 39f2a5d
git_last_commit_date: 2023-04-25 10:58:59 -0400
nebbiolo1Linux (Ubuntu 22.04.2 LTS) / x86_64  OK    OK    ERROR  
palomino3Windows Server 2022 Datacenter / x64  OK    OK    OK    OK  UNNEEDED, same version is already published
merida1macOS 12.6.4 Monterey / x86_64  OK    OK    OK    OK  UNNEEDED, same version is already published
Package 25/83HostnameOS / ArchINSTALLBUILDCHECKBUILD BIN
GeneAccord 1.18.0  (landing page)
Ariane L. Moore
git_last_commit: 63eb8a7
git_last_commit_date: 2023-04-25 11:03:31 -0400
nebbiolo1Linux (Ubuntu 22.04.2 LTS) / x86_64  OK    ERROR  skipped
palomino3Windows Server 2022 Datacenter / x64  OK    ERROR  skippedskipped
merida1macOS 12.6.4 Monterey / x86_64  OK    ERROR  skippedskipped
Package 26/83HostnameOS / ArchINSTALLBUILDCHECKBUILD BIN
genefu 2.32.0  (landing page)
Benjamin Haibe-Kains
git_last_commit: c0de69f
git_last_commit_date: 2023-04-25 10:19:18 -0400
nebbiolo1Linux (Ubuntu 22.04.2 LTS) / x86_64  OK    OK    OK  UNNEEDED, same version is already published
palomino3Windows Server 2022 Datacenter / x64  OK    OK    OK    OK  UNNEEDED, same version is already published
merida1macOS 12.6.4 Monterey / x86_64  OK    OK    OK    OK  UNNEEDED, same version is already published
Package 27/83HostnameOS / ArchINSTALLBUILDCHECKBUILD BIN
GenomicFeatures 1.52.0  (landing page)
H. Pagès
git_last_commit: 207ff08
git_last_commit_date: 2023-04-25 09:49:30 -0400
nebbiolo1Linux (Ubuntu 22.04.2 LTS) / x86_64  OK    OK    WARNINGS  UNNEEDED, same version is already published
palomino3Windows Server 2022 Datacenter / x64  OK    OK    WARNINGS    OK  UNNEEDED, same version is already published
merida1macOS 12.6.4 Monterey / x86_64  OK    OK    WARNINGS    OK  UNNEEDED, same version is already published
Package 28/83HostnameOS / ArchINSTALLBUILDCHECKBUILD BIN
GenomicOZone 1.14.0  (landing page)
Hua Zhong, Mingzhou Song
git_last_commit: c40c429
git_last_commit_date: 2023-04-25 11:11:47 -0400
nebbiolo1Linux (Ubuntu 22.04.2 LTS) / x86_64  OK    OK    OK  UNNEEDED, same version is already published
palomino3Windows Server 2022 Datacenter / x64  OK    OK    OK    OK  UNNEEDED, same version is already published
merida1macOS 12.6.4 Monterey / x86_64  OK    OK    OK    OK  UNNEEDED, same version is already published
Package 29/83HostnameOS / ArchINSTALLBUILDCHECKBUILD BIN
GenVisR 1.32.0  (landing page)
Zachary Skidmore
git_last_commit: 8b1b564
git_last_commit_date: 2023-04-25 10:43:51 -0400
nebbiolo1Linux (Ubuntu 22.04.2 LTS) / x86_64  OK    OK    ERROR  
palomino3Windows Server 2022 Datacenter / x64  OK    OK    ERROR    OK  
merida1macOS 12.6.4 Monterey / x86_64  OK    OK    ERROR    OK  
Package 30/83HostnameOS / ArchINSTALLBUILDCHECKBUILD BIN
gespeR 1.32.0  (landing page)
Fabian Schmich
git_last_commit: 5431951
git_last_commit_date: 2023-04-25 10:37:05 -0400
nebbiolo1Linux (Ubuntu 22.04.2 LTS) / x86_64  OK    ERROR  skipped
palomino3Windows Server 2022 Datacenter / x64  OK    OK    WARNINGS    OK  UNNEEDED, same version is already published
merida1macOS 12.6.4 Monterey / x86_64  OK    ERROR  skippedskipped
Package 31/83HostnameOS / ArchINSTALLBUILDCHECKBUILD BIN
glmSparseNet 1.18.0  (landing page)
André Veríssimo
git_last_commit: fa0321e
git_last_commit_date: 2023-04-25 11:04:37 -0400
nebbiolo1Linux (Ubuntu 22.04.2 LTS) / x86_64  OK    OK    OK  UNNEEDED, same version is already published
palomino3Windows Server 2022 Datacenter / x64  OK    OK    OK    OK  UNNEEDED, same version is already published
merida1macOS 12.6.4 Monterey / x86_64  OK    OK    OK    OK  UNNEEDED, same version is already published
Package 32/83HostnameOS / ArchINSTALLBUILDCHECKBUILD BIN
GOexpress 1.34.0  (landing page)
Kevin Rue-Albrecht
git_last_commit: 3db4c6e
git_last_commit_date: 2023-04-25 10:34:39 -0400
nebbiolo1Linux (Ubuntu 22.04.2 LTS) / x86_64  OK    OK    OK  UNNEEDED, same version is already published
palomino3Windows Server 2022 Datacenter / x64  OK    OK    OK    OK  UNNEEDED, same version is already published
merida1macOS 12.6.4 Monterey / x86_64  OK    OK    OK    OK  UNNEEDED, same version is already published
Package 33/83HostnameOS / ArchINSTALLBUILDCHECKBUILD BIN
goSTAG 1.24.0  (landing page)
Brian D. Bennett
git_last_commit: ac3808b
git_last_commit_date: 2023-04-25 10:52:04 -0400
nebbiolo1Linux (Ubuntu 22.04.2 LTS) / x86_64  OK    OK    OK  UNNEEDED, same version is already published
palomino3Windows Server 2022 Datacenter / x64  OK    OK    OK    OK  UNNEEDED, same version is already published
merida1macOS 12.6.4 Monterey / x86_64  OK    OK    OK    OK  UNNEEDED, same version is already published
Package 34/83HostnameOS / ArchINSTALLBUILDCHECKBUILD BIN
GRaNIE 1.4.0  (landing page)
Christian Arnold
git_last_commit: bd963f7
git_last_commit_date: 2023-04-25 11:38:11 -0400
nebbiolo1Linux (Ubuntu 22.04.2 LTS) / x86_64  OK    OK    WARNINGS  UNNEEDED, same version is already published
palomino3Windows Server 2022 Datacenter / x64  OK    OK    WARNINGS    OK  UNNEEDED, same version is already published
merida1macOS 12.6.4 Monterey / x86_64  OK    OK    ERROR    OK  
Package 35/83HostnameOS / ArchINSTALLBUILDCHECKBUILD BIN
Gviz 1.44.0  (landing page)
Robert Ivanek
git_last_commit: e70aaa7
git_last_commit_date: 2023-04-25 10:22:19 -0400
nebbiolo1Linux (Ubuntu 22.04.2 LTS) / x86_64  OK    OK    OK  UNNEEDED, same version is already published
palomino3Windows Server 2022 Datacenter / x64  OK    OK    OK    OK  UNNEEDED, same version is already published
merida1macOS 12.6.4 Monterey / x86_64  OK    OK    OK    OK  UNNEEDED, same version is already published
Package 36/83HostnameOS / ArchINSTALLBUILDCHECKBUILD BIN
hermes 1.4.0  (landing page)
Daniel Sabanés Bové
git_last_commit: 66d78db
git_last_commit_date: 2023-04-25 11:35:06 -0400
nebbiolo1Linux (Ubuntu 22.04.2 LTS) / x86_64  OK    OK    OK  UNNEEDED, same version is already published
palomino3Windows Server 2022 Datacenter / x64  OK    OK    OK    OK  UNNEEDED, same version is already published
merida1macOS 12.6.4 Monterey / x86_64  OK    OK    OK    OK  UNNEEDED, same version is already published
Package 37/83HostnameOS / ArchINSTALLBUILDCHECKBUILD BIN
InterCellar 2.6.0  (landing page)
Marta Interlandi
git_last_commit: 6a776be
git_last_commit_date: 2023-04-25 11:27:32 -0400
nebbiolo1Linux (Ubuntu 22.04.2 LTS) / x86_64  OK    OK    OK  UNNEEDED, same version is already published
palomino3Windows Server 2022 Datacenter / x64  OK    OK    OK    OK  UNNEEDED, same version is already published
merida1macOS 12.6.4 Monterey / x86_64  OK    OK    OK    OK  UNNEEDED, same version is already published
Package 38/83HostnameOS / ArchINSTALLBUILDCHECKBUILD BIN
isobar 1.46.0  (landing page)
Florian P Breitwieser
git_last_commit: 2190363
git_last_commit_date: 2023-04-25 10:21:30 -0400
nebbiolo1Linux (Ubuntu 22.04.2 LTS) / x86_64  OK    OK    WARNINGS  UNNEEDED, same version is already published
palomino3Windows Server 2022 Datacenter / x64  OK    OK    WARNINGS    OK  UNNEEDED, same version is already published
merida1macOS 12.6.4 Monterey / x86_64  OK    OK    WARNINGS    OK  UNNEEDED, same version is already published
Package 39/83HostnameOS / ArchINSTALLBUILDCHECKBUILD BIN
LACE 2.4.0  (landing page)
Davide Maspero
git_last_commit: 0f90a84
git_last_commit_date: 2023-04-25 11:18:19 -0400
nebbiolo1Linux (Ubuntu 22.04.2 LTS) / x86_64  OK    OK    OK  UNNEEDED, same version is already published
palomino3Windows Server 2022 Datacenter / x64  OK    OK    OK    OK  UNNEEDED, same version is already published
merida1macOS 12.6.4 Monterey / x86_64  OK    OK    OK    OK  UNNEEDED, same version is already published
Package 40/83HostnameOS / ArchINSTALLBUILDCHECKBUILD BIN
mCSEA 1.20.0  (landing page)
Jordi Martorell-Marugán
git_last_commit: 3e18b13
git_last_commit_date: 2023-04-25 10:58:54 -0400
nebbiolo1Linux (Ubuntu 22.04.2 LTS) / x86_64  OK    OK    OK  UNNEEDED, same version is already published
palomino3Windows Server 2022 Datacenter / x64  OK    OK    OK    OK  UNNEEDED, same version is already published
merida1macOS 12.6.4 Monterey / x86_64  OK    OK    OK    OK  UNNEEDED, same version is already published
Package 41/83HostnameOS / ArchINSTALLBUILDCHECKBUILD BIN
MEDIPS 1.52.0  (landing page)
Lukas Chavez
git_last_commit: 435df87
git_last_commit_date: 2023-04-25 10:18:20 -0400
nebbiolo1Linux (Ubuntu 22.04.2 LTS) / x86_64  OK    OK    OK  UNNEEDED, same version is already published
palomino3Windows Server 2022 Datacenter / x64  OK    OK    OK    OK  UNNEEDED, same version is already published
merida1macOS 12.6.4 Monterey / x86_64  OK    OK    OK    OK  UNNEEDED, same version is already published
Package 42/83HostnameOS / ArchINSTALLBUILDCHECKBUILD BIN
MetaboSignal 1.30.1  (landing page)
Andrea Rodriguez-Martinez
git_last_commit: 6c1d718
git_last_commit_date: 2023-05-16 03:06:44 -0400
nebbiolo1Linux (Ubuntu 22.04.2 LTS) / x86_64  OK    OK    OK  UNNEEDED, same version is already published
palomino3Windows Server 2022 Datacenter / x64  OK    OK    OK    OK  UNNEEDED, same version is already published
merida1macOS 12.6.4 Monterey / x86_64  OK    OK    OK    OK  UNNEEDED, same version is already published
Package 43/83HostnameOS / ArchINSTALLBUILDCHECKBUILD BIN
metaseqR2 1.12.0  (landing page)
Panagiotis Moulos
git_last_commit: c37a5a4
git_last_commit_date: 2023-04-25 11:18:06 -0400
nebbiolo1Linux (Ubuntu 22.04.2 LTS) / x86_64  OK    OK    OK  NO, package depends on 'baySeq' which is not available
palomino3Windows Server 2022 Datacenter / x64  OK    OK    OK    OK  NO, package depends on 'baySeq' which is not available
merida1macOS 12.6.4 Monterey / x86_64  OK    OK    OK    OK  NO, package depends on 'baySeq' which is not available
Package 44/83HostnameOS / ArchINSTALLBUILDCHECKBUILD BIN
MGFR 1.26.0  (landing page)
Khadija El Amrani
git_last_commit: 5003080
git_last_commit_date: 2023-04-25 10:48:01 -0400
nebbiolo1Linux (Ubuntu 22.04.2 LTS) / x86_64  OK    OK    OK  UNNEEDED, same version is already published
palomino3Windows Server 2022 Datacenter / x64  OK    OK    OK    OK  UNNEEDED, same version is already published
merida1macOS 12.6.4 Monterey / x86_64  OK    OK    OK    OK  UNNEEDED, same version is already published
Package 45/83HostnameOS / ArchINSTALLBUILDCHECKBUILD BIN
MineICA 1.40.0  (landing page)
Anne Biton
git_last_commit: a55771d
git_last_commit_date: 2023-04-25 10:25:45 -0400
nebbiolo1Linux (Ubuntu 22.04.2 LTS) / x86_64  OK    OK    WARNINGS  UNNEEDED, same version is already published
palomino3Windows Server 2022 Datacenter / x64  OK    OK    WARNINGS    OK  UNNEEDED, same version is already published
merida1macOS 12.6.4 Monterey / x86_64  OK    OK    WARNINGS    OK  UNNEEDED, same version is already published
Package 46/83HostnameOS / ArchINSTALLBUILDCHECKBUILD BIN
MouseFM 1.10.0  (landing page)
Matthias Munz
git_last_commit: a8fb2bf
git_last_commit_date: 2023-04-25 11:34:54 -0400
nebbiolo1Linux (Ubuntu 22.04.2 LTS) / x86_64  OK    OK    OK  UNNEEDED, same version is already published
palomino3Windows Server 2022 Datacenter / x64  OK    OK    OK    OK  UNNEEDED, same version is already published
merida1macOS 12.6.4 Monterey / x86_64  OK    OK    OK    OK  UNNEEDED, same version is already published
Package 47/83HostnameOS / ArchINSTALLBUILDCHECKBUILD BIN
NetSAM 1.40.0  (landing page)
Zhiao Shi
git_last_commit: 96ecc60
git_last_commit_date: 2023-04-25 10:27:27 -0400
nebbiolo1Linux (Ubuntu 22.04.2 LTS) / x86_64  OK    OK    OK  UNNEEDED, same version is already published
palomino3Windows Server 2022 Datacenter / x64  OK    OK    OK    OK  UNNEEDED, same version is already published
merida1macOS 12.6.4 Monterey / x86_64  OK    OK    TIMEOUT    OK  
Package 48/83HostnameOS / ArchINSTALLBUILDCHECKBUILD BIN
NoRCE 1.12.0  (landing page)
Gulden Olgun
git_last_commit: 8432e2f
git_last_commit_date: 2023-04-25 11:16:17 -0400
nebbiolo1Linux (Ubuntu 22.04.2 LTS) / x86_64  OK    OK    OK  UNNEEDED, same version is already published
palomino3Windows Server 2022 Datacenter / x64  OK    OK    OK    OK  UNNEEDED, same version is already published
merida1macOS 12.6.4 Monterey / x86_64  OK    OK    OK    OK  UNNEEDED, same version is already published
Package 49/83HostnameOS / ArchINSTALLBUILDCHECKBUILD BIN
OncoScore 1.28.0  (landing page)
Luca De Sano
git_last_commit: d96f121
git_last_commit_date: 2023-04-25 10:45:30 -0400
nebbiolo1Linux (Ubuntu 22.04.2 LTS) / x86_64  OK    OK    OK  UNNEEDED, same version is already published
palomino3Windows Server 2022 Datacenter / x64  OK    OK    OK    OK  UNNEEDED, same version is already published
merida1macOS 12.6.4 Monterey / x86_64  OK    OK    OK    OK  UNNEEDED, same version is already published
Package 50/83HostnameOS / ArchINSTALLBUILDCHECKBUILD BIN
oposSOM 2.18.0  (landing page)
Henry Loeffler-Wirth
git_last_commit: 225aabb
git_last_commit_date: 2023-04-25 10:32:54 -0400
nebbiolo1Linux (Ubuntu 22.04.2 LTS) / x86_64  OK    OK    WARNINGS  UNNEEDED, same version is already published
palomino3Windows Server 2022 Datacenter / x64  OK    OK    WARNINGS    OK  UNNEEDED, same version is already published
merida1macOS 12.6.4 Monterey / x86_64  OK    OK    WARNINGS    OK  UNNEEDED, same version is already published
Package 51/83HostnameOS / ArchINSTALLBUILDCHECKBUILD BIN
ORFik 1.20.0  (landing page)
Haakon Tjeldnes
git_last_commit: 3124800
git_last_commit_date: 2023-04-25 11:01:57 -0400
nebbiolo1Linux (Ubuntu 22.04.2 LTS) / x86_64  OK    OK    OK  UNNEEDED, same version is already published
palomino3Windows Server 2022 Datacenter / x64  OK    ERROR  skippedskipped
merida1macOS 12.6.4 Monterey / x86_64  OK    OK    OK    OK  UNNEEDED, same version is already published
Package 52/83HostnameOS / ArchINSTALLBUILDCHECKBUILD BIN
pcaExplorer 2.26.1  (landing page)
Federico Marini
git_last_commit: 2fced96
git_last_commit_date: 2023-04-28 17:04:12 -0400
nebbiolo1Linux (Ubuntu 22.04.2 LTS) / x86_64  OK    OK    OK  UNNEEDED, same version is already published
palomino3Windows Server 2022 Datacenter / x64  OK    OK    OK    OK  UNNEEDED, same version is already published
merida1macOS 12.6.4 Monterey / x86_64  OK    OK    OK    OK  UNNEEDED, same version is already published
Package 53/83HostnameOS / ArchINSTALLBUILDCHECKBUILD BIN
phenoTest 1.48.0  (landing page)
Evarist Planet
git_last_commit: 19df6ab
git_last_commit_date: 2023-04-25 10:18:42 -0400
nebbiolo1Linux (Ubuntu 22.04.2 LTS) / x86_64  OK    OK    WARNINGS  UNNEEDED, same version is already published
palomino3Windows Server 2022 Datacenter / x64  OK    OK    WARNINGS    OK  UNNEEDED, same version is already published
merida1macOS 12.6.4 Monterey / x86_64  OK    OK    WARNINGS    OK  UNNEEDED, same version is already published
Package 54/83HostnameOS / ArchINSTALLBUILDCHECKBUILD BIN
PPInfer 1.26.0  (landing page)
Dongmin Jung
git_last_commit: 16ac3a2
git_last_commit_date: 2023-04-25 10:54:04 -0400
nebbiolo1Linux (Ubuntu 22.04.2 LTS) / x86_64  OK    OK    OK  UNNEEDED, same version is already published
palomino3Windows Server 2022 Datacenter / x64  OK    OK    OK    OK  UNNEEDED, same version is already published
merida1macOS 12.6.4 Monterey / x86_64  OK    OK    OK    OK  UNNEEDED, same version is already published
Package 55/83HostnameOS / ArchINSTALLBUILDCHECKBUILD BIN
PrecisionTrialDrawer 1.16.0  (landing page)
Giorgio Melloni
git_last_commit: c38b8db
git_last_commit_date: 2023-04-25 11:06:37 -0400
nebbiolo1Linux (Ubuntu 22.04.2 LTS) / x86_64  OK    ERROR  skipped
palomino3Windows Server 2022 Datacenter / x64  OK    ERROR  skippedskipped
merida1macOS 12.6.4 Monterey / x86_64  OK    ERROR  skippedskipped
Package 56/83HostnameOS / ArchINSTALLBUILDCHECKBUILD BIN
pRoloc 1.40.1  (landing page)
Laurent Gatto
git_last_commit: 513ba77
git_last_commit_date: 2023-05-01 20:11:02 -0400
nebbiolo1Linux (Ubuntu 22.04.2 LTS) / x86_64  OK    OK    OK  UNNEEDED, same version is already published
palomino3Windows Server 2022 Datacenter / x64  OK    OK    OK    OK  UNNEEDED, same version is already published
merida1macOS 12.6.4 Monterey / x86_64  OK    OK    OK    OK  UNNEEDED, same version is already published
Package 57/83HostnameOS / ArchINSTALLBUILDCHECKBUILD BIN
ProteoMM 1.18.0  (landing page)
Yuliya V Karpievitch
git_last_commit: ca07a03
git_last_commit_date: 2023-04-25 11:05:40 -0400
nebbiolo1Linux (Ubuntu 22.04.2 LTS) / x86_64  OK    OK    OK  UNNEEDED, same version is already published
palomino3Windows Server 2022 Datacenter / x64  OK    OK    OK    OK  UNNEEDED, same version is already published
merida1macOS 12.6.4 Monterey / x86_64  OK    OK    OK    OK  UNNEEDED, same version is already published
Package 58/83HostnameOS / ArchINSTALLBUILDCHECKBUILD BIN
psygenet2r 1.32.1  (landing page)
Alba Gutierrez-Sacristan
git_last_commit: 7d59314
git_last_commit_date: 2023-05-15 12:34:02 -0400
nebbiolo1Linux (Ubuntu 22.04.2 LTS) / x86_64  OK    ERROR  skipped
palomino3Windows Server 2022 Datacenter / x64  OK    ERROR  skippedskipped
merida1macOS 12.6.4 Monterey / x86_64  OK    ERROR  skippedskipped
Package 59/83HostnameOS / ArchINSTALLBUILDCHECKBUILD BIN
pwOmics 1.32.0  (landing page)
Maren Sitte
git_last_commit: b7a7328
git_last_commit_date: 2023-04-25 10:39:39 -0400
nebbiolo1Linux (Ubuntu 22.04.2 LTS) / x86_64  OK    OK    ERROR  
palomino3Windows Server 2022 Datacenter / x64  OK    OK    WARNINGS    OK  UNNEEDED, same version is already published
merida1macOS 12.6.4 Monterey / x86_64  OK    OK    WARNINGS    OK  UNNEEDED, same version is already published
Package 60/83HostnameOS / ArchINSTALLBUILDCHECKBUILD BIN
R453Plus1Toolbox 1.50.0  (landing page)
Hans-Ulrich Klein
git_last_commit: 4064694
git_last_commit_date: 2023-04-25 10:18:15 -0400
nebbiolo1Linux (Ubuntu 22.04.2 LTS) / x86_64  OK    OK    OK  UNNEEDED, same version is already published
palomino3Windows Server 2022 Datacenter / x64  OK    OK    OK    OK  UNNEEDED, same version is already published
merida1macOS 12.6.4 Monterey / x86_64  OK    OK    OK    OK  UNNEEDED, same version is already published
Package 61/83HostnameOS / ArchINSTALLBUILDCHECKBUILD BIN
ramwas 1.24.0  (landing page)
Andrey A Shabalin
git_last_commit: e459b3f
git_last_commit_date: 2023-04-25 10:51:33 -0400
nebbiolo1Linux (Ubuntu 22.04.2 LTS) / x86_64  OK    OK    OK  UNNEEDED, same version is already published
palomino3Windows Server 2022 Datacenter / x64  OK    OK    OK    OK  UNNEEDED, same version is already published
merida1macOS 12.6.4 Monterey / x86_64  OK    OK    OK    OK  UNNEEDED, same version is already published
Package 62/83HostnameOS / ArchINSTALLBUILDCHECKBUILD BIN
recoup 1.28.0  (landing page)
Panagiotis Moulos
git_last_commit: 8dc164c
git_last_commit_date: 2023-04-25 10:45:35 -0400
nebbiolo1Linux (Ubuntu 22.04.2 LTS) / x86_64  OK    OK    OK  UNNEEDED, same version is already published
palomino3Windows Server 2022 Datacenter / x64  OK    OK    OK    OK  UNNEEDED, same version is already published
merida1macOS 12.6.4 Monterey / x86_64  OK    OK    OK    OK  UNNEEDED, same version is already published
Package 63/83HostnameOS / ArchINSTALLBUILDCHECKBUILD BIN
RepViz 1.16.0  (landing page)
Thomas Faux, Asta Laiho
git_last_commit: e30b36d
git_last_commit_date: 2023-04-25 11:09:36 -0400
nebbiolo1Linux (Ubuntu 22.04.2 LTS) / x86_64  OK    OK    WARNINGS  UNNEEDED, same version is already published
palomino3Windows Server 2022 Datacenter / x64  OK    OK    WARNINGS    OK  UNNEEDED, same version is already published
merida1macOS 12.6.4 Monterey / x86_64  OK    OK    WARNINGS    OK  UNNEEDED, same version is already published
Package 64/83HostnameOS / ArchINSTALLBUILDCHECKBUILD BIN
rgsepd 1.32.0  (landing page)
Karl Stamm
git_last_commit: 87a4b33
git_last_commit_date: 2023-04-25 10:36:57 -0400
nebbiolo1Linux (Ubuntu 22.04.2 LTS) / x86_64  OK    OK    OK  UNNEEDED, same version is already published
palomino3Windows Server 2022 Datacenter / x64  OK    OK    OK    OK  UNNEEDED, same version is already published
merida1macOS 12.6.4 Monterey / x86_64  OK    OK    OK    OK  UNNEEDED, same version is already published
Package 65/83HostnameOS / ArchINSTALLBUILDCHECKBUILD BIN
RIPAT 1.10.0  (landing page)
Min-Jeong Baek
git_last_commit: 711cf3d
git_last_commit_date: 2023-04-25 11:22:02 -0400
nebbiolo1Linux (Ubuntu 22.04.2 LTS) / x86_64  OK    OK    ERROR  
palomino3Windows Server 2022 Datacenter / x64  OK    OK    OK    OK  UNNEEDED, same version is already published
merida1macOS 12.6.4 Monterey / x86_64  OK    OK    OK    OK  UNNEEDED, same version is already published
Package 66/83HostnameOS / ArchINSTALLBUILDCHECKBUILD BIN
RnaSeqSampleSize 2.10.0  (landing page)
Shilin Zhao Developer
git_last_commit: b79c640
git_last_commit_date: 2023-04-25 11:23:40 -0400
nebbiolo1Linux (Ubuntu 22.04.2 LTS) / x86_64  OK    OK    OK  UNNEEDED, same version is already published
palomino3Windows Server 2022 Datacenter / x64  OK    OK    OK    OK  UNNEEDED, same version is already published
merida1macOS 12.6.4 Monterey / x86_64  OK    OK    OK    OK  UNNEEDED, same version is already published
Package 67/83HostnameOS / ArchINSTALLBUILDCHECKBUILD BIN
scPipe 2.0.0  (landing page)
Shian Su
git_last_commit: 2d9cb4c
git_last_commit_date: 2023-04-25 10:57:21 -0400
nebbiolo1Linux (Ubuntu 22.04.2 LTS) / x86_64  OK    OK    WARNINGS  UNNEEDED, same version is already published
palomino3Windows Server 2022 Datacenter / x64  OK    OK    WARNINGS    OK  UNNEEDED, same version is already published
merida1macOS 12.6.4 Monterey / x86_64  OK    TIMEOUT  skippedskipped
Package 68/83HostnameOS / ArchINSTALLBUILDCHECKBUILD BIN
seq2pathway 1.32.0  (landing page)
Arjun Kinstlick
git_last_commit: 65c4010
git_last_commit_date: 2023-04-25 10:37:23 -0400
nebbiolo1Linux (Ubuntu 22.04.2 LTS) / x86_64  OK    OK    WARNINGS  UNNEEDED, same version is already published
palomino3Windows Server 2022 Datacenter / x64  OK    OK    WARNINGS    OK  UNNEEDED, same version is already published
merida1macOS 12.6.4 Monterey / x86_64  OK    OK    WARNINGS    OK  UNNEEDED, same version is already published
Package 69/83HostnameOS / ArchINSTALLBUILDCHECKBUILD BIN
SeqGSEA 1.40.0  (landing page)
Xi Wang
git_last_commit: 7be60e2
git_last_commit_date: 2023-04-25 10:26:41 -0400
nebbiolo1Linux (Ubuntu 22.04.2 LTS) / x86_64  OK    OK    OK  UNNEEDED, same version is already published
palomino3Windows Server 2022 Datacenter / x64  OK    OK    OK    OK  UNNEEDED, same version is already published
merida1macOS 12.6.4 Monterey / x86_64  OK    OK    OK    OK  UNNEEDED, same version is already published
Package 70/83HostnameOS / ArchINSTALLBUILDCHECKBUILD BIN
sitadela 1.8.0  (landing page)
Panagiotis Moulos
git_last_commit: b3f853b
git_last_commit_date: 2023-04-25 11:27:34 -0400
nebbiolo1Linux (Ubuntu 22.04.2 LTS) / x86_64  OK    OK    OK  UNNEEDED, same version is already published
palomino3Windows Server 2022 Datacenter / x64  OK    OK    OK    OK  UNNEEDED, same version is already published
merida1macOS 12.6.4 Monterey / x86_64  OK    OK    OK    OK  UNNEEDED, same version is already published
Package 71/83HostnameOS / ArchINSTALLBUILDCHECKBUILD BIN
SPLINTER 1.26.0  (landing page)
Diana Low
git_last_commit: 5116d5b
git_last_commit_date: 2023-04-25 10:49:52 -0400
nebbiolo1Linux (Ubuntu 22.04.2 LTS) / x86_64  OK    OK    OK  UNNEEDED, same version is already published
palomino3Windows Server 2022 Datacenter / x64  OK    OK    WARNINGS    OK  UNNEEDED, same version is already published
merida1macOS 12.6.4 Monterey / x86_64  OK    OK    OK    OK  UNNEEDED, same version is already published
Package 72/83HostnameOS / ArchINSTALLBUILDCHECKBUILD BIN
SPONGE 1.22.0  (landing page)
Markus List
git_last_commit: 508f9d7
git_last_commit_date: 2023-04-25 10:56:03 -0400
nebbiolo1Linux (Ubuntu 22.04.2 LTS) / x86_64  OK    OK    WARNINGS  UNNEEDED, same version is already published
palomino3Windows Server 2022 Datacenter / x64  OK    OK    WARNINGS    OK  UNNEEDED, same version is already published
merida1macOS 12.6.4 Monterey / x86_64  OK    OK    WARNINGS    OK  UNNEEDED, same version is already published
Package 73/83HostnameOS / ArchINSTALLBUILDCHECKBUILD BIN
surfaltr 1.6.0  (landing page)
Pooja Gangras
git_last_commit: 17de0f1
git_last_commit_date: 2023-04-25 11:33:07 -0400
nebbiolo1Linux (Ubuntu 22.04.2 LTS) / x86_64  OK    OK    OK  UNNEEDED, same version is already published
palomino3Windows Server 2022 Datacenter / x64  OK    OK    OK    OK  UNNEEDED, same version is already published
merida1macOS 12.6.4 Monterey / x86_64  OK    OK    OK    OK  UNNEEDED, same version is already published
Package 74/83HostnameOS / ArchINSTALLBUILDCHECKBUILD BIN
SWATH2stats 1.30.0  (landing page)
Peter Blattmann
git_last_commit: e614baa
git_last_commit_date: 2023-04-25 10:42:12 -0400
nebbiolo1Linux (Ubuntu 22.04.2 LTS) / x86_64  OK    OK    OK  UNNEEDED, same version is already published
palomino3Windows Server 2022 Datacenter / x64  OK    OK    OK    OK  UNNEEDED, same version is already published
merida1macOS 12.6.4 Monterey / x86_64  OK    OK    OK    OK  UNNEEDED, same version is already published
Package 75/83HostnameOS / ArchINSTALLBUILDCHECKBUILD BIN
TCGAbiolinks 2.28.2  (landing page)
Tiago Chedraoui Silva
git_last_commit: 316cabf8
git_last_commit_date: 2023-05-23 22:39:18 -0400
nebbiolo1Linux (Ubuntu 22.04.2 LTS) / x86_64  OK    OK    OK  UNNEEDED, same version is already published
palomino3Windows Server 2022 Datacenter / x64  OK    OK    OK    OK  UNNEEDED, same version is already published
merida1macOS 12.6.4 Monterey / x86_64  OK    OK    OK    OK  UNNEEDED, same version is already published
Package 76/83HostnameOS / ArchINSTALLBUILDCHECKBUILD BIN
TEKRABber 1.4.0  (landing page)
Yao-Chung Chen
git_last_commit: d5e1844
git_last_commit_date: 2023-04-25 11:35:57 -0400
nebbiolo1Linux (Ubuntu 22.04.2 LTS) / x86_64  OK    OK    OK  UNNEEDED, same version is already published
palomino3Windows Server 2022 Datacenter / x64  OK    OK    OK    OK  UNNEEDED, same version is already published
merida1macOS 12.6.4 Monterey / x86_64  OK    OK    OK    OK  UNNEEDED, same version is already published
Package 77/83HostnameOS / ArchINSTALLBUILDCHECKBUILD BIN
TFEA.ChIP 1.20.0  (landing page)
Laura Puente Santamaría
git_last_commit: 668ce27
git_last_commit_date: 2023-04-25 10:58:35 -0400
nebbiolo1Linux (Ubuntu 22.04.2 LTS) / x86_64  OK    OK    OK  UNNEEDED, same version is already published
palomino3Windows Server 2022 Datacenter / x64  OK    OK    OK    OK  UNNEEDED, same version is already published
merida1macOS 12.6.4 Monterey / x86_64  OK    OK    OK    OK  UNNEEDED, same version is already published
Package 78/83HostnameOS / ArchINSTALLBUILDCHECKBUILD BIN
TimiRGeN 1.10.0  (landing page)
Krutik Patel
git_last_commit: 74072d3
git_last_commit_date: 2023-04-25 11:22:28 -0400
nebbiolo1Linux (Ubuntu 22.04.2 LTS) / x86_64  OK    OK    OK  UNNEEDED, same version is already published
palomino3Windows Server 2022 Datacenter / x64  OK    OK    OK    OK  UNNEEDED, same version is already published
merida1macOS 12.6.4 Monterey / x86_64  OK    OK    OK    OK  UNNEEDED, same version is already published
Package 79/83HostnameOS / ArchINSTALLBUILDCHECKBUILD BIN
transcriptogramer 1.22.0  (landing page)
Diego Morais
git_last_commit: 346edb1
git_last_commit_date: 2023-04-25 10:58:08 -0400
nebbiolo1Linux (Ubuntu 22.04.2 LTS) / x86_64  OK    OK    OK  UNNEEDED, same version is already published
palomino3Windows Server 2022 Datacenter / x64  OK    OK    OK    OK  UNNEEDED, same version is already published
merida1macOS 12.6.4 Monterey / x86_64  OK    OK    OK    OK  UNNEEDED, same version is already published
Package 80/83HostnameOS / ArchINSTALLBUILDCHECKBUILD BIN
trena 1.22.0  (landing page)
Paul Shannon
git_last_commit: 82de230
git_last_commit_date: 2023-04-25 10:54:22 -0400
nebbiolo1Linux (Ubuntu 22.04.2 LTS) / x86_64  ERROR    ERROR  skipped
palomino3Windows Server 2022 Datacenter / x64  ERROR    ERROR  skippedskipped
merida1macOS 12.6.4 Monterey / x86_64  ERROR    ERROR  skippedskipped
Package 81/83HostnameOS / ArchINSTALLBUILDCHECKBUILD BIN
VegaMC 3.38.0  (landing page)
Sandro Morganella
git_last_commit: ed4f4ae
git_last_commit_date: 2023-04-25 10:22:41 -0400
nebbiolo1Linux (Ubuntu 22.04.2 LTS) / x86_64  OK    OK    WARNINGS  UNNEEDED, same version is already published
palomino3Windows Server 2022 Datacenter / x64  OK    OK    TIMEOUT    OK  
merida1macOS 12.6.4 Monterey / x86_64  OK    OK    WARNINGS    OK  UNNEEDED, same version is already published
Package 82/83HostnameOS / ArchINSTALLBUILDCHECKBUILD BIN
ViSEAGO 1.14.0  (landing page)
Aurelien Brionne
git_last_commit: 2c260c1
git_last_commit_date: 2023-04-25 11:11:13 -0400
nebbiolo1Linux (Ubuntu 22.04.2 LTS) / x86_64  OK    OK    WARNINGS  UNNEEDED, same version is already published
palomino3Windows Server 2022 Datacenter / x64  OK    OK    TIMEOUT    OK  
merida1macOS 12.6.4 Monterey / x86_64  OK    OK    WARNINGS    OK  UNNEEDED, same version is already published
Package 83/83HostnameOS / ArchINSTALLBUILDCHECKBUILD BIN
yarn 1.26.0  (landing page)
Joseph N Paulson
git_last_commit: 54dac4a
git_last_commit_date: 2023-04-25 10:51:02 -0400
nebbiolo1Linux (Ubuntu 22.04.2 LTS) / x86_64  OK    OK    OK  UNNEEDED, same version is already published
palomino3Windows Server 2022 Datacenter / x64  OK    OK    TIMEOUT    OK  
merida1macOS 12.6.4 Monterey / x86_64  OK    OK    OK    OK  UNNEEDED, same version is already published