Back to Multiple platform build/check report for BioC 3.17:   simplified   long
ABCDEFGHIJKL[M]NOPQRSTUVWXYZ

This page was generated on 2023-03-20 11:05:12 -0400 (Mon, 20 Mar 2023).

HostnameOSArch (*)R versionInstalled pkgs
nebbiolo1Linux (Ubuntu 22.04.1 LTS)x86_64R Under development (unstable) (2023-03-16 r83996) -- "Unsuffered Consequences" 4297
palomino3Windows Server 2022 Datacenterx64R Under development (unstable) (2023-03-15 r83984 ucrt) -- "Unsuffered Consequences" 4286
merida1macOS 10.14.6 Mojavex86_64R Under development (unstable) (2023-03-16 r83985) -- "Unsuffered Consequences" 4150
Click on any hostname to see more info about the system (e.g. compilers)      (*) as reported by 'uname -p', except on Windows and Mac OS X

CHECK results for Motif2Site on nebbiolo1


To the developers/maintainers of the Motif2Site package:
- Please allow up to 24 hours (and sometimes 48 hours) for your latest push to git@git.bioconductor.org:packages/Motif2Site.git to
reflect on this report. See How and When does the builder pull? When will my changes propagate? for more information.
- Make sure to use the following settings in order to reproduce any error or warning you see on this page.

raw results

Package 1260/2189HostnameOS / ArchINSTALLBUILDCHECKBUILD BIN
Motif2Site 1.3.0  (landing page)
Peyman Zarrineh
Snapshot Date: 2023-03-19 14:00:12 -0400 (Sun, 19 Mar 2023)
git_url: https://git.bioconductor.org/packages/Motif2Site
git_branch: master
git_last_commit: b1ab8d3
git_last_commit_date: 2022-11-01 11:26:28 -0400 (Tue, 01 Nov 2022)
nebbiolo1Linux (Ubuntu 22.04.1 LTS) / x86_64  OK    OK    OK  UNNEEDED, same version is already published
palomino3Windows Server 2022 Datacenter / x64  OK    OK    OK    OK  UNNEEDED, same version is already published
merida1macOS 10.14.6 Mojave / x86_64  OK    OK    OK    OK  UNNEEDED, same version is already published

Summary

Package: Motif2Site
Version: 1.3.0
Command: /home/biocbuild/bbs-3.17-bioc/R/bin/R CMD check --install=check:Motif2Site.install-out.txt --library=/home/biocbuild/bbs-3.17-bioc/R/site-library --timings Motif2Site_1.3.0.tar.gz
StartedAt: 2023-03-19 21:54:00 -0400 (Sun, 19 Mar 2023)
EndedAt: 2023-03-19 22:08:14 -0400 (Sun, 19 Mar 2023)
EllapsedTime: 854.4 seconds
RetCode: 0
Status:   OK  
CheckDir: Motif2Site.Rcheck
Warnings: 0

Command output

##############################################################################
##############################################################################
###
### Running command:
###
###   /home/biocbuild/bbs-3.17-bioc/R/bin/R CMD check --install=check:Motif2Site.install-out.txt --library=/home/biocbuild/bbs-3.17-bioc/R/site-library --timings Motif2Site_1.3.0.tar.gz
###
##############################################################################
##############################################################################


* using log directory ‘/home/biocbuild/bbs-3.17-bioc/meat/Motif2Site.Rcheck’
* using R Under development (unstable) (2023-03-16 r83996)
* using platform: x86_64-pc-linux-gnu (64-bit)
* R was compiled by
    gcc (Ubuntu 11.3.0-1ubuntu1~22.04) 11.3.0
    GNU Fortran (Ubuntu 11.3.0-1ubuntu1~22.04) 11.3.0
* running under: Ubuntu 22.04.2 LTS
* using session charset: UTF-8
* checking for file ‘Motif2Site/DESCRIPTION’ ... OK
* checking extension type ... Package
* this is package ‘Motif2Site’ version ‘1.3.0’
* package encoding: UTF-8
* checking package namespace information ... OK
* checking package dependencies ... OK
* checking if this is a source package ... OK
* checking if there is a namespace ... OK
* checking for hidden files and directories ... NOTE
Found the following hidden files and directories:
  .gitignoreommit
These were most likely included in error. See section ‘Package
structure’ in the ‘Writing R Extensions’ manual.
* checking for portable file names ... OK
* checking for sufficient/correct file permissions ... OK
* checking whether package ‘Motif2Site’ can be installed ... OK
* checking installed package size ... OK
* checking package directory ... OK
* checking ‘build’ directory ... OK
* checking DESCRIPTION meta-information ... OK
* checking top-level files ... OK
* checking for left-over files ... OK
* checking index information ... OK
* checking package subdirectories ... OK
* checking R files for non-ASCII characters ... OK
* checking R files for syntax errors ... OK
* checking whether the package can be loaded ... OK
* checking whether the package can be loaded with stated dependencies ... OK
* checking whether the package can be unloaded cleanly ... OK
* checking whether the namespace can be loaded with stated dependencies ... OK
* checking whether the namespace can be unloaded cleanly ... OK
* checking loading without being on the library search path ... OK
* checking dependencies in R code ... OK
* checking S3 generic/method consistency ... OK
* checking replacement functions ... OK
* checking foreign function calls ... OK
* checking R code for possible problems ... OK
* checking Rd files ... OK
* checking Rd metadata ... OK
* checking Rd cross-references ... OK
* checking for missing documentation entries ... OK
* checking for code/documentation mismatches ... OK
* checking Rd \usage sections ... OK
* checking Rd contents ... OK
* checking for unstated dependencies in examples ... OK
* checking files in ‘vignettes’ ... OK
* checking examples ... OK
Examples with CPU (user + system) or elapsed time > 5s
                                         user system elapsed
recenterBindingSitesAcrossExperiments 146.708  1.160 147.871
Motif2Site                            139.345  1.347 143.481
pairwisDifferential                   136.186  1.013 137.205
DetectBindingSitesBed                  65.751  1.291  67.032
DetectBindingSitesMotif                63.799  1.127  65.996
compareMotifs2UserProvidedRegions      17.420  0.132  17.552
compareBedFiless2UserProvidedRegions    7.375  0.004   7.379
* checking for unstated dependencies in vignettes ... OK
* checking package vignettes in ‘inst/doc’ ... OK
* checking running R code from vignettes ...
  ‘Motif2Site.Rmd’ using ‘UTF-8’... OK
 NONE
* checking re-building of vignette outputs ... OK
* checking PDF version of manual ... OK
* DONE

Status: 1 NOTE
See
  ‘/home/biocbuild/bbs-3.17-bioc/meat/Motif2Site.Rcheck/00check.log’
for details.



Installation output

Motif2Site.Rcheck/00install.out

##############################################################################
##############################################################################
###
### Running command:
###
###   /home/biocbuild/bbs-3.17-bioc/R/bin/R CMD INSTALL Motif2Site
###
##############################################################################
##############################################################################


* installing to library ‘/home/biocbuild/bbs-3.17-bioc/R/site-library’
* installing *source* package ‘Motif2Site’ ...
** using staged installation
** R
** inst
** byte-compile and prepare package for lazy loading
** help
*** installing help indices
** building package indices
** installing vignettes
** testing if installed package can be loaded from temporary location
** testing if installed package can be loaded from final location
** testing if installed package keeps a record of temporary installation path
* DONE (Motif2Site)

Tests output


Example timings

Motif2Site.Rcheck/Motif2Site-Ex.timings

nameusersystemelapsed
Bed2Granges2.9240.0642.988
DetectBindingSitesBed65.751 1.29167.032
DetectBindingSitesMotif63.799 1.12765.996
Motif2Site139.345 1.347143.481
compareBedFiless2UserProvidedRegions7.3750.0047.379
compareMotifs2UserProvidedRegions17.420 0.13217.552
data0.9400.0030.943
pairwisDifferential136.186 1.013137.205
recenterBindingSitesAcrossExperiments146.708 1.160147.871