Back to Multiple platform build/check report for BioC 3.17:   simplified   long
ABCD[E]FGHIJKLMNOPQRSTUVWXYZ

This page was generated on 2023-03-29 11:06:12 -0400 (Wed, 29 Mar 2023).

HostnameOSArch (*)R versionInstalled pkgs
nebbiolo1Linux (Ubuntu 22.04.1 LTS)x86_64R Under development (unstable) (2023-03-16 r83996) -- "Unsuffered Consequences" 4547
palomino3Windows Server 2022 Datacenterx64R Under development (unstable) (2023-03-15 r83984 ucrt) -- "Unsuffered Consequences" 4308
merida1macOS 10.14.6 Mojavex86_64R Under development (unstable) (2023-03-16 r83985) -- "Unsuffered Consequences" 4301
Click on any hostname to see more info about the system (e.g. compilers)      (*) as reported by 'uname -p', except on Windows and Mac OS X

INSTALL results for extraChIPs on merida1


To the developers/maintainers of the extraChIPs package:
- Please allow up to 24 hours (and sometimes 48 hours) for your latest push to git@git.bioconductor.org:packages/extraChIPs.git to
reflect on this report. See How and When does the builder pull? When will my changes propagate? for more information.
- Make sure to use the following settings in order to reproduce any error or warning you see on this page.

raw results

Package 661/2195HostnameOS / ArchINSTALLBUILDCHECKBUILD BIN
extraChIPs 1.3.8  (landing page)
Stephen Pederson
Snapshot Date: 2023-03-28 14:00:22 -0400 (Tue, 28 Mar 2023)
git_url: https://git.bioconductor.org/packages/extraChIPs
git_branch: devel
git_last_commit: c71e337
git_last_commit_date: 2023-03-25 11:38:23 -0400 (Sat, 25 Mar 2023)
nebbiolo1Linux (Ubuntu 22.04.1 LTS) / x86_64  OK    OK    OK  UNNEEDED, same version is already published
palomino3Windows Server 2022 Datacenter / x64  ERROR    OK    ERROR    OK  
merida1macOS 10.14.6 Mojave / x86_64  ERROR    OK    ERROR    OK  

Summary

Package: extraChIPs
Version: 1.3.8
Command: /Library/Frameworks/R.framework/Resources/bin/R CMD INSTALL extraChIPs
StartedAt: 2023-03-28 15:56:43 -0400 (Tue, 28 Mar 2023)
EndedAt: 2023-03-28 15:58:40 -0400 (Tue, 28 Mar 2023)
EllapsedTime: 117.8 seconds
RetCode: 1
Status:   ERROR  

Command output

##############################################################################
##############################################################################
###
### Running command:
###
###   /Library/Frameworks/R.framework/Resources/bin/R CMD INSTALL extraChIPs
###
##############################################################################
##############################################################################


* installing to library ‘/Library/Frameworks/R.framework/Versions/4.3/Resources/library’
* installing *source* package ‘extraChIPs’ ...
** using staged installation
** libs
using C compiler: ‘Apple clang version 11.0.0 (clang-1100.0.33.17)’
using SDK: ‘’
make: Nothing to be done for `all'.
installing to /Library/Frameworks/R.framework/Versions/4.3/Resources/library/00LOCK-extraChIPs/00new/extraChIPs/libs
** R
** data
** inst
** byte-compile and prepare package for lazy loading
** help
*** installing help indices
*** copying figures
** building package indices
** installing vignettes
** testing if installed package can be loaded from temporary location
Error: package or namespace load failed for 'extraChIPs' in dyn.load(file, DLLpath = DLLpath, ...):
 unable to load shared object '/Library/Frameworks/R.framework/Versions/4.3/Resources/library/00LOCK-extraChIPs/00new/extraChIPs/libs/extraChIPs.so':
  dlopen(/Library/Frameworks/R.framework/Versions/4.3/Resources/library/00LOCK-extraChIPs/00new/extraChIPs/libs/extraChIPs.so, 6): no suitable image found.  Did find:
	/Library/Frameworks/R.framework/Versions/4.3/Resources/library/00LOCK-extraChIPs/00new/extraChIPs/libs/extraChIPs.so: unknown file type, first eight bytes: 0x7F 0x45 0x4C 0x46 0x02 0x01 0x01 0x00
	/Library/Frameworks/R.framework/Versions/4.3/Resources/library/00LOCK-extraChIPs/00new/extraChIPs/libs/extraChIPs.so: unknown file type, first eight bytes: 0x7F 0x45 0x4C 0x46 0x02 0x01 0x01 0x00
Error: loading failed
Execution halted
ERROR: loading failed
* removing ‘/Library/Frameworks/R.framework/Versions/4.3/Resources/library/extraChIPs’
* restoring previous ‘/Library/Frameworks/R.framework/Versions/4.3/Resources/library/extraChIPs’