Back to Multiple platform build/check report for BioC 3.17:   simplified   long
AB[C]DEFGHIJKLMNOPQRSTUVWXYZ

This page was generated on 2023-03-27 11:04:13 -0400 (Mon, 27 Mar 2023).

HostnameOSArch (*)R versionInstalled pkgs
nebbiolo1Linux (Ubuntu 22.04.1 LTS)x86_64R Under development (unstable) (2023-03-16 r83996) -- "Unsuffered Consequences" 4547
palomino3Windows Server 2022 Datacenterx64R Under development (unstable) (2023-03-15 r83984 ucrt) -- "Unsuffered Consequences" 4308
merida1macOS 10.14.6 Mojavex86_64R Under development (unstable) (2023-03-16 r83985) -- "Unsuffered Consequences" 4300
Click on any hostname to see more info about the system (e.g. compilers)      (*) as reported by 'uname -p', except on Windows and Mac OS X

All results for package CopyNumberPlots


To the developers/maintainers of the CopyNumberPlots package:
- Please allow up to 24 hours (and sometimes 48 hours) for your latest push to git@git.bioconductor.org:packages/CopyNumberPlots.git to
reflect on this report. See How and When does the builder pull? When will my changes propagate? for more information.
- Make sure to use the following settings in order to reproduce any error or warning you see on this page.

raw results

Package 422/2195HostnameOS / ArchINSTALLBUILDCHECKBUILD BIN
CopyNumberPlots 1.15.0  (landing page)
Bernat Gel
Snapshot Date: 2023-03-26 14:00:09 -0400 (Sun, 26 Mar 2023)
git_url: https://git.bioconductor.org/packages/CopyNumberPlots
git_branch: devel
git_last_commit: a3d45ec
git_last_commit_date: 2022-11-01 11:19:46 -0400 (Tue, 01 Nov 2022)
nebbiolo1Linux (Ubuntu 22.04.1 LTS) / x86_64  OK    OK    ERROR  
palomino3Windows Server 2022 Datacenter / x64  OK    OK    OK    OK  UNNEEDED, same version is already published
merida1macOS 10.14.6 Mojave / x86_64  OK    OK    OK    OK  UNNEEDED, same version is already published

Results for Bioconductor software packages that depend directly on package CopyNumberPlots

QUICK STATSOS / ArchINSTALLBUILDCHECKBUILD BIN
nebbiolo1Linux (Ubuntu 22.04.1 LTS) / x86_64
002
002
0002
palomino3Windows Server 2022 Datacenter / x64
002
002
0002
002
merida1macOS 10.14.6 Mojave / x86_64
002
002
0002
002
Package 1/2HostnameOS / ArchINSTALLBUILDCHECKBUILD BIN
CNVfilteR 1.13.2  (landing page)
Jose Marcos Moreno-Cabrera
git_last_commit: 34c9784
git_last_commit_date: 2023-03-20 11:12:44 -0400
nebbiolo1Linux (Ubuntu 22.04.1 LTS) / x86_64  OK    OK    OK  UNNEEDED, same version is already published
palomino3Windows Server 2022 Datacenter / x64  OK    OK    OK    OK  UNNEEDED, same version is already published
merida1macOS 10.14.6 Mojave / x86_64  OK    OK    OK    OK  UNNEEDED, same version is already published
Package 2/2HostnameOS / ArchINSTALLBUILDCHECKBUILD BIN
CNViz 1.7.0  (landing page)
Rebecca Greenblatt
git_last_commit: a34f7ed
git_last_commit_date: 2022-11-01 11:24:36 -0400
nebbiolo1Linux (Ubuntu 22.04.1 LTS) / x86_64  OK    OK    OK  UNNEEDED, same version is already published
palomino3Windows Server 2022 Datacenter / x64  OK    OK    OK    OK  UNNEEDED, same version is already published
merida1macOS 10.14.6 Mojave / x86_64  OK    OK    OK    OK  UNNEEDED, same version is already published