Back to Multiple platform build/check report for BioC 3.17:   simplified   long
ABCDEF[G]HIJKLMNOPQRSTUVWXYZ

This page was generated on 2023-06-03 14:37:15 -0400 (Sat, 03 Jun 2023).

HostnameOSArch (*)R versionInstalled pkgs
nebbiolo1Linux (Ubuntu 22.04.2 LTS)x86_644.3.0 RC (2023-04-13 r84269) -- "Already Tomorrow" 4623
palomino3Windows Server 2022 Datacenterx644.3.0 RC (2023-04-13 r84269 ucrt) -- "Already Tomorrow" 4374
merida1macOS 12.6.4 Montereyx86_644.3.0 RC (2023-04-13 r84257) -- "Already Tomorrow" 4332
Click on any hostname to see more info about the system (e.g. compilers)      (*) as reported by 'uname -p', except on Windows and Mac OS X

CHECK results for gep2pep on palomino3


To the developers/maintainers of the gep2pep package:
- Allow up to 24 hours (and sometimes 48 hours) for your latest push to git@git.bioconductor.org:packages/gep2pep.git to reflect on this report. See Troubleshooting Build Report for more information.

- Use the following Renviron settings to reproduce errors and warnings.

Note: If "R CMD check" recently failed on the Linux builder over a missing dependency, add the missing dependency to "Suggests" in your DESCRIPTION file. See the Renviron.bioc for details.

raw results

Package 826/2229HostnameOS / ArchINSTALLBUILDCHECKBUILD BIN
gep2pep 1.20.0  (landing page)
Francesco Napolitano
Snapshot Date: 2023-06-02 14:00:14 -0400 (Fri, 02 Jun 2023)
git_url: https://git.bioconductor.org/packages/gep2pep
git_branch: RELEASE_3_17
git_last_commit: 363168c
git_last_commit_date: 2023-04-25 10:58:13 -0400 (Tue, 25 Apr 2023)
nebbiolo1Linux (Ubuntu 22.04.2 LTS) / x86_64  OK    OK    OK  UNNEEDED, same version is already published
palomino3Windows Server 2022 Datacenter / x64  OK    OK    OK    OK  UNNEEDED, same version is already published
merida1macOS 12.6.4 Monterey / x86_64  OK    OK    OK    OK  UNNEEDED, same version is already published

Summary

Package: gep2pep
Version: 1.20.0
Command: F:\biocbuild\bbs-3.17-bioc\R\bin\R.exe CMD check --no-multiarch --install=check:gep2pep.install-out.txt --library=F:\biocbuild\bbs-3.17-bioc\R\library --no-vignettes --timings gep2pep_1.20.0.tar.gz
StartedAt: 2023-06-03 02:45:45 -0400 (Sat, 03 Jun 2023)
EndedAt: 2023-06-03 02:48:29 -0400 (Sat, 03 Jun 2023)
EllapsedTime: 163.8 seconds
RetCode: 0
Status:   OK  
CheckDir: gep2pep.Rcheck
Warnings: 0

Command output

##############################################################################
##############################################################################
###
### Running command:
###
###   F:\biocbuild\bbs-3.17-bioc\R\bin\R.exe CMD check --no-multiarch --install=check:gep2pep.install-out.txt --library=F:\biocbuild\bbs-3.17-bioc\R\library --no-vignettes --timings gep2pep_1.20.0.tar.gz
###
##############################################################################
##############################################################################


* using log directory 'F:/biocbuild/bbs-3.17-bioc/meat/gep2pep.Rcheck'
* using R version 4.3.0 RC (2023-04-13 r84269 ucrt)
* using platform: x86_64-w64-mingw32 (64-bit)
* R was compiled by
    gcc.exe (GCC) 12.2.0
    GNU Fortran (GCC) 12.2.0
* running under: Windows Server 2022 x64 (build 20348)
* using session charset: UTF-8
* using option '--no-vignettes'
* checking for file 'gep2pep/DESCRIPTION' ... OK
* checking extension type ... Package
* this is package 'gep2pep' version '1.20.0'
* package encoding: UTF-8
* checking package namespace information ... OK
* checking package dependencies ... OK
* checking if this is a source package ... OK
* checking if there is a namespace ... OK
* checking for hidden files and directories ... OK
* checking for portable file names ... OK
* checking whether package 'gep2pep' can be installed ... OK
* checking installed package size ... OK
* checking package directory ... OK
* checking 'build' directory ... OK
* checking DESCRIPTION meta-information ... OK
* checking top-level files ... OK
* checking for left-over files ... OK
* checking index information ... OK
* checking package subdirectories ... OK
* checking R files for non-ASCII characters ... OK
* checking R files for syntax errors ... OK
* checking whether the package can be loaded ... OK
* checking whether the package can be loaded with stated dependencies ... OK
* checking whether the package can be unloaded cleanly ... OK
* checking whether the namespace can be loaded with stated dependencies ... OK
* checking whether the namespace can be unloaded cleanly ... OK
* checking dependencies in R code ... OK
* checking S3 generic/method consistency ... OK
* checking replacement functions ... OK
* checking foreign function calls ... OK
* checking R code for possible problems ... OK
* checking Rd files ... OK
* checking Rd metadata ... OK
* checking Rd cross-references ... OK
* checking for missing documentation entries ... OK
* checking for code/documentation mismatches ... OK
* checking Rd \usage sections ... OK
* checking Rd contents ... OK
* checking for unstated dependencies in examples ... OK
* checking files in 'vignettes' ... OK
* checking examples ... OK
* checking for unstated dependencies in 'tests' ... OK
* checking tests ...
  Running 'testthat.R'
 OK
* checking for unstated dependencies in vignettes ... OK
* checking package vignettes in 'inst/doc' ... OK
* checking running R code from vignettes ... SKIPPED
* checking re-building of vignette outputs ... SKIPPED
* checking PDF version of manual ... OK
* DONE

Status: OK


Installation output

gep2pep.Rcheck/00install.out

##############################################################################
##############################################################################
###
### Running command:
###
###   F:\biocbuild\bbs-3.17-bioc\R\bin\R.exe CMD INSTALL gep2pep
###
##############################################################################
##############################################################################


* installing to library 'F:/biocbuild/bbs-3.17-bioc/R/library'
* installing *source* package 'gep2pep' ...
** using staged installation
** R
** inst
** byte-compile and prepare package for lazy loading
** help
*** installing help indices
** building package indices
** installing vignettes
** testing if installed package can be loaded from temporary location
** testing if installed package can be loaded from final location
** testing if installed package keeps a record of temporary installation path
* DONE (gep2pep)

Tests output

gep2pep.Rcheck/tests/testthat.Rout


R version 4.3.0 RC (2023-04-13 r84269 ucrt) -- "Already Tomorrow"
Copyright (C) 2023 The R Foundation for Statistical Computing
Platform: x86_64-w64-mingw32/x64 (64-bit)

R is free software and comes with ABSOLUTELY NO WARRANTY.
You are welcome to redistribute it under certain conditions.
Type 'license()' or 'licence()' for distribution details.

R is a collaborative project with many contributors.
Type 'contributors()' for more information and
'citation()' on how to cite R or R packages in publications.

Type 'demo()' for some demos, 'help()' for on-line help, or
'help.start()' for an HTML browser interface to help.
Type 'q()' to quit R.

> library(testthat)
> library(gep2pep)
> 
> test_check("gep2pep")
Chunk 1 of 2, 520 bytes (current file size: 4.3 Kb)
Chunk 2 of 2, 665 bytes (current file size: 16.3 Kb)
Chunk 1 of 2, 540 bytes (current file size: 4.3 Kb)
Chunk 2 of 2, 691 bytes (current file size: 16.3 Kb)
Chunk 1 of 2, 549 bytes (current file size: 4.3 Kb)
Chunk 2 of 2, 685 bytes (current file size: 16.3 Kb)
[ FAIL 0 | WARN 2273 | SKIP 1 | PASS 154 ]

══ Skipped tests ═══════════════════════════════════════════════════════════════
• empty test (1)

[ FAIL 0 | WARN 2273 | SKIP 1 | PASS 154 ]
> 
> proc.time()
   user  system elapsed 
  23.34    2.39   33.84 

Example timings

gep2pep.Rcheck/gep2pep-Ex.timings

nameusersystemelapsed
CategorizedCollection0.140.000.14
CondSEA1.240.172.06
PathSEA0.690.201.79
addSingleGeneSets0.560.241.03
as.CategorizedCollection0.330.040.74
buildPEPs0.550.121.43
checkRepository0.200.080.62
clearCache0.620.161.80
createMergedRepository0.820.262.00
createRepository0.220.070.53
exportSEA0.530.151.11
gene2pathways0.190.080.63
getCollections0.220.060.50
getDetails0.550.191.58
getResults0.620.161.39
importFromRawMode0.640.182.48
importMSigDB.xml0.160.140.56
loadCollection0.180.080.60
loadESmatrix0.490.101.19
loadPVmatrix0.610.121.30
loadSampleGEP000
loadSamplePWS000
makeCollectionIDs0.070.000.06
openRepository0.170.090.59
setId2setName0.030.020.05