Back to Multiple platform build/check report for BioC 3.17:   simplified   long
ABCDEFGHIJKL[M]NOPQRSTUVWXYZ

This page was generated on 2023-03-31 11:03:11 -0400 (Fri, 31 Mar 2023).

HostnameOSArch (*)R versionInstalled pkgs
nebbiolo1Linux (Ubuntu 22.04.1 LTS)x86_64R Under development (unstable) (2023-03-16 r83996) -- "Unsuffered Consequences" 4547
palomino3Windows Server 2022 Datacenterx64R Under development (unstable) (2023-03-15 r83984 ucrt) -- "Unsuffered Consequences" 4308
Click on any hostname to see more info about the system (e.g. compilers)      (*) as reported by 'uname -p', except on Windows and Mac OS X

INSTALL results for MethCP on palomino3


To the developers/maintainers of the MethCP package:
- Allow up to 24 hours (and sometimes 48 hours) for your latest push to git@git.bioconductor.org:packages/MethCP.git to reflect on this report. See Troubleshooting Build Report for more information.

- Use the following Renviron settings to reproduce errors and warnings.

Note: If "R CMD check" recently failed on the Linux builder over a missing dependency, add the missing dependency to "Suggests" in your DESCRIPTION file. See the Renviron.bioc for details.

raw results

Package 1172/2195HostnameOS / ArchINSTALLBUILDCHECKBUILD BIN
MethCP 1.13.1  (landing page)
Boying Gong
Snapshot Date: 2023-03-30 14:00:16 -0400 (Thu, 30 Mar 2023)
git_url: https://git.bioconductor.org/packages/MethCP
git_branch: devel
git_last_commit: 2bc4bbb
git_last_commit_date: 2023-03-30 12:46:14 -0400 (Thu, 30 Mar 2023)
nebbiolo1Linux (Ubuntu 22.04.1 LTS) / x86_64  OK    OK    ERROR  
palomino3Windows Server 2022 Datacenter / x64  OK    OK    ERROR    OK  

Summary

Package: MethCP
Version: 1.13.1
Command: F:\biocbuild\bbs-3.17-bioc\R\bin\R.exe CMD INSTALL MethCP
StartedAt: 2023-03-30 16:00:11 -0400 (Thu, 30 Mar 2023)
EndedAt: 2023-03-30 16:01:04 -0400 (Thu, 30 Mar 2023)
EllapsedTime: 52.4 seconds
RetCode: 0
Status:   OK  

Command output

##############################################################################
##############################################################################
###
### Running command:
###
###   F:\biocbuild\bbs-3.17-bioc\R\bin\R.exe CMD INSTALL MethCP
###
##############################################################################
##############################################################################


* installing to library 'F:/biocbuild/bbs-3.17-bioc/R/library'
* installing *source* package 'MethCP' ...
** using staged installation
** R
** inst
** byte-compile and prepare package for lazy loading
Note: possible error in 'DMLtest(o, group1, group2, ': unused argument (BPPARAM = bpparam()) 
** help
*** installing help indices
** building package indices
** installing vignettes
** testing if installed package can be loaded from temporary location
Warning: Package 'MethCP' is deprecated and will be removed from Bioconductor
  version 3.18
** testing if installed package can be loaded from final location
Warning: Package 'MethCP' is deprecated and will be removed from Bioconductor
  version 3.18
** testing if installed package keeps a record of temporary installation path
* DONE (MethCP)