Back to Multiple platform build/check report for BioC 3.17:   simplified   long
ABCDEFGHIJKLMNOPQR[S]TUVWXYZ

This page was generated on 2023-05-30 11:06:38 -0400 (Tue, 30 May 2023).

HostnameOSArch (*)R versionInstalled pkgs
nebbiolo1Linux (Ubuntu 22.04.2 LTS)x86_644.3.0 RC (2023-04-13 r84269) -- "Already Tomorrow" 4617
palomino3Windows Server 2022 Datacenterx644.3.0 RC (2023-04-13 r84269 ucrt) -- "Already Tomorrow" 4368
merida1macOS 12.6.4 Montereyx86_644.3.0 RC (2023-04-13 r84257) -- "Already Tomorrow" 4326
Click on any hostname to see more info about the system (e.g. compilers)      (*) as reported by 'uname -p', except on Windows and Mac OS X

BUILD BIN results for scmeth on palomino3


To the developers/maintainers of the scmeth package:
- Allow up to 24 hours (and sometimes 48 hours) for your latest push to git@git.bioconductor.org:packages/scmeth.git to reflect on this report. See Troubleshooting Build Report for more information.

- Use the following Renviron settings to reproduce errors and warnings.

Note: If "R CMD check" recently failed on the Linux builder over a missing dependency, add the missing dependency to "Suggests" in your DESCRIPTION file. See the Renviron.bioc for details.

raw results

Package 1845/2229HostnameOS / ArchINSTALLBUILDCHECKBUILD BIN
scmeth 1.20.0  (landing page)
Divy Kangeyan
Snapshot Date: 2023-05-29 14:00:15 -0400 (Mon, 29 May 2023)
git_url: https://git.bioconductor.org/packages/scmeth
git_branch: RELEASE_3_17
git_last_commit: a2b9cf1
git_last_commit_date: 2023-04-25 10:59:30 -0400 (Tue, 25 Apr 2023)
nebbiolo1Linux (Ubuntu 22.04.2 LTS) / x86_64  OK    OK    OK  UNNEEDED, same version is already published
palomino3Windows Server 2022 Datacenter / x64  OK    OK    OK    OK  UNNEEDED, same version is already published
merida1macOS 12.6.4 Monterey / x86_64  OK    OK    OK    OK  UNNEEDED, same version is already published

Summary

Package: scmeth
Version: 1.20.0
Command: rm -rf scmeth.buildbin-libdir && mkdir scmeth.buildbin-libdir && F:\biocbuild\bbs-3.17-bioc\R\bin\R.exe CMD INSTALL --build --library=scmeth.buildbin-libdir scmeth_1.20.0.tar.gz
StartedAt: 2023-05-30 09:35:45 -0400 (Tue, 30 May 2023)
EndedAt: 2023-05-30 09:36:36 -0400 (Tue, 30 May 2023)
EllapsedTime: 51.9 seconds
RetCode: 0
Status:   OK  
PackageFile: scmeth_1.20.0.zip
PackageFileSize: 780.3 KiB

Command output

##############################################################################
##############################################################################
###
### Running command:
###
###   rm -rf scmeth.buildbin-libdir && mkdir scmeth.buildbin-libdir && F:\biocbuild\bbs-3.17-bioc\R\bin\R.exe CMD INSTALL --build --library=scmeth.buildbin-libdir scmeth_1.20.0.tar.gz
###
##############################################################################
##############################################################################


* installing *source* package 'scmeth' ...
** using staged installation
** R
** inst
** byte-compile and prepare package for lazy loading
** help
*** installing help indices
** building package indices
** installing vignettes
** testing if installed package can be loaded from temporary location
** testing if installed package can be loaded from final location
** testing if installed package keeps a record of temporary installation path
* MD5 sums
packaged installation of 'scmeth' as scmeth_1.20.0.zip
* DONE (scmeth)