Back to Multiple platform build/check report for BioC 3.17:   simplified   long
ABCDEFGHIJKL[M]NOPQRSTUVWXYZ

This page was generated on 2023-03-24 11:06:06 -0400 (Fri, 24 Mar 2023).

HostnameOSArch (*)R versionInstalled pkgs
nebbiolo1Linux (Ubuntu 22.04.1 LTS)x86_64R Under development (unstable) (2023-03-16 r83996) -- "Unsuffered Consequences" 4546
palomino3Windows Server 2022 Datacenterx64R Under development (unstable) (2023-03-15 r83984 ucrt) -- "Unsuffered Consequences" 4307
merida1macOS 10.14.6 Mojavex86_64R Under development (unstable) (2023-03-16 r83985) -- "Unsuffered Consequences" 4299
Click on any hostname to see more info about the system (e.g. compilers)      (*) as reported by 'uname -p', except on Windows and Mac OS X

BUILD BIN results for methimpute on palomino3


To the developers/maintainers of the methimpute package:
- Please allow up to 24 hours (and sometimes 48 hours) for your latest push to git@git.bioconductor.org:packages/methimpute.git to
reflect on this report. See How and When does the builder pull? When will my changes propagate? for more information.
- Make sure to use the following settings in order to reproduce any error or warning you see on this page.

raw results

Package 1173/2195HostnameOS / ArchINSTALLBUILDCHECKBUILD BIN
methimpute 1.21.0  (landing page)
Aaron Taudt
Snapshot Date: 2023-03-23 14:00:15 -0400 (Thu, 23 Mar 2023)
git_url: https://git.bioconductor.org/packages/methimpute
git_branch: devel
git_last_commit: 5d8d695
git_last_commit_date: 2022-11-01 11:16:30 -0400 (Tue, 01 Nov 2022)
nebbiolo1Linux (Ubuntu 22.04.1 LTS) / x86_64  OK    OK    OK  UNNEEDED, same version is already published
palomino3Windows Server 2022 Datacenter / x64  OK    OK    OK    OK  UNNEEDED, same version is already published
merida1macOS 10.14.6 Mojave / x86_64  OK    OK    OK    OK  UNNEEDED, same version is already published

Summary

Package: methimpute
Version: 1.21.0
Command: rm -rf methimpute.buildbin-libdir && mkdir methimpute.buildbin-libdir && F:\biocbuild\bbs-3.17-bioc\R\bin\R.exe CMD INSTALL --build --library=methimpute.buildbin-libdir methimpute_1.21.0.tar.gz
StartedAt: 2023-03-24 08:59:30 -0400 (Fri, 24 Mar 2023)
EndedAt: 2023-03-24 09:00:29 -0400 (Fri, 24 Mar 2023)
EllapsedTime: 59.1 seconds
RetCode: 0
Status:   OK  
PackageFile: methimpute_1.21.0.zip
PackageFileSize: 1.912 MiB

Command output

##############################################################################
##############################################################################
###
### Running command:
###
###   rm -rf methimpute.buildbin-libdir && mkdir methimpute.buildbin-libdir && F:\biocbuild\bbs-3.17-bioc\R\bin\R.exe CMD INSTALL --build --library=methimpute.buildbin-libdir methimpute_1.21.0.tar.gz
###
##############################################################################
##############################################################################


* installing *source* package 'methimpute' ...
** using staged installation
** libs
using C compiler: 'gcc.exe (GCC) 12.2.0'
using C++ compiler: 'G__~1.EXE (GCC) 12.2.0'
using C++11
g++  -std=gnu++11 -I"F:/biocbuild/bbs-3.17-bioc/R/include" -DNDEBUG  -I'F:/biocbuild/bbs-3.17-bioc/R/library/Rcpp/include'   -I"C:/rtools43/x86_64-w64-mingw32.static.posix/include"  -fopenmp   -O2 -Wall  -mfpmath=sse -msse2 -mstackrealign  -c RcppExports.cpp -o RcppExports.o
g++  -std=gnu++11 -I"F:/biocbuild/bbs-3.17-bioc/R/include" -DNDEBUG  -I'F:/biocbuild/bbs-3.17-bioc/R/library/Rcpp/include'   -I"C:/rtools43/x86_64-w64-mingw32.static.posix/include"  -fopenmp   -O2 -Wall  -mfpmath=sse -msse2 -mstackrealign  -c densities.cpp -o densities.o
densities.cpp: In member function 'virtual void BinomialTestContext::calc_densities(Rcpp::Matrix<14>::Row&)':
densities.cpp:614:52: warning: 'prob_context' may be used uninitialized [-Wmaybe-uninitialized]
  614 |                         if (verbosity >= 4) Rprintf("obs_test[t=%d] = %d, obs_total[t] = %d, prob_context = %g\n", t, obs_test[t], obs_total[t], prob_context);
      |                                             ~~~~~~~^~~~~~~~~~~~~~~~~~~~~~~~~~~~~~~~~~~~~~~~~~~~~~~~~~~~~~~~~~~~~~~~~~~~~~~~~~~~~~~~~~~~~~~~~~~~~~~~~~~~~~~~~~~
densities.cpp:599:16: note: 'prob_context' was declared here
  599 |         double prob_context;
      |                ^~~~~~~~~~~~
g++  -std=gnu++11 -I"F:/biocbuild/bbs-3.17-bioc/R/include" -DNDEBUG  -I'F:/biocbuild/bbs-3.17-bioc/R/library/Rcpp/include'   -I"C:/rtools43/x86_64-w64-mingw32.static.posix/include"  -fopenmp   -O2 -Wall  -mfpmath=sse -msse2 -mstackrealign  -c fitHMM.cpp -o fitHMM.o
g++  -std=gnu++11 -I"F:/biocbuild/bbs-3.17-bioc/R/include" -DNDEBUG  -I'F:/biocbuild/bbs-3.17-bioc/R/library/Rcpp/include'   -I"C:/rtools43/x86_64-w64-mingw32.static.posix/include"  -fopenmp   -O2 -Wall  -mfpmath=sse -msse2 -mstackrealign  -c fitHMM_context.cpp -o fitHMM_context.o
g++  -std=gnu++11 -I"F:/biocbuild/bbs-3.17-bioc/R/include" -DNDEBUG  -I'F:/biocbuild/bbs-3.17-bioc/R/library/Rcpp/include'   -I"C:/rtools43/x86_64-w64-mingw32.static.posix/include"  -fopenmp   -O2 -Wall  -mfpmath=sse -msse2 -mstackrealign  -c hmm_context.cpp -o hmm_context.o
hmm_context.cpp: In destructor 'HMM_context::~HMM_context()':
hmm_context.cpp:68:24: warning: comparison of integer expressions of different signedness: 'int' and 'std::vector<Density*>::size_type' {aka 'long long unsigned int'} [-Wsign-compare]
   68 |         for (int i=0; i<this->emissionDensities.size(); i++)
      |                       ~^~~~~~~~~~~~~~~~~~~~~~~~~~~~~~~
gcc  -I"F:/biocbuild/bbs-3.17-bioc/R/include" -DNDEBUG  -I'F:/biocbuild/bbs-3.17-bioc/R/library/Rcpp/include'   -I"C:/rtools43/x86_64-w64-mingw32.static.posix/include"     -O2 -Wall  -mfpmath=sse -msse2 -mstackrealign  -c methimpute_init.c -o methimpute_init.o
g++  -std=gnu++11 -I"F:/biocbuild/bbs-3.17-bioc/R/include" -DNDEBUG  -I'F:/biocbuild/bbs-3.17-bioc/R/library/Rcpp/include'   -I"C:/rtools43/x86_64-w64-mingw32.static.posix/include"  -fopenmp   -O2 -Wall  -mfpmath=sse -msse2 -mstackrealign  -c scalehmm.cpp -o scalehmm.o
scalehmm.cpp: In destructor 'ScaleHMM::~ScaleHMM()':
scalehmm.cpp:311:24: warning: comparison of integer expressions of different signedness: 'int' and 'std::vector<Density*>::size_type' {aka 'long long unsigned int'} [-Wsign-compare]
  311 |         for (int i=0; i<this->emissionDensities.size(); i++)
      |                       ~^~~~~~~~~~~~~~~~~~~~~~~~~~~~~~~
g++ -shared -s -static-libgcc -o methimpute.dll tmp.def RcppExports.o densities.o fitHMM.o fitHMM_context.o hmm_context.o methimpute_init.o scalehmm.o -fopenmp -LC:/rtools43/x86_64-w64-mingw32.static.posix/lib/x64 -LC:/rtools43/x86_64-w64-mingw32.static.posix/lib -LF:/biocbuild/bbs-3.17-bioc/R/bin/x64 -lR
installing to F:/biocbuild/bbs-3.17-bioc/meat/methimpute.buildbin-libdir/00LOCK-methimpute/00new/methimpute/libs/x64
** R
** data
** inst
** byte-compile and prepare package for lazy loading
** help
*** installing help indices
** building package indices
** installing vignettes
** testing if installed package can be loaded from temporary location
** testing if installed package can be loaded from final location
** testing if installed package keeps a record of temporary installation path
* MD5 sums
packaged installation of 'methimpute' as methimpute_1.21.0.zip
* DONE (methimpute)