Back to Multiple platform build/check report for BioC 3.17:   simplified   long
[A]BCDEFGHIJKLMNOPQRSTUVWXYZ

This page was generated on 2023-09-27 11:35:26 -0400 (Wed, 27 Sep 2023).

HostnameOSArch (*)R versionInstalled pkgs
nebbiolo1Linux (Ubuntu 22.04.2 LTS)x86_644.3.1 (2023-06-16) -- "Beagle Scouts" 4625
palomino3Windows Server 2022 Datacenterx644.3.1 (2023-06-16 ucrt) -- "Beagle Scouts" 4378
merida1macOS 12.6.4 Montereyx86_644.3.1 (2023-06-16) -- "Beagle Scouts" 4394
Click on any hostname to see more info about the system (e.g. compilers)      (*) as reported by 'uname -p', except on Windows and Mac OS X

Package 105/2230HostnameOS / ArchINSTALLBUILDCHECKBUILD BIN
ATACCoGAPS 1.2.0  (landing page)
Rossin Erbe
Snapshot Date: 2023-09-26 14:00:14 -0400 (Tue, 26 Sep 2023)
git_url: https://git.bioconductor.org/packages/ATACCoGAPS
git_branch: RELEASE_3_17
git_last_commit: 508affb
git_last_commit_date: 2023-04-25 11:39:02 -0400 (Tue, 25 Apr 2023)
nebbiolo1Linux (Ubuntu 22.04.2 LTS) / x86_64  OK    OK    OK  UNNEEDED, same version is already published
palomino3Windows Server 2022 Datacenter / x64  OK    OK    OK    OK  UNNEEDED, same version is already published
merida1macOS 12.6.4 Monterey / x86_64  OK    OK    OK    OK  UNNEEDED, same version is already published

CHECK results for ATACCoGAPS on nebbiolo1


To the developers/maintainers of the ATACCoGAPS package:
- Allow up to 24 hours (and sometimes 48 hours) for your latest push to git@git.bioconductor.org:packages/ATACCoGAPS.git to reflect on this report. See Troubleshooting Build Report for more information.
- Use the following Renviron settings to reproduce errors and warnings.
- If 'R CMD check' started to fail recently on the Linux builder(s) over a missing dependency, add the missing dependency to 'Suggests:' in your DESCRIPTION file. See Renviron.bioc for more information.

raw results


Summary

Package: ATACCoGAPS
Version: 1.2.0
Command: /home/biocbuild/bbs-3.17-bioc/R/bin/R CMD check --install=check:ATACCoGAPS.install-out.txt --library=/home/biocbuild/bbs-3.17-bioc/R/site-library --timings ATACCoGAPS_1.2.0.tar.gz
StartedAt: 2023-09-26 19:19:15 -0400 (Tue, 26 Sep 2023)
EndedAt: 2023-09-26 19:33:27 -0400 (Tue, 26 Sep 2023)
EllapsedTime: 852.5 seconds
RetCode: 0
Status:   OK  
CheckDir: ATACCoGAPS.Rcheck
Warnings: 0

Command output

##############################################################################
##############################################################################
###
### Running command:
###
###   /home/biocbuild/bbs-3.17-bioc/R/bin/R CMD check --install=check:ATACCoGAPS.install-out.txt --library=/home/biocbuild/bbs-3.17-bioc/R/site-library --timings ATACCoGAPS_1.2.0.tar.gz
###
##############################################################################
##############################################################################


* using log directory ‘/home/biocbuild/bbs-3.17-bioc/meat/ATACCoGAPS.Rcheck’
* using R version 4.3.1 (2023-06-16)
* using platform: x86_64-pc-linux-gnu (64-bit)
* R was compiled by
    gcc (Ubuntu 11.3.0-1ubuntu1~22.04.1) 11.3.0
    GNU Fortran (Ubuntu 11.3.0-1ubuntu1~22.04.1) 11.3.0
* running under: Ubuntu 22.04.3 LTS
* using session charset: UTF-8
* checking for file ‘ATACCoGAPS/DESCRIPTION’ ... OK
* this is package ‘ATACCoGAPS’ version ‘1.2.0’
* package encoding: UTF-8
* checking package namespace information ... OK
* checking package dependencies ... OK
* checking if this is a source package ... OK
* checking if there is a namespace ... OK
* checking for hidden files and directories ... OK
* checking for portable file names ... OK
* checking for sufficient/correct file permissions ... OK
* checking whether package ‘ATACCoGAPS’ can be installed ... OK
* checking installed package size ... OK
* checking package directory ... OK
* checking ‘build’ directory ... OK
* checking DESCRIPTION meta-information ... OK
* checking top-level files ... OK
* checking for left-over files ... OK
* checking index information ... OK
* checking package subdirectories ... OK
* checking R files for non-ASCII characters ... OK
* checking R files for syntax errors ... OK
* checking whether the package can be loaded ... OK
* checking whether the package can be loaded with stated dependencies ... OK
* checking whether the package can be unloaded cleanly ... OK
* checking whether the namespace can be loaded with stated dependencies ... OK
* checking whether the namespace can be unloaded cleanly ... OK
* checking loading without being on the library search path ... OK
* checking dependencies in R code ... NOTE
Package in Depends field not imported from: ‘CoGAPS’
  These packages need to be imported from (in the NAMESPACE file)
  for when this namespace is loaded but not attached.
* checking S3 generic/method consistency ... OK
* checking replacement functions ... OK
* checking foreign function calls ... OK
* checking R code for possible problems ... NOTE
cgapsPlot: no visible global function definition for ‘rainbow’
cgapsPlot: no visible global function definition for ‘par’
cgapsPlot: no visible global function definition for ‘legend’
findOverlap: no visible global function definition for ‘queryHits’
geneAccessibility: no visible global function definition for
  ‘subjectHits’
heatmapGeneAccessibility: no visible global function definition for
  ‘rainbow’
heatmapPatternMarkers: no visible global function definition for
  ‘rainbow’
heatmapPatternMatrix: no visible global function definition for
  ‘rainbow’
paths: no visible global function definition for ‘p.adjust’
Undefined global functions or variables:
  legend p.adjust par queryHits rainbow subjectHits
Consider adding
  importFrom("grDevices", "rainbow")
  importFrom("graphics", "legend", "par")
  importFrom("stats", "p.adjust")
to your NAMESPACE file.
* checking Rd files ... OK
* checking Rd metadata ... OK
* checking Rd cross-references ... OK
* checking for missing documentation entries ... OK
* checking for code/documentation mismatches ... OK
* checking Rd \usage sections ... OK
* checking Rd contents ... OK
* checking for unstated dependencies in examples ... OK
* checking contents of ‘data’ directory ... OK
* checking data for non-ASCII characters ... OK
* checking data for ASCII and uncompressed saves ... OK
* checking R/sysdata.rda ... OK
* checking files in ‘vignettes’ ... OK
* checking examples ... OK
Examples with CPU (user + system) or elapsed time > 5s
                     user system elapsed
applyGREAT         83.197  5.387 208.216
simpleMotifTFMatch 83.597  1.346  84.953
motifPatternMatch  35.725  3.625  39.348
pathwayMatch       31.600  0.739  32.339
genePatternMatch   26.684  0.659  27.343
foldAccessibility   5.033  0.555   5.589
* checking for unstated dependencies in vignettes ... OK
* checking package vignettes in ‘inst/doc’ ... OK
* checking running R code from vignettes ...
  ‘ATACCoGAPS.Rmd’ using ‘UTF-8’... OK
 NONE
* checking re-building of vignette outputs ... OK
* checking PDF version of manual ... OK
* DONE

Status: 2 NOTEs
See
  ‘/home/biocbuild/bbs-3.17-bioc/meat/ATACCoGAPS.Rcheck/00check.log’
for details.



Installation output

ATACCoGAPS.Rcheck/00install.out

##############################################################################
##############################################################################
###
### Running command:
###
###   /home/biocbuild/bbs-3.17-bioc/R/bin/R CMD INSTALL ATACCoGAPS
###
##############################################################################
##############################################################################


* installing to library ‘/home/biocbuild/bbs-3.17-bioc/R/site-library’
* installing *source* package ‘ATACCoGAPS’ ...
** using staged installation
** R
** data
** byte-compile and prepare package for lazy loading
** help
*** installing help indices
** building package indices
** installing vignettes
** testing if installed package can be loaded from temporary location
** testing if installed package can be loaded from final location
** testing if installed package keeps a record of temporary installation path
* DONE (ATACCoGAPS)

Tests output


Example timings

ATACCoGAPS.Rcheck/ATACCoGAPS-Ex.timings

nameusersystemelapsed
RNAseqTFValidation0.0010.0000.001
applyGREAT 83.197 5.387208.216
cgapsPlot0.3080.0160.324
dataSubsetBySparsity0.4920.0920.584
foldAccessibility5.0330.5555.589
geneAccessibility3.4450.1203.565
genePatternMatch26.684 0.65927.343
heatmapGeneAccessibility3.6340.0483.682
heatmapPatternMarkers2.9060.1653.070
heatmapPatternMatrix0.6470.0120.659
motifPatternMatch35.725 3.62539.348
motifSummarization000
pathwayMatch31.600 0.73932.339
patternMarkerCellClassifier0.1560.0000.156
peaksToGRanges0.2490.0040.263
simpleMotifTFMatch83.597 1.34684.953