Back to Multiple platform build/check report for BioC 3.17:   simplified   long
ABCD[E]FGHIJKLMNOPQRSTUVWXYZ

This page was generated on 2023-04-01 11:05:18 -0400 (Sat, 01 Apr 2023).

HostnameOSArch (*)R versionInstalled pkgs
nebbiolo1Linux (Ubuntu 22.04.1 LTS)x86_64R Under development (unstable) (2023-03-16 r83996) -- "Unsuffered Consequences" 4551
palomino3Windows Server 2022 Datacenterx64R Under development (unstable) (2023-03-15 r83984 ucrt) -- "Unsuffered Consequences" 4312
merida1macOS 10.14.6 Mojavex86_64R Under development (unstable) (2023-03-16 r83985) -- "Unsuffered Consequences" 4309
Click on any hostname to see more info about the system (e.g. compilers)      (*) as reported by 'uname -p', except on Windows and Mac OS X

BUILD results for exomePeak2 on palomino3


To the developers/maintainers of the exomePeak2 package:
- Allow up to 24 hours (and sometimes 48 hours) for your latest push to git@git.bioconductor.org:packages/exomePeak2.git to reflect on this report. See Troubleshooting Build Report for more information.

- Use the following Renviron settings to reproduce errors and warnings.

Note: If "R CMD check" recently failed on the Linux builder over a missing dependency, add the missing dependency to "Suggests" in your DESCRIPTION file. See the Renviron.bioc for details.

raw results

Package 657/2199HostnameOS / ArchINSTALLBUILDCHECKBUILD BIN
exomePeak2 1.11.0  (landing page)
Zhen Wei
Snapshot Date: 2023-03-31 14:00:12 -0400 (Fri, 31 Mar 2023)
git_url: https://git.bioconductor.org/packages/exomePeak2
git_branch: devel
git_last_commit: 1b9534d
git_last_commit_date: 2022-11-01 11:21:28 -0400 (Tue, 01 Nov 2022)
nebbiolo1Linux (Ubuntu 22.04.1 LTS) / x86_64  OK    OK    ERROR  
palomino3Windows Server 2022 Datacenter / x64  OK    OK    OK    NA  
merida1macOS 10.14.6 Mojave / x86_64  OK    OK    OK    OK  UNNEEDED, same version is already published

Summary

Package: exomePeak2
Version: 1.11.0
Command: chmod a+r exomePeak2 -R && F:\biocbuild\bbs-3.17-bioc\R\bin\R.exe CMD build --keep-empty-dirs --no-resave-data exomePeak2
StartedAt: 2023-03-31 19:01:32 -0400 (Fri, 31 Mar 2023)
EndedAt: 2023-03-31 19:03:01 -0400 (Fri, 31 Mar 2023)
EllapsedTime: 89.5 seconds
RetCode: 0
Status:   OK  
PackageFile: exomePeak2_1.11.0.tar.gz
PackageFileSize: 2.273 MiB

Command output

##############################################################################
##############################################################################
###
### Running command:
###
###   chmod a+r exomePeak2 -R && F:\biocbuild\bbs-3.17-bioc\R\bin\R.exe CMD build --keep-empty-dirs --no-resave-data exomePeak2
###
##############################################################################
##############################################################################


* checking for file 'exomePeak2/DESCRIPTION' ... OK
* preparing 'exomePeak2':
* checking DESCRIPTION meta-information ... OK
* installing the package to build vignettes
* creating vignettes ... OK
* checking for LF line-endings in source and make files and shell scripts
* checking for empty or unneeded directories
* building 'exomePeak2_1.11.0.tar.gz'