Back to Multiple platform build/check report for BioC 3.17:   simplified   long
AB[C]DEFGHIJKLMNOPQRSTUVWXYZ

This page was generated on 2023-03-29 11:04:43 -0400 (Wed, 29 Mar 2023).

HostnameOSArch (*)R versionInstalled pkgs
nebbiolo1Linux (Ubuntu 22.04.1 LTS)x86_64R Under development (unstable) (2023-03-16 r83996) -- "Unsuffered Consequences" 4547
palomino3Windows Server 2022 Datacenterx64R Under development (unstable) (2023-03-15 r83984 ucrt) -- "Unsuffered Consequences" 4308
merida1macOS 10.14.6 Mojavex86_64R Under development (unstable) (2023-03-16 r83985) -- "Unsuffered Consequences" 4301
Click on any hostname to see more info about the system (e.g. compilers)      (*) as reported by 'uname -p', except on Windows and Mac OS X

BUILD results for circRNAprofiler on nebbiolo1


To the developers/maintainers of the circRNAprofiler package:
- Please allow up to 24 hours (and sometimes 48 hours) for your latest push to git@git.bioconductor.org:packages/circRNAprofiler.git to
reflect on this report. See How and When does the builder pull? When will my changes propagate? for more information.
- Make sure to use the following settings in order to reproduce any error or warning you see on this page.

raw results

Package 342/2195HostnameOS / ArchINSTALLBUILDCHECKBUILD BIN
circRNAprofiler 1.13.7  (landing page)
Simona Aufiero
Snapshot Date: 2023-03-28 14:00:22 -0400 (Tue, 28 Mar 2023)
git_url: https://git.bioconductor.org/packages/circRNAprofiler
git_branch: devel
git_last_commit: a1cfa55
git_last_commit_date: 2023-01-23 04:19:23 -0400 (Mon, 23 Jan 2023)
nebbiolo1Linux (Ubuntu 22.04.1 LTS) / x86_64  ERROR    ERROR  skipped
palomino3Windows Server 2022 Datacenter / x64  ERROR    ERROR  skippedskipped
merida1macOS 10.14.6 Mojave / x86_64  ERROR    ERROR  skippedskipped

Summary

Package: circRNAprofiler
Version: 1.13.7
Command: /home/biocbuild/bbs-3.17-bioc/R/bin/R CMD build --keep-empty-dirs --no-resave-data circRNAprofiler
StartedAt: 2023-03-28 16:04:23 -0400 (Tue, 28 Mar 2023)
EndedAt: 2023-03-28 16:04:41 -0400 (Tue, 28 Mar 2023)
EllapsedTime: 18.6 seconds
RetCode: 1
Status:   ERROR  
PackageFile: None
PackageFileSize: NA

Command output

##############################################################################
##############################################################################
###
### Running command:
###
###   /home/biocbuild/bbs-3.17-bioc/R/bin/R CMD build --keep-empty-dirs --no-resave-data circRNAprofiler
###
##############################################################################
##############################################################################


* checking for file ‘circRNAprofiler/DESCRIPTION’ ... OK
* preparing ‘circRNAprofiler’:
* checking DESCRIPTION meta-information ... OK
* installing the package to build vignettes
      -----------------------------------
* installing *source* package ‘circRNAprofiler’ ...
** using staged installation
** R
** data
** inst
** byte-compile and prepare package for lazy loading
Error: object ‘colMeans’ is not exported by 'namespace:BiocGenerics'
Execution halted
ERROR: lazy loading failed for package ‘circRNAprofiler’
* removing ‘/tmp/RtmpZ1MtVS/Rinste68d05545c4bb/circRNAprofiler’
      -----------------------------------
ERROR: package installation failed