Back to Multiple platform build/check report for BioC 3.17: simplified long |
|
This page was generated on 2023-03-18 11:05:22 -0400 (Sat, 18 Mar 2023).
Hostname | OS | Arch (*) | R version | Installed pkgs |
---|---|---|---|---|
nebbiolo1 | Linux (Ubuntu 22.04.1 LTS) | x86_64 | R Under development (unstable) (2023-03-16 r83996) -- "Unsuffered Consequences" | 4282 |
palomino3 | Windows Server 2022 Datacenter | x64 | R Under development (unstable) (2023-03-15 r83984 ucrt) -- "Unsuffered Consequences" | 4279 |
merida1 | macOS 10.14.6 Mojave | x86_64 | R Under development (unstable) (2023-03-16 r83985) -- "Unsuffered Consequences" | 4145 |
Click on any hostname to see more info about the system (e.g. compilers) (*) as reported by 'uname -p', except on Windows and Mac OS X |
To the developers/maintainers of the fCCAC package: - Please allow up to 24 hours (and sometimes 48 hours) for your latest push to git@git.bioconductor.org:packages/fCCAC.git to reflect on this report. See How and When does the builder pull? When will my changes propagate? for more information. - Make sure to use the following settings in order to reproduce any error or warning you see on this page. |
Package 672/2189 | Hostname | OS / Arch | INSTALL | BUILD | CHECK | BUILD BIN | ||||||||
fCCAC 1.25.0 (landing page) Pedro Madrigal
| nebbiolo1 | Linux (Ubuntu 22.04.1 LTS) / x86_64 | OK | OK | OK | ![]() | ||||||||
palomino3 | Windows Server 2022 Datacenter / x64 | OK | OK | OK | OK | ![]() | ||||||||
merida1 | macOS 10.14.6 Mojave / x86_64 | OK | OK | OK | OK | ![]() | ||||||||
Package: fCCAC |
Version: 1.25.0 |
Command: rm -rf fCCAC.buildbin-libdir && mkdir fCCAC.buildbin-libdir && F:\biocbuild\bbs-3.17-bioc\R\bin\R.exe CMD INSTALL --build --library=fCCAC.buildbin-libdir fCCAC_1.25.0.tar.gz |
StartedAt: 2023-03-18 10:41:21 -0400 (Sat, 18 Mar 2023) |
EndedAt: 2023-03-18 10:42:15 -0400 (Sat, 18 Mar 2023) |
EllapsedTime: 53.9 seconds |
RetCode: 0 |
Status: OK |
PackageFile: fCCAC_1.25.0.zip |
PackageFileSize: 3.529 MiB |
############################################################################## ############################################################################## ### ### Running command: ### ### rm -rf fCCAC.buildbin-libdir && mkdir fCCAC.buildbin-libdir && F:\biocbuild\bbs-3.17-bioc\R\bin\R.exe CMD INSTALL --build --library=fCCAC.buildbin-libdir fCCAC_1.25.0.tar.gz ### ############################################################################## ############################################################################## * installing *source* package 'fCCAC' ... ** using staged installation ** R ** inst ** byte-compile and prepare package for lazy loading Warning: replacing previous import 'Biostrings::pattern' by 'grid::pattern' when loading 'genomation' ** help *** installing help indices ** building package indices ** installing vignettes ** testing if installed package can be loaded from temporary location Warning: replacing previous import 'Biostrings::pattern' by 'grid::pattern' when loading 'genomation' ** testing if installed package can be loaded from final location Warning: replacing previous import 'Biostrings::pattern' by 'grid::pattern' when loading 'genomation' ** testing if installed package keeps a record of temporary installation path * MD5 sums packaged installation of 'fCCAC' as fCCAC_1.25.0.zip * DONE (fCCAC)