Back to Multiple platform build/check report for BioC 3.17: simplified long |
|
This page was generated on 2023-03-24 11:06:07 -0400 (Fri, 24 Mar 2023).
Hostname | OS | Arch (*) | R version | Installed pkgs |
---|---|---|---|---|
nebbiolo1 | Linux (Ubuntu 22.04.1 LTS) | x86_64 | R Under development (unstable) (2023-03-16 r83996) -- "Unsuffered Consequences" | 4546 |
palomino3 | Windows Server 2022 Datacenter | x64 | R Under development (unstable) (2023-03-15 r83984 ucrt) -- "Unsuffered Consequences" | 4307 |
merida1 | macOS 10.14.6 Mojave | x86_64 | R Under development (unstable) (2023-03-16 r83985) -- "Unsuffered Consequences" | 4299 |
Click on any hostname to see more info about the system (e.g. compilers) (*) as reported by 'uname -p', except on Windows and Mac OS X |
To the developers/maintainers of the MinimumDistance package: - Please allow up to 24 hours (and sometimes 48 hours) for your latest push to git@git.bioconductor.org:packages/MinimumDistance.git to reflect on this report. See How and When does the builder pull? When will my changes propagate? for more information. - Make sure to use the following settings in order to reproduce any error or warning you see on this page. |
Package 1220/2195 | Hostname | OS / Arch | INSTALL | BUILD | CHECK | BUILD BIN | ||||||||
MinimumDistance 1.43.0 (landing page) Robert Scharpf
| nebbiolo1 | Linux (Ubuntu 22.04.1 LTS) / x86_64 | OK | OK | WARNINGS | ![]() | ||||||||
palomino3 | Windows Server 2022 Datacenter / x64 | OK | OK | WARNINGS | OK | ![]() | ||||||||
merida1 | macOS 10.14.6 Mojave / x86_64 | OK | OK | WARNINGS | OK | ![]() | ||||||||
Package: MinimumDistance |
Version: 1.43.0 |
Command: rm -rf MinimumDistance.buildbin-libdir && mkdir MinimumDistance.buildbin-libdir && F:\biocbuild\bbs-3.17-bioc\R\bin\R.exe CMD INSTALL --build --library=MinimumDistance.buildbin-libdir MinimumDistance_1.43.0.tar.gz |
StartedAt: 2023-03-24 09:01:17 -0400 (Fri, 24 Mar 2023) |
EndedAt: 2023-03-24 09:02:47 -0400 (Fri, 24 Mar 2023) |
EllapsedTime: 89.6 seconds |
RetCode: 0 |
Status: OK |
PackageFile: MinimumDistance_1.43.0.zip |
PackageFileSize: 3.546 MiB |
############################################################################## ############################################################################## ### ### Running command: ### ### rm -rf MinimumDistance.buildbin-libdir && mkdir MinimumDistance.buildbin-libdir && F:\biocbuild\bbs-3.17-bioc\R\bin\R.exe CMD INSTALL --build --library=MinimumDistance.buildbin-libdir MinimumDistance_1.43.0.tar.gz ### ############################################################################## ############################################################################## * installing *source* package 'MinimumDistance' ... ** using staged installation ** R ** data ** inst ** byte-compile and prepare package for lazy loading No methods found in package 'oligoClasses' for request: 'mean' when loading 'crlmm' Warning: replacing previous import 'ff::pattern' by 'grid::pattern' when loading 'MinimumDistance' Creating a new generic function for 'allNames' in package 'MinimumDistance' in method for 'coerce' with signature '"RangedDataCNV","GRanges"': no definition for class "RangedDataCNV" in method for 'todf' with signature 'object="TrioSet",rangeData="RangedData"': no definition for class "RangedData" in method for 'prune' with signature 'object="TrioSet",ranges="RangedDataCNV"': no definition for class "RangedDataCNV" in method for 'prune' with signature 'object="TrioSetList",ranges="RangedDataCNV"': no definition for class "RangedDataCNV" ** help *** installing help indices ** building package indices ** installing vignettes ** testing if installed package can be loaded from temporary location No methods found in package 'oligoClasses' for request: 'mean' when loading 'crlmm' Warning: replacing previous import 'ff::pattern' by 'grid::pattern' when loading 'MinimumDistance' ** testing if installed package can be loaded from final location No methods found in package 'oligoClasses' for request: 'mean' when loading 'crlmm' Warning: replacing previous import 'ff::pattern' by 'grid::pattern' when loading 'MinimumDistance' ** testing if installed package keeps a record of temporary installation path * MD5 sums packaged installation of 'MinimumDistance' as MinimumDistance_1.43.0.zip * DONE (MinimumDistance)