Back to Multiple platform build/check report for BioC 3.17: simplified long |
|
This page was generated on 2023-03-29 11:06:14 -0400 (Wed, 29 Mar 2023).
Hostname | OS | Arch (*) | R version | Installed pkgs |
---|---|---|---|---|
nebbiolo1 | Linux (Ubuntu 22.04.1 LTS) | x86_64 | R Under development (unstable) (2023-03-16 r83996) -- "Unsuffered Consequences" | 4547 |
palomino3 | Windows Server 2022 Datacenter | x64 | R Under development (unstable) (2023-03-15 r83984 ucrt) -- "Unsuffered Consequences" | 4308 |
merida1 | macOS 10.14.6 Mojave | x86_64 | R Under development (unstable) (2023-03-16 r83985) -- "Unsuffered Consequences" | 4301 |
Click on any hostname to see more info about the system (e.g. compilers) (*) as reported by 'uname -p', except on Windows and Mac OS X |
To the developers/maintainers of the genefu package: - Please allow up to 24 hours (and sometimes 48 hours) for your latest push to git@git.bioconductor.org:packages/genefu.git to reflect on this report. See How and When does the builder pull? When will my changes propagate? for more information. - Make sure to use the following settings in order to reproduce any error or warning you see on this page. |
Package 764/2195 | Hostname | OS / Arch | INSTALL | BUILD | CHECK | BUILD BIN | ||||||||
genefu 2.31.0 (landing page) Benjamin Haibe-Kains
| nebbiolo1 | Linux (Ubuntu 22.04.1 LTS) / x86_64 | OK | OK | OK | ![]() | ||||||||
palomino3 | Windows Server 2022 Datacenter / x64 | OK | OK | OK | OK | ![]() | ||||||||
merida1 | macOS 10.14.6 Mojave / x86_64 | OK | OK | OK | OK | ![]() | ||||||||
Package: genefu |
Version: 2.31.0 |
Command: /Library/Frameworks/R.framework/Resources/bin/R CMD check --install=check:genefu.install-out.txt --library=/Library/Frameworks/R.framework/Resources/library --no-vignettes --timings genefu_2.31.0.tar.gz |
StartedAt: 2023-03-29 00:40:58 -0400 (Wed, 29 Mar 2023) |
EndedAt: 2023-03-29 00:47:48 -0400 (Wed, 29 Mar 2023) |
EllapsedTime: 409.8 seconds |
RetCode: 0 |
Status: OK |
CheckDir: genefu.Rcheck |
Warnings: 0 |
############################################################################## ############################################################################## ### ### Running command: ### ### /Library/Frameworks/R.framework/Resources/bin/R CMD check --install=check:genefu.install-out.txt --library=/Library/Frameworks/R.framework/Resources/library --no-vignettes --timings genefu_2.31.0.tar.gz ### ############################################################################## ############################################################################## * using log directory ‘/Users/biocbuild/bbs-3.17-bioc/meat/genefu.Rcheck’ * using R Under development (unstable) (2023-03-16 r83985) * using platform: x86_64-apple-darwin17.0 (64-bit) * R was compiled by Apple clang version 12.0.0 (clang-1200.0.32.29) GNU Fortran (GCC) 8.2.0 * running under: macOS Mojave 10.14.6 * using session charset: UTF-8 * using option ‘--no-vignettes’ * checking for file ‘genefu/DESCRIPTION’ ... OK * checking extension type ... Package * this is package ‘genefu’ version ‘2.31.0’ * package encoding: UTF-8 * checking package namespace information ... OK * checking package dependencies ... OK * checking if this is a source package ... OK * checking if there is a namespace ... OK * checking for hidden files and directories ... OK * checking for portable file names ... OK * checking for sufficient/correct file permissions ... OK * checking whether package ‘genefu’ can be installed ... OK * checking installed package size ... NOTE installed size is 5.2Mb sub-directories of 1Mb or more: data 4.0Mb * checking package directory ... OK * checking ‘build’ directory ... OK * checking DESCRIPTION meta-information ... OK * checking top-level files ... OK * checking for left-over files ... OK * checking index information ... OK * checking package subdirectories ... OK * checking R files for non-ASCII characters ... OK * checking R files for syntax errors ... OK * checking whether the package can be loaded ... OK * checking whether the package can be loaded with stated dependencies ... OK * checking whether the package can be unloaded cleanly ... OK * checking whether the namespace can be loaded with stated dependencies ... OK * checking whether the namespace can be unloaded cleanly ... OK * checking dependencies in R code ... NOTE Packages in Depends field not imported from: ‘AIMS’ ‘biomaRt’ ‘iC10’ These packages need to be imported from (in the NAMESPACE file) for when this namespace is loaded but not attached. Unexported objects imported by ':::' calls: ‘mclust:::grid1’ ‘mclust:::grid2’ See the note in ?`:::` about the use of this operator. * checking S3 generic/method consistency ... OK * checking replacement functions ... OK * checking foreign function calls ... OK * checking R code for possible problems ... OK * checking Rd files ... OK * checking Rd metadata ... OK * checking Rd cross-references ... OK * checking for missing documentation entries ... OK * checking for code/documentation mismatches ... OK * checking Rd \usage sections ... OK * checking Rd contents ... OK * checking for unstated dependencies in examples ... OK * checking contents of ‘data’ directory ... OK * checking data for non-ASCII characters ... OK * checking data for ASCII and uncompressed saves ... OK * checking files in ‘vignettes’ ... OK * checking examples ... OK Examples with CPU (user + system) or elapsed time > 5s user system elapsed molecular.subtyping 4.283 0.122 6.378 * checking for unstated dependencies in vignettes ... OK * checking package vignettes in ‘inst/doc’ ... OK * checking running R code from vignettes ... SKIPPED * checking re-building of vignette outputs ... SKIPPED * checking PDF version of manual ... OK * DONE Status: 2 NOTEs See ‘/Users/biocbuild/bbs-3.17-bioc/meat/genefu.Rcheck/00check.log’ for details.
genefu.Rcheck/00install.out
############################################################################## ############################################################################## ### ### Running command: ### ### /Library/Frameworks/R.framework/Resources/bin/R CMD INSTALL genefu ### ############################################################################## ############################################################################## * installing to library ‘/Library/Frameworks/R.framework/Versions/4.3/Resources/library’ * installing *source* package ‘genefu’ ... ** using staged installation ** R ** data ** inst ** byte-compile and prepare package for lazy loading ** help *** installing help indices ** building package indices ** installing vignettes ** testing if installed package can be loaded from temporary location ** testing if installed package can be loaded from final location ** testing if installed package keeps a record of temporary installation path * DONE (genefu)
genefu.Rcheck/genefu-Ex.timings
name | user | system | elapsed | |
bimod | 0.389 | 0.018 | 0.547 | |
boxplotplus2 | 0.013 | 0.001 | 0.019 | |
claudinLow | 1.933 | 0.056 | 2.622 | |
compareProtoCor | 1.773 | 0.021 | 2.371 | |
compute.pairw.cor.meta | 2.310 | 0.029 | 3.017 | |
compute.proto.cor.meta | 1.625 | 0.016 | 2.125 | |
cordiff.dep | 0.188 | 0.005 | 0.252 | |
endoPredict | 0.199 | 0.008 | 0.272 | |
fuzzy.ttest | 0.263 | 0.013 | 0.369 | |
gene70 | 0.473 | 0.016 | 0.636 | |
gene76 | 0.262 | 0.014 | 0.348 | |
geneid.map | 0.208 | 0.008 | 0.279 | |
genius | 0.377 | 0.028 | 0.588 | |
ggi | 0.237 | 0.012 | 0.314 | |
ihc4 | 0.181 | 0.008 | 0.244 | |
intrinsic.cluster | 0.711 | 0.016 | 0.895 | |
intrinsic.cluster.predict | 0.355 | 0.011 | 0.500 | |
map.datasets | 1.635 | 0.024 | 2.168 | |
molecular.subtyping | 4.283 | 0.122 | 6.378 | |
npi | 0.225 | 0.011 | 0.334 | |
oncotypedx | 0.217 | 0.007 | 0.318 | |
ovcAngiogenic | 0.224 | 0.011 | 0.328 | |
ovcCrijns | 0.217 | 0.009 | 0.328 | |
ovcTCGA | 0.549 | 0.019 | 0.837 | |
ovcYoshihara | 0.214 | 0.007 | 0.315 | |
pik3cags | 0.209 | 0.007 | 0.313 | |
power.cor | 0.001 | 0.000 | 0.000 | |
ps.cluster | 0.746 | 0.013 | 1.021 | |
read.m.file | 0.082 | 0.006 | 0.121 | |
rename.duplicate | 0.002 | 0.000 | 0.003 | |
rescale | 0.422 | 0.010 | 0.624 | |
rorS | 0.353 | 0.008 | 0.522 | |
setcolclass.df | 0.003 | 0.000 | 0.006 | |
sig.score | 0.216 | 0.008 | 0.316 | |
spearmanCI | 0.001 | 0.000 | 0.001 | |
st.gallen | 0.188 | 0.005 | 0.278 | |
stab.fs | 0.235 | 0.002 | 0.343 | |
stab.fs.ranking | 1.685 | 0.070 | 2.592 | |
strescR | 0.002 | 0.000 | 0.007 | |
subtype.cluster | 1.147 | 0.047 | 1.722 | |
subtype.cluster.predict | 0.477 | 0.020 | 0.715 | |
tamr13 | 0.236 | 0.008 | 0.350 | |
tbrm | 0.001 | 0.000 | 0.001 | |
weighted.meanvar | 0.000 | 0.000 | 0.001 | |
write.m.file | 0.006 | 0.003 | 0.014 | |