Back to Multiple platform build/check report for BioC 3.17:   simplified   long
ABCDEFGHIJKLMNOPQR[S]TUVWXYZ

This page was generated on 2023-03-22 11:07:06 -0400 (Wed, 22 Mar 2023).

HostnameOSArch (*)R versionInstalled pkgs
nebbiolo1Linux (Ubuntu 22.04.1 LTS)x86_64R Under development (unstable) (2023-03-16 r83996) -- "Unsuffered Consequences" 4508
palomino3Windows Server 2022 Datacenterx64R Under development (unstable) (2023-03-15 r83984 ucrt) -- "Unsuffered Consequences" 4293
merida1macOS 10.14.6 Mojavex86_64R Under development (unstable) (2023-03-16 r83985) -- "Unsuffered Consequences" 4290
Click on any hostname to see more info about the system (e.g. compilers)      (*) as reported by 'uname -p', except on Windows and Mac OS X

BUILD BIN results for SISPA on merida1


To the developers/maintainers of the SISPA package:
- Please allow up to 24 hours (and sometimes 48 hours) for your latest push to git@git.bioconductor.org:packages/SISPA.git to
reflect on this report. See How and When does the builder pull? When will my changes propagate? for more information.
- Make sure to use the following settings in order to reproduce any error or warning you see on this page.

raw results

Package 1904/2189HostnameOS / ArchINSTALLBUILDCHECKBUILD BIN
SISPA 1.29.0  (landing page)
Bhakti Dwivedi
Snapshot Date: 2023-03-21 14:00:22 -0400 (Tue, 21 Mar 2023)
git_url: https://git.bioconductor.org/packages/SISPA
git_branch: master
git_last_commit: 635b968
git_last_commit_date: 2022-11-01 11:12:22 -0400 (Tue, 01 Nov 2022)
nebbiolo1Linux (Ubuntu 22.04.1 LTS) / x86_64  OK    OK    OK  UNNEEDED, same version is already published
palomino3Windows Server 2022 Datacenter / x64  OK    OK    OK    OK  UNNEEDED, same version is already published
merida1macOS 10.14.6 Mojave / x86_64  OK    OK    OK    OK  UNNEEDED, same version is already published

Summary

Package: SISPA
Version: 1.29.0
Command: rm -rf SISPA.buildbin-libdir && mkdir SISPA.buildbin-libdir && /Users/biocbuild/BBS/utils/build-universal.sh SISPA_1.29.0.tar.gz /Library/Frameworks/R.framework/Resources/bin/R SISPA.buildbin-libdir
StartedAt: 2023-03-22 09:54:58 -0400 (Wed, 22 Mar 2023)
EndedAt: 2023-03-22 09:56:54 -0400 (Wed, 22 Mar 2023)
EllapsedTime: 116.2 seconds
RetCode: 0
Status:   OK  
PackageFile: SISPA_1.29.0.tgz
PackageFileSize: 212.7 KiB

Command output

##############################################################################
##############################################################################
###
### Running command:
###
###   rm -rf SISPA.buildbin-libdir && mkdir SISPA.buildbin-libdir && /Users/biocbuild/BBS/utils/build-universal.sh SISPA_1.29.0.tar.gz /Library/Frameworks/R.framework/Resources/bin/R SISPA.buildbin-libdir
###
##############################################################################
##############################################################################


>>>>>>> 
>>>>>>> INSTALLATION WITH 'R CMD INSTALL --preclean --no-multiarch --library=SISPA.buildbin-libdir SISPA_1.29.0.tar.gz'
>>>>>>> 

* installing *source* package ‘SISPA’ ...
** using staged installation
** R
** data
*** moving datasets to lazyload DB
** inst
** byte-compile and prepare package for lazy loading
** help
*** installing help indices
** building package indices
** installing vignettes
** testing if installed package can be loaded from temporary location
** testing if installed package can be loaded from final location
** testing if installed package keeps a record of temporary installation path
* DONE (SISPA)