Back to Multiple platform build/check report for BioC 3.17:   simplified   long
ABCDEFGHIJKLMNOPQ[R]STUVWXYZ

This page was generated on 2023-10-16 11:34:55 -0400 (Mon, 16 Oct 2023).

HostnameOSArch (*)R versionInstalled pkgs
nebbiolo1Linux (Ubuntu 22.04.2 LTS)x86_644.3.1 (2023-06-16) -- "Beagle Scouts" 4626
palomino3Windows Server 2022 Datacenterx644.3.1 (2023-06-16 ucrt) -- "Beagle Scouts" 4379
merida1macOS 12.6.4 Montereyx86_644.3.1 (2023-06-16) -- "Beagle Scouts" 4395
Click on any hostname to see more info about the system (e.g. compilers)      (*) as reported by 'uname -p', except on Windows and Mac OS X

All results for package Rsamtools


To the developers/maintainers of the Rsamtools package:
- Allow up to 24 hours (and sometimes 48 hours) for your latest push to git@git.bioconductor.org:packages/Rsamtools.git to reflect on this report. See Troubleshooting Build Report for more information.
- Use the following Renviron settings to reproduce errors and warnings.
- If 'R CMD check' started to fail recently on the Linux builder(s) over a missing dependency, add the missing dependency to 'Suggests:' in your DESCRIPTION file. See Renviron.bioc for more information.

raw results

Package 1770/2230HostnameOS / ArchINSTALLBUILDCHECKBUILD BIN
Rsamtools 2.16.0  (landing page)
Bioconductor Package Maintainer
Snapshot Date: 2023-10-15 14:00:13 -0400 (Sun, 15 Oct 2023)
git_url: https://git.bioconductor.org/packages/Rsamtools
git_branch: RELEASE_3_17
git_last_commit: 3eb6d03
git_last_commit_date: 2023-04-25 09:50:37 -0400 (Tue, 25 Apr 2023)
nebbiolo1Linux (Ubuntu 22.04.2 LTS) / x86_64  OK    OK    WARNINGS  UNNEEDED, same version is already published
palomino3Windows Server 2022 Datacenter / x64  OK    OK    WARNINGS    OK  UNNEEDED, same version is already published
merida1macOS 12.6.4 Monterey / x86_64  OK    OK    WARNINGS    OK  UNNEEDED, same version is already published
kjohnson2macOS 12.6.1 Monterey / arm64see weekly results here

Results for Bioconductor software packages that depend directly on package Rsamtools

QUICK STATSOS / ArchINSTALLBUILDCHECKBUILD BIN
nebbiolo1Linux (Ubuntu 22.04.2 LTS) / x86_64
03180
06177
01051116
palomino3Windows Server 2022 Datacenter / x64
01173
06168
0447117
00168
merida1macOS 12.6.4 Monterey / x86_64
06176
011171
1550115
00171
Package 1/183HostnameOS / ArchINSTALLBUILDCHECKBUILD BIN
alabaster.vcf 1.0.0  (landing page)
Aaron Lun
git_last_commit: d4b06e5
git_last_commit_date: 2023-04-25 11:43:09 -0400
nebbiolo1Linux (Ubuntu 22.04.2 LTS) / x86_64  OK    OK    OK  UNNEEDED, same version is already published
palomino3Windows Server 2022 Datacenter / x64  OK    OK    OK    OK  UNNEEDED, same version is already published
merida1macOS 12.6.4 Monterey / x86_64  OK    OK    OK    OK  UNNEEDED, same version is already published
kjohnson2macOS 12.6.1 Monterey / arm64see weekly results here
Package 2/183HostnameOS / ArchINSTALLBUILDCHECKBUILD BIN
AllelicImbalance 1.38.0  (landing page)
Jesper R Gadin
git_last_commit: 75a3b0f
git_last_commit_date: 2023-04-25 10:28:56 -0400
nebbiolo1Linux (Ubuntu 22.04.2 LTS) / x86_64  OK    OK    OK  UNNEEDED, same version is already published
palomino3Windows Server 2022 Datacenter / x64  OK    OK    OK    OK  UNNEEDED, same version is already published
merida1macOS 12.6.4 Monterey / x86_64  OK    OK    OK    OK  UNNEEDED, same version is already published
kjohnson2macOS 12.6.1 Monterey / arm64see weekly results here
Package 3/183HostnameOS / ArchINSTALLBUILDCHECKBUILD BIN
alpine 1.26.0  (landing page)
Michael Love
git_last_commit: 1e317db
git_last_commit_date: 2023-04-25 10:49:05 -0400
nebbiolo1Linux (Ubuntu 22.04.2 LTS) / x86_64  OK    OK    WARNINGS  UNNEEDED, same version is already published
palomino3Windows Server 2022 Datacenter / x64  OK    OK    WARNINGS    OK  UNNEEDED, same version is already published
merida1macOS 12.6.4 Monterey / x86_64  OK    OK    WARNINGS    OK  UNNEEDED, same version is already published
kjohnson2macOS 12.6.1 Monterey / arm64see weekly results here
Package 4/183HostnameOS / ArchINSTALLBUILDCHECKBUILD BIN
AneuFinder 1.28.0  (landing page)
Aaron Taudt
git_last_commit: e17d810
git_last_commit_date: 2023-04-25 10:45:33 -0400
nebbiolo1Linux (Ubuntu 22.04.2 LTS) / x86_64  OK    OK    OK  UNNEEDED, same version is already published
palomino3Windows Server 2022 Datacenter / x64  OK    OK    OK    OK  UNNEEDED, same version is already published
merida1macOS 12.6.4 Monterey / x86_64  OK    OK    OK    OK  UNNEEDED, same version is already published
kjohnson2macOS 12.6.1 Monterey / arm64see weekly results here
Package 5/183HostnameOS / ArchINSTALLBUILDCHECKBUILD BIN
annmap 1.42.0  (landing page)
Chris Wirth
git_last_commit: b4cafd1
git_last_commit_date: 2023-04-25 10:23:14 -0400
nebbiolo1Linux (Ubuntu 22.04.2 LTS) / x86_64  OK    OK    WARNINGS  UNNEEDED, same version is already published
palomino3Windows Server 2022 Datacenter / x64... NOT SUPPORTED ...
merida1macOS 12.6.4 Monterey / x86_64  OK    OK    WARNINGS    OK  UNNEEDED, same version is already published
kjohnson2macOS 12.6.1 Monterey / arm64see weekly results here
Package 6/183HostnameOS / ArchINSTALLBUILDCHECKBUILD BIN
AnnotationHubData 1.30.0  (landing page)
Bioconductor Package Maintainer
git_last_commit: 3cf163f
git_last_commit_date: 2023-04-25 10:41:16 -0400
nebbiolo1Linux (Ubuntu 22.04.2 LTS) / x86_64  OK    OK    WARNINGS  UNNEEDED, same version is already published
palomino3Windows Server 2022 Datacenter / x64  OK    OK    WARNINGS    OK  UNNEEDED, same version is already published
merida1macOS 12.6.4 Monterey / x86_64  OK    OK    WARNINGS    OK  UNNEEDED, same version is already published
kjohnson2macOS 12.6.1 Monterey / arm64see weekly results here
Package 7/183HostnameOS / ArchINSTALLBUILDCHECKBUILD BIN
APAlyzer 1.14.0  (landing page)
Ruijia Wang
git_last_commit: 40ddf31
git_last_commit_date: 2023-04-25 11:11:42 -0400
nebbiolo1Linux (Ubuntu 22.04.2 LTS) / x86_64  OK    OK    WARNINGS  UNNEEDED, same version is already published
palomino3Windows Server 2022 Datacenter / x64  OK    OK    WARNINGS    OK  UNNEEDED, same version is already published
merida1macOS 12.6.4 Monterey / x86_64  OK    OK    WARNINGS    OK  UNNEEDED, same version is already published
kjohnson2macOS 12.6.1 Monterey / arm64see weekly results here
Package 8/183HostnameOS / ArchINSTALLBUILDCHECKBUILD BIN
appreci8R 1.18.0  (landing page)
Sarah Sandmann
git_last_commit: 94c9d1b
git_last_commit_date: 2023-04-25 11:02:58 -0400
nebbiolo1Linux (Ubuntu 22.04.2 LTS) / x86_64  OK    OK    WARNINGS  UNNEEDED, same version is already published
palomino3Windows Server 2022 Datacenter / x64  OK    OK    WARNINGS    OK  UNNEEDED, same version is already published
merida1macOS 12.6.4 Monterey / x86_64  OK    OK    WARNINGS    OK  UNNEEDED, same version is already published
kjohnson2macOS 12.6.1 Monterey / arm64see weekly results here
Package 9/183HostnameOS / ArchINSTALLBUILDCHECKBUILD BIN
ArrayExpressHTS 1.50.0  (landing page)
Angela Goncalves , Andrew Tikhonov
git_last_commit: 7b79d4b
git_last_commit_date: 2023-04-25 10:19:47 -0400
nebbiolo1Linux (Ubuntu 22.04.2 LTS) / x86_64  ERROR    ERROR  skipped
palomino3Windows Server 2022 Datacenter / x64... NOT SUPPORTED ...
merida1macOS 12.6.4 Monterey / x86_64  ERROR    ERROR  skippedskipped
kjohnson2macOS 12.6.1 Monterey / arm64see weekly results here
Package 10/183HostnameOS / ArchINSTALLBUILDCHECKBUILD BIN
ASpediaFI 1.14.0  (landing page)
Doyeong Yu
git_last_commit: 00e9ece
git_last_commit_date: 2023-04-25 11:13:24 -0400
nebbiolo1Linux (Ubuntu 22.04.2 LTS) / x86_64  ERROR    ERROR  skipped
palomino3Windows Server 2022 Datacenter / x64  ERROR    ERROR  skippedskipped
merida1macOS 12.6.4 Monterey / x86_64  ERROR    ERROR  skippedskipped
kjohnson2macOS 12.6.1 Monterey / arm64see weekly results here
Package 11/183HostnameOS / ArchINSTALLBUILDCHECKBUILD BIN
ASpli 2.10.0  (landing page)
Estefania Mancini
git_last_commit: 2686a85
git_last_commit_date: 2023-04-25 10:48:38 -0400
nebbiolo1Linux (Ubuntu 22.04.2 LTS) / x86_64  OK    OK    ERROR  
palomino3Windows Server 2022 Datacenter / x64  OK    OK    WARNINGS    OK  UNNEEDED, same version is already published
merida1macOS 12.6.4 Monterey / x86_64  OK    OK    WARNINGS    OK  UNNEEDED, same version is already published
kjohnson2macOS 12.6.1 Monterey / arm64see weekly results here
Package 12/183HostnameOS / ArchINSTALLBUILDCHECKBUILD BIN
ATACseqQC 1.24.0  (landing page)
Jianhong Ou
git_last_commit: 06d4227
git_last_commit_date: 2023-04-25 10:54:12 -0400
nebbiolo1Linux (Ubuntu 22.04.2 LTS) / x86_64  OK    OK    OK  UNNEEDED, same version is already published
palomino3Windows Server 2022 Datacenter / x64  OK    OK    OK    OK  UNNEEDED, same version is already published
merida1macOS 12.6.4 Monterey / x86_64  OK    OK    OK    OK  UNNEEDED, same version is already published
kjohnson2macOS 12.6.1 Monterey / arm64see weekly results here
Package 13/183HostnameOS / ArchINSTALLBUILDCHECKBUILD BIN
ATACseqTFEA 1.2.0  (landing page)
Jianhong Ou
git_last_commit: 7c0aef8
git_last_commit_date: 2023-04-25 11:39:37 -0400
nebbiolo1Linux (Ubuntu 22.04.2 LTS) / x86_64  OK    OK    OK  UNNEEDED, same version is already published
palomino3Windows Server 2022 Datacenter / x64  OK    OK    OK    OK  UNNEEDED, same version is already published
merida1macOS 12.6.4 Monterey / x86_64  OK    OK    OK    OK  UNNEEDED, same version is already published
kjohnson2macOS 12.6.1 Monterey / arm64see weekly results here
Package 14/183HostnameOS / ArchINSTALLBUILDCHECKBUILD BIN
atena 1.6.0  (landing page)
Beatriz Calvo-Serra
git_last_commit: 4053ecb
git_last_commit_date: 2023-04-25 11:32:49 -0400
nebbiolo1Linux (Ubuntu 22.04.2 LTS) / x86_64  OK    OK    OK  UNNEEDED, same version is already published
palomino3Windows Server 2022 Datacenter / x64  OK    OK    OK    OK  UNNEEDED, same version is already published
merida1macOS 12.6.4 Monterey / x86_64  OK    OK    OK    OK  UNNEEDED, same version is already published
kjohnson2macOS 12.6.1 Monterey / arm64see weekly results here
Package 15/183HostnameOS / ArchINSTALLBUILDCHECKBUILD BIN
BaalChIP 1.26.0  (landing page)
Ines de Santiago
git_last_commit: 6129049
git_last_commit_date: 2023-04-25 10:49:34 -0400
nebbiolo1Linux (Ubuntu 22.04.2 LTS) / x86_64  OK    OK    WARNINGS  UNNEEDED, same version is already published
palomino3Windows Server 2022 Datacenter / x64  OK    OK    WARNINGS    OK  UNNEEDED, same version is already published
merida1macOS 12.6.4 Monterey / x86_64  OK    OK    WARNINGS    OK  UNNEEDED, same version is already published
kjohnson2macOS 12.6.1 Monterey / arm64see weekly results here
Package 16/183HostnameOS / ArchINSTALLBUILDCHECKBUILD BIN
BadRegionFinder 1.28.0  (landing page)
Sarah Sandmann
git_last_commit: 95a67a9
git_last_commit_date: 2023-04-25 10:45:57 -0400
nebbiolo1Linux (Ubuntu 22.04.2 LTS) / x86_64  OK    OK    OK  UNNEEDED, same version is already published
palomino3Windows Server 2022 Datacenter / x64  OK    OK    OK    OK  UNNEEDED, same version is already published
merida1macOS 12.6.4 Monterey / x86_64  OK    OK    OK    OK  UNNEEDED, same version is already published
kjohnson2macOS 12.6.1 Monterey / arm64see weekly results here
Package 17/183HostnameOS / ArchINSTALLBUILDCHECKBUILD BIN
bambu 3.2.6  (landing page)
Ying Chen
git_last_commit: 2fb8864
git_last_commit_date: 2023-08-23 04:55:16 -0400
nebbiolo1Linux (Ubuntu 22.04.2 LTS) / x86_64  OK    OK    OK  UNNEEDED, same version is already published
palomino3Windows Server 2022 Datacenter / x64  OK    OK    OK    OK  UNNEEDED, same version is already published
merida1macOS 12.6.4 Monterey / x86_64  OK    OK    OK    OK  UNNEEDED, same version is already published
kjohnson2macOS 12.6.1 Monterey / arm64see weekly results here
Package 18/183HostnameOS / ArchINSTALLBUILDCHECKBUILD BIN
BBCAnalyzer 1.30.0  (landing page)
Sarah Sandmann
git_last_commit: 1d27ee5
git_last_commit_date: 2023-04-25 10:41:00 -0400
nebbiolo1Linux (Ubuntu 22.04.2 LTS) / x86_64  OK    OK    OK  UNNEEDED, same version is already published
palomino3Windows Server 2022 Datacenter / x64  OK    OK    WARNINGS    OK  UNNEEDED, same version is already published
merida1macOS 12.6.4 Monterey / x86_64  OK    OK    OK    OK  UNNEEDED, same version is already published
kjohnson2macOS 12.6.1 Monterey / arm64see weekly results here
Package 19/183HostnameOS / ArchINSTALLBUILDCHECKBUILD BIN
biovizBase 1.48.0  (landing page)
Michael Lawrence
git_last_commit: 534db77
git_last_commit_date: 2023-04-25 10:21:06 -0400
nebbiolo1Linux (Ubuntu 22.04.2 LTS) / x86_64  OK    OK    WARNINGS  UNNEEDED, same version is already published
palomino3Windows Server 2022 Datacenter / x64  OK    OK    WARNINGS    OK  UNNEEDED, same version is already published
merida1macOS 12.6.4 Monterey / x86_64  OK    OK    WARNINGS    OK  UNNEEDED, same version is already published
kjohnson2macOS 12.6.1 Monterey / arm64see weekly results here
Package 20/183HostnameOS / ArchINSTALLBUILDCHECKBUILD BIN
biscuiteer 1.14.0  (landing page)
Jacob Morrison
git_last_commit: 94ce421
git_last_commit_date: 2023-04-25 11:13:36 -0400
nebbiolo1Linux (Ubuntu 22.04.2 LTS) / x86_64  OK    OK    WARNINGS  UNNEEDED, same version is already published
palomino3Windows Server 2022 Datacenter / x64  OK    OK    WARNINGS    OK  UNNEEDED, same version is already published
merida1macOS 12.6.4 Monterey / x86_64  OK    OK    WARNINGS    OK  UNNEEDED, same version is already published
kjohnson2macOS 12.6.1 Monterey / arm64see weekly results here
Package 21/183HostnameOS / ArchINSTALLBUILDCHECKBUILD BIN
breakpointR 1.18.0  (landing page)
David Porubsky
git_last_commit: a649748
git_last_commit_date: 2023-04-25 11:04:34 -0400
nebbiolo1Linux (Ubuntu 22.04.2 LTS) / x86_64  OK    OK    OK  UNNEEDED, same version is already published
palomino3Windows Server 2022 Datacenter / x64  OK    OK    OK    OK  UNNEEDED, same version is already published
merida1macOS 12.6.4 Monterey / x86_64  OK    OK    OK    OK  UNNEEDED, same version is already published
kjohnson2macOS 12.6.1 Monterey / arm64see weekly results here
Package 22/183HostnameOS / ArchINSTALLBUILDCHECKBUILD BIN
BRGenomics 1.12.0  (landing page)
Mike DeBerardine
git_last_commit: f73b855
git_last_commit_date: 2023-04-25 13:08:10 -0400
nebbiolo1Linux (Ubuntu 22.04.2 LTS) / x86_64  OK    OK    ERROR  
palomino3Windows Server 2022 Datacenter / x64  OK    OK    ERROR    OK  
merida1macOS 12.6.4 Monterey / x86_64  OK    OK    ERROR    OK  
kjohnson2macOS 12.6.1 Monterey / arm64see weekly results here
Package 23/183HostnameOS / ArchINSTALLBUILDCHECKBUILD BIN
BSgenome 1.68.0  (landing page)
Hervé Pagès
git_last_commit: c546020
git_last_commit_date: 2023-04-25 09:43:43 -0400
nebbiolo1Linux (Ubuntu 22.04.2 LTS) / x86_64  OK    OK    WARNINGS  UNNEEDED, same version is already published
palomino3Windows Server 2022 Datacenter / x64  OK    OK    WARNINGS    OK  UNNEEDED, same version is already published
merida1macOS 12.6.4 Monterey / x86_64  OK    OK    WARNINGS    OK  UNNEEDED, same version is already published
kjohnson2macOS 12.6.1 Monterey / arm64see weekly results here
Package 24/183HostnameOS / ArchINSTALLBUILDCHECKBUILD BIN
CAGEr 2.6.1  (landing page)
Charles Plessy
git_last_commit: 1711478
git_last_commit_date: 2023-07-04 19:40:32 -0400
nebbiolo1Linux (Ubuntu 22.04.2 LTS) / x86_64  OK    OK    OK  UNNEEDED, same version is already published
palomino3Windows Server 2022 Datacenter / x64  OK    OK    OK    OK  UNNEEDED, same version is already published
merida1macOS 12.6.4 Monterey / x86_64  OK    OK    OK    OK  UNNEEDED, same version is already published
kjohnson2macOS 12.6.1 Monterey / arm64see weekly results here
Package 25/183HostnameOS / ArchINSTALLBUILDCHECKBUILD BIN
casper 2.34.0  (landing page)
David Rossell
git_last_commit: e05e2dd
git_last_commit_date: 2023-04-25 10:25:19 -0400
nebbiolo1Linux (Ubuntu 22.04.2 LTS) / x86_64  OK    OK    OK  UNNEEDED, same version is already published
palomino3Windows Server 2022 Datacenter / x64  OK    OK    WARNINGS    OK  UNNEEDED, same version is already published
merida1macOS 12.6.4 Monterey / x86_64  OK    ERROR  skippedskipped
kjohnson2macOS 12.6.1 Monterey / arm64see weekly results here
Package 26/183HostnameOS / ArchINSTALLBUILDCHECKBUILD BIN
cellbaseR 1.24.0  (landing page)
Mohammed OE Abdallah
git_last_commit: ebbeb0b
git_last_commit_date: 2023-04-25 10:54:01 -0400
nebbiolo1Linux (Ubuntu 22.04.2 LTS) / x86_64  OK    ERROR  skipped
palomino3Windows Server 2022 Datacenter / x64  OK    ERROR  skippedskipped
merida1macOS 12.6.4 Monterey / x86_64  OK    ERROR  skippedskipped
kjohnson2macOS 12.6.1 Monterey / arm64see weekly results here
Package 27/183HostnameOS / ArchINSTALLBUILDCHECKBUILD BIN
CexoR 1.38.0  (landing page)
Pedro Madrigal
git_last_commit: 91978b2
git_last_commit_date: 2023-04-25 11:33:13 -0400
nebbiolo1Linux (Ubuntu 22.04.2 LTS) / x86_64  OK    OK    OK  UNNEEDED, same version is already published
palomino3Windows Server 2022 Datacenter / x64  OK    OK    OK    OK  UNNEEDED, same version is already published
merida1macOS 12.6.4 Monterey / x86_64  OK    OK    OK    OK  UNNEEDED, same version is already published
kjohnson2macOS 12.6.1 Monterey / arm64see weekly results here
Package 28/183HostnameOS / ArchINSTALLBUILDCHECKBUILD BIN
cfDNAPro 1.6.0  (landing page)
Haichao Wang
git_last_commit: 08ce3c9
git_last_commit_date: 2023-04-25 11:31:39 -0400
nebbiolo1Linux (Ubuntu 22.04.2 LTS) / x86_64  OK    OK    WARNINGS  UNNEEDED, same version is already published
palomino3Windows Server 2022 Datacenter / x64  OK    OK    WARNINGS    OK  UNNEEDED, same version is already published
merida1macOS 12.6.4 Monterey / x86_64  OK    OK    WARNINGS    OK  UNNEEDED, same version is already published
kjohnson2macOS 12.6.1 Monterey / arm64see weekly results here
Package 29/183HostnameOS / ArchINSTALLBUILDCHECKBUILD BIN
ChIC 1.20.0  (landing page)
Carmen Maria Livi
git_last_commit: 601181f
git_last_commit_date: 2023-04-25 11:01:05 -0400
nebbiolo1Linux (Ubuntu 22.04.2 LTS) / x86_64  ERROR    ERROR  skipped
palomino3Windows Server 2022 Datacenter / x64... NOT SUPPORTED ...
merida1macOS 12.6.4 Monterey / x86_64  ERROR    ERROR  skippedskipped
kjohnson2macOS 12.6.1 Monterey / arm64see weekly results here
Package 30/183HostnameOS / ArchINSTALLBUILDCHECKBUILD BIN
chimeraviz 1.26.0  (landing page)
Stian Lågstad
git_last_commit: 9ce5919
git_last_commit_date: 2023-04-25 10:51:20 -0400
nebbiolo1Linux (Ubuntu 22.04.2 LTS) / x86_64  OK    OK    OK  UNNEEDED, same version is already published
palomino3Windows Server 2022 Datacenter / x64  OK    OK    OK    OK  UNNEEDED, same version is already published
merida1macOS 12.6.4 Monterey / x86_64  OK    OK    OK    OK  UNNEEDED, same version is already published
kjohnson2macOS 12.6.1 Monterey / arm64see weekly results here
Package 31/183HostnameOS / ArchINSTALLBUILDCHECKBUILD BIN
ChIPComp 1.30.0  (landing page)
Li Chen
git_last_commit: 2305fe2
git_last_commit_date: 2023-04-25 10:41:03 -0400
nebbiolo1Linux (Ubuntu 22.04.2 LTS) / x86_64  OK    OK    OK  UNNEEDED, same version is already published
palomino3Windows Server 2022 Datacenter / x64  OK    OK    OK    OK  UNNEEDED, same version is already published
merida1macOS 12.6.4 Monterey / x86_64  OK    OK    OK    OK  UNNEEDED, same version is already published
kjohnson2macOS 12.6.1 Monterey / arm64see weekly results here
Package 32/183HostnameOS / ArchINSTALLBUILDCHECKBUILD BIN
ChIPexoQual 1.24.0  (landing page)
Rene Welch
git_last_commit: a96537e
git_last_commit_date: 2023-04-25 10:52:01 -0400
nebbiolo1Linux (Ubuntu 22.04.2 LTS) / x86_64  OK    OK    OK  UNNEEDED, same version is already published
palomino3Windows Server 2022 Datacenter / x64  OK    OK    OK    OK  UNNEEDED, same version is already published
merida1macOS 12.6.4 Monterey / x86_64  OK    OK    OK    OK  UNNEEDED, same version is already published
kjohnson2macOS 12.6.1 Monterey / arm64see weekly results here
Package 33/183HostnameOS / ArchINSTALLBUILDCHECKBUILD BIN
ChIPpeakAnno 3.34.1  (landing page)
Jianhong Ou
git_last_commit: 1a47186
git_last_commit_date: 2023-04-26 18:52:20 -0400
nebbiolo1Linux (Ubuntu 22.04.2 LTS) / x86_64  OK    OK    OK  UNNEEDED, same version is already published
palomino3Windows Server 2022 Datacenter / x64  OK    OK    OK    OK  UNNEEDED, same version is already published
merida1macOS 12.6.4 Monterey / x86_64  OK    OK    OK    OK  UNNEEDED, same version is already published
kjohnson2macOS 12.6.1 Monterey / arm64see weekly results here
Package 34/183HostnameOS / ArchINSTALLBUILDCHECKBUILD BIN
ChIPQC 1.36.1  (landing page)
Tom Carroll , Rory Stark
git_last_commit: e835440
git_last_commit_date: 2023-08-25 11:17:44 -0400
nebbiolo1Linux (Ubuntu 22.04.2 LTS) / x86_64  OK    OK    WARNINGS  UNNEEDED, same version is already published
palomino3Windows Server 2022 Datacenter / x64  OK    OK    WARNINGS    OK  UNNEEDED, same version is already published
merida1macOS 12.6.4 Monterey / x86_64  OK    OK    WARNINGS    OK  UNNEEDED, same version is already published
kjohnson2macOS 12.6.1 Monterey / arm64see weekly results here
Package 35/183HostnameOS / ArchINSTALLBUILDCHECKBUILD BIN
ChromSCape 1.10.0  (landing page)
Pacome Prompsy
git_last_commit: 541e6b7
git_last_commit_date: 2023-04-25 11:23:20 -0400
nebbiolo1Linux (Ubuntu 22.04.2 LTS) / x86_64  OK    OK    WARNINGS  UNNEEDED, same version is already published
palomino3Windows Server 2022 Datacenter / x64  OK    OK    WARNINGS    OK  UNNEEDED, same version is already published
merida1macOS 12.6.4 Monterey / x86_64  OK    OK    WARNINGS    OK  UNNEEDED, same version is already published
kjohnson2macOS 12.6.1 Monterey / arm64see weekly results here
Package 36/183HostnameOS / ArchINSTALLBUILDCHECKBUILD BIN
chromstaR 1.26.0  (landing page)
Aaron Taudt
git_last_commit: 92f4418
git_last_commit_date: 2023-04-25 10:47:44 -0400
nebbiolo1Linux (Ubuntu 22.04.2 LTS) / x86_64  OK    OK    OK  UNNEEDED, same version is already published
palomino3Windows Server 2022 Datacenter / x64  OK    OK    OK    OK  UNNEEDED, same version is already published
merida1macOS 12.6.4 Monterey / x86_64  OK    OK    OK    OK  UNNEEDED, same version is already published
kjohnson2macOS 12.6.1 Monterey / arm64see weekly results here
Package 37/183HostnameOS / ArchINSTALLBUILDCHECKBUILD BIN
chromVAR 1.22.1  (landing page)
Alicia Schep
git_last_commit: fbdaa18
git_last_commit_date: 2023-05-01 20:09:37 -0400
nebbiolo1Linux (Ubuntu 22.04.2 LTS) / x86_64  OK    OK    OK  UNNEEDED, same version is already published
palomino3Windows Server 2022 Datacenter / x64  OK    OK    OK    OK  UNNEEDED, same version is already published
merida1macOS 12.6.4 Monterey / x86_64  OK    ERROR  skippedskipped
kjohnson2macOS 12.6.1 Monterey / arm64see weekly results here
Package 38/183HostnameOS / ArchINSTALLBUILDCHECKBUILD BIN
CircSeqAlignTk 1.2.0  (landing page)
Jianqiang Sun
git_last_commit: f1b4cef
git_last_commit_date: 2023-04-25 11:40:31 -0400
nebbiolo1Linux (Ubuntu 22.04.2 LTS) / x86_64  OK    OK    OK  UNNEEDED, same version is already published
palomino3Windows Server 2022 Datacenter / x64  OK    OK    ERROR    OK  
merida1macOS 12.6.4 Monterey / x86_64  OK    OK    OK    OK  UNNEEDED, same version is already published
kjohnson2macOS 12.6.1 Monterey / arm64see weekly results here
Package 39/183HostnameOS / ArchINSTALLBUILDCHECKBUILD BIN
cn.mops 1.46.0  (landing page)
Gundula Povysil
git_last_commit: baa7ea0
git_last_commit_date: 2023-04-25 10:21:44 -0400
nebbiolo1Linux (Ubuntu 22.04.2 LTS) / x86_64  OK    OK    OK  UNNEEDED, same version is already published
palomino3Windows Server 2022 Datacenter / x64  OK    OK    OK    OK  UNNEEDED, same version is already published
merida1macOS 12.6.4 Monterey / x86_64  OK    OK    OK    OK  UNNEEDED, same version is already published
kjohnson2macOS 12.6.1 Monterey / arm64see weekly results here
Package 40/183HostnameOS / ArchINSTALLBUILDCHECKBUILD BIN
CNVfilteR 1.14.0  (landing page)
Jose Marcos Moreno-Cabrera
git_last_commit: 114a083
git_last_commit_date: 2023-04-25 11:13:01 -0400
nebbiolo1Linux (Ubuntu 22.04.2 LTS) / x86_64  OK    OK    ERROR  
palomino3Windows Server 2022 Datacenter / x64  OK    OK    OK    OK  UNNEEDED, same version is already published
merida1macOS 12.6.4 Monterey / x86_64  OK    OK    OK    OK  UNNEEDED, same version is already published
kjohnson2macOS 12.6.1 Monterey / arm64see weekly results here
Package 41/183HostnameOS / ArchINSTALLBUILDCHECKBUILD BIN
CNVPanelizer 1.32.0  (landing page)
Thomas Wolf
git_last_commit: 86ffb06
git_last_commit_date: 2023-04-25 10:40:16 -0400
nebbiolo1Linux (Ubuntu 22.04.2 LTS) / x86_64  OK    OK    OK  UNNEEDED, same version is already published
palomino3Windows Server 2022 Datacenter / x64  OK    OK    OK    OK  UNNEEDED, same version is already published
merida1macOS 12.6.4 Monterey / x86_64  OK    OK    OK    OK  UNNEEDED, same version is already published
kjohnson2macOS 12.6.1 Monterey / arm64see weekly results here
Package 42/183HostnameOS / ArchINSTALLBUILDCHECKBUILD BIN
CNVrd2 1.38.0  (landing page)
Hoang Tan Nguyen
git_last_commit: 4161932
git_last_commit_date: 2023-04-25 10:29:34 -0400
nebbiolo1Linux (Ubuntu 22.04.2 LTS) / x86_64  OK    OK    OK  UNNEEDED, same version is already published
palomino3Windows Server 2022 Datacenter / x64  OK    OK    OK    OK  UNNEEDED, same version is already published
merida1macOS 12.6.4 Monterey / x86_64  OK    OK    OK    OK  UNNEEDED, same version is already published
kjohnson2macOS 12.6.1 Monterey / arm64see weekly results here
Package 43/183HostnameOS / ArchINSTALLBUILDCHECKBUILD BIN
CODEX 1.32.0  (landing page)
Yuchao Jiang
git_last_commit: 8392623
git_last_commit_date: 2023-04-25 10:37:02 -0400
nebbiolo1Linux (Ubuntu 22.04.2 LTS) / x86_64  OK    OK    OK  UNNEEDED, same version is already published
palomino3Windows Server 2022 Datacenter / x64  OK    OK    OK    OK  UNNEEDED, same version is already published
merida1macOS 12.6.4 Monterey / x86_64  OK    OK    OK    OK  UNNEEDED, same version is already published
kjohnson2macOS 12.6.1 Monterey / arm64see weekly results here
Package 44/183HostnameOS / ArchINSTALLBUILDCHECKBUILD BIN
compEpiTools 1.34.1  (landing page)
Mattia Furlan
git_last_commit: 4f44f42
git_last_commit_date: 2023-05-02 15:23:53 -0400
nebbiolo1Linux (Ubuntu 22.04.2 LTS) / x86_64  OK    OK    WARNINGS  UNNEEDED, same version is already published
palomino3Windows Server 2022 Datacenter / x64  OK    OK    WARNINGS    OK  UNNEEDED, same version is already published
merida1macOS 12.6.4 Monterey / x86_64  OK    OK    WARNINGS    OK  UNNEEDED, same version is already published
kjohnson2macOS 12.6.1 Monterey / arm64see weekly results here
Package 45/183HostnameOS / ArchINSTALLBUILDCHECKBUILD BIN
consensusDE 1.18.0  (landing page)
Ashley J. Waardenberg
git_last_commit: 58c20f9
git_last_commit_date: 2023-04-25 11:05:52 -0400
nebbiolo1Linux (Ubuntu 22.04.2 LTS) / x86_64  OK    OK    OK  UNNEEDED, same version is already published
palomino3Windows Server 2022 Datacenter / x64  OK    OK    OK    OK  UNNEEDED, same version is already published
merida1macOS 12.6.4 Monterey / x86_64  OK    OK    OK    OK  UNNEEDED, same version is already published
kjohnson2macOS 12.6.1 Monterey / arm64see weekly results here
Package 46/183HostnameOS / ArchINSTALLBUILDCHECKBUILD BIN
contiBAIT 1.28.0  (landing page)
Kieran O'Neill
git_last_commit: 48f8245
git_last_commit_date: 2023-04-25 10:44:16 -0400
nebbiolo1Linux (Ubuntu 22.04.2 LTS) / x86_64  OK    OK    WARNINGS  UNNEEDED, same version is already published
palomino3Windows Server 2022 Datacenter / x64  OK    OK    WARNINGS    OK  UNNEEDED, same version is already published
merida1macOS 12.6.4 Monterey / x86_64  OK    OK    WARNINGS    OK  UNNEEDED, same version is already published
kjohnson2macOS 12.6.1 Monterey / arm64see weekly results here
Package 47/183HostnameOS / ArchINSTALLBUILDCHECKBUILD BIN
CopyNumberPlots 1.16.0  (landing page)
Bernat Gel
git_last_commit: 07720e2
git_last_commit_date: 2023-04-25 11:09:48 -0400
nebbiolo1Linux (Ubuntu 22.04.2 LTS) / x86_64  OK    OK    OK  UNNEEDED, same version is already published
palomino3Windows Server 2022 Datacenter / x64  OK    OK    OK    OK  UNNEEDED, same version is already published
merida1macOS 12.6.4 Monterey / x86_64  OK    OK    OK    OK  UNNEEDED, same version is already published
kjohnson2macOS 12.6.1 Monterey / arm64see weekly results here
Package 48/183HostnameOS / ArchINSTALLBUILDCHECKBUILD BIN
CopywriteR 2.32.0  (landing page)
Oscar Krijgsman
git_last_commit: b14b332
git_last_commit_date: 2023-04-25 10:39:03 -0400
nebbiolo1Linux (Ubuntu 22.04.2 LTS) / x86_64  OK    ERROR  skipped
palomino3Windows Server 2022 Datacenter / x64  OK    ERROR  skippedskipped
merida1macOS 12.6.4 Monterey / x86_64  OK    ERROR  skippedskipped
kjohnson2macOS 12.6.1 Monterey / arm64see weekly results here
Package 49/183HostnameOS / ArchINSTALLBUILDCHECKBUILD BIN
CoverageView 1.38.0  (landing page)
Ernesto Lowy
git_last_commit: 970269c
git_last_commit_date: 2023-04-25 10:31:32 -0400
nebbiolo1Linux (Ubuntu 22.04.2 LTS) / x86_64  OK    OK    WARNINGS  UNNEEDED, same version is already published
palomino3Windows Server 2022 Datacenter / x64... NOT SUPPORTED ...
merida1macOS 12.6.4 Monterey / x86_64  OK    OK    WARNINGS    OK  UNNEEDED, same version is already published
kjohnson2macOS 12.6.1 Monterey / arm64see weekly results here
Package 50/183HostnameOS / ArchINSTALLBUILDCHECKBUILD BIN
CrispRVariants 1.28.0  (landing page)
Helen Lindsay
git_last_commit: 8694ad0
git_last_commit_date: 2023-04-25 10:43:23 -0400
nebbiolo1Linux (Ubuntu 22.04.2 LTS) / x86_64  OK    OK    WARNINGS  UNNEEDED, same version is already published
palomino3Windows Server 2022 Datacenter / x64  OK    OK    WARNINGS    OK  UNNEEDED, same version is already published
merida1macOS 12.6.4 Monterey / x86_64  OK    OK    WARNINGS    OK  UNNEEDED, same version is already published
kjohnson2macOS 12.6.1 Monterey / arm64see weekly results here
Package 51/183HostnameOS / ArchINSTALLBUILDCHECKBUILD BIN
csaw 1.34.0  (landing page)
Aaron Lun
git_last_commit: a93327e
git_last_commit_date: 2023-04-25 10:35:43 -0400
nebbiolo1Linux (Ubuntu 22.04.2 LTS) / x86_64  OK    OK    WARNINGS  UNNEEDED, same version is already published
palomino3Windows Server 2022 Datacenter / x64  OK    OK    WARNINGS    OK  UNNEEDED, same version is already published
merida1macOS 12.6.4 Monterey / x86_64  OK    OK    WARNINGS    OK  UNNEEDED, same version is already published
kjohnson2macOS 12.6.1 Monterey / arm64see weekly results here
Package 52/183HostnameOS / ArchINSTALLBUILDCHECKBUILD BIN
CSSQ 1.12.1  (landing page)
Fan Lab at Georgia Institute of Technology
git_last_commit: 29426c5
git_last_commit_date: 2023-06-27 15:44:29 -0400
nebbiolo1Linux (Ubuntu 22.04.2 LTS) / x86_64  OK    OK    OK  UNNEEDED, same version is already published
palomino3Windows Server 2022 Datacenter / x64  OK    OK    OK    OK  UNNEEDED, same version is already published
merida1macOS 12.6.4 Monterey / x86_64  OK    OK    OK    OK  UNNEEDED, same version is already published
kjohnson2macOS 12.6.1 Monterey / arm64see weekly results here
Package 53/183HostnameOS / ArchINSTALLBUILDCHECKBUILD BIN
customProDB 1.40.0  (landing page)
Xiaojing Wang
git_last_commit: 267665c
git_last_commit_date: 2023-04-25 10:27:25 -0400
nebbiolo1Linux (Ubuntu 22.04.2 LTS) / x86_64  OK    OK    OK  UNNEEDED, same version is already published
palomino3Windows Server 2022 Datacenter / x64  OK    OK    OK    OK  UNNEEDED, same version is already published
merida1macOS 12.6.4 Monterey / x86_64  OK    OK    OK    OK  UNNEEDED, same version is already published
kjohnson2macOS 12.6.1 Monterey / arm64see weekly results here
Package 54/183HostnameOS / ArchINSTALLBUILDCHECKBUILD BIN
DAMEfinder 1.12.0  (landing page)
Stephany Orjuela
git_last_commit: de191b2
git_last_commit_date: 2023-04-25 11:15:03 -0400
nebbiolo1Linux (Ubuntu 22.04.2 LTS) / x86_64  OK    OK    OK  UNNEEDED, same version is already published
palomino3Windows Server 2022 Datacenter / x64  OK    OK    OK    OK  UNNEEDED, same version is already published
merida1macOS 12.6.4 Monterey / x86_64  OK    OK    OK    OK  UNNEEDED, same version is already published
kjohnson2macOS 12.6.1 Monterey / arm64see weekly results here
Package 55/183HostnameOS / ArchINSTALLBUILDCHECKBUILD BIN
DegNorm 1.10.1  (landing page)
Ji-Ping Wang
git_last_commit: 3d3414b
git_last_commit_date: 2023-05-01 20:07:15 -0400
nebbiolo1Linux (Ubuntu 22.04.2 LTS) / x86_64  OK    OK    OK  UNNEEDED, same version is already published
palomino3Windows Server 2022 Datacenter / x64  OK    OK    OK    OK  UNNEEDED, same version is already published
merida1macOS 12.6.4 Monterey / x86_64  OK    OK    OK    OK  UNNEEDED, same version is already published
kjohnson2macOS 12.6.1 Monterey / arm64see weekly results here
Package 56/183HostnameOS / ArchINSTALLBUILDCHECKBUILD BIN
derfinder 1.34.0  (landing page)
Leonardo Collado-Torres
git_last_commit: dd81839
git_last_commit_date: 2023-04-25 10:35:03 -0400
nebbiolo1Linux (Ubuntu 22.04.2 LTS) / x86_64  OK    OK    OK  UNNEEDED, same version is already published
palomino3Windows Server 2022 Datacenter / x64  OK    OK    OK    OK  UNNEEDED, same version is already published
merida1macOS 12.6.4 Monterey / x86_64  OK    OK    OK    OK  UNNEEDED, same version is already published
kjohnson2macOS 12.6.1 Monterey / arm64see weekly results here
Package 57/183HostnameOS / ArchINSTALLBUILDCHECKBUILD BIN
DEXSeq 1.46.1  (landing page)
Alejandro Reyes
git_last_commit: dad9607
git_last_commit_date: 2023-10-02 03:44:51 -0400
nebbiolo1Linux (Ubuntu 22.04.2 LTS) / x86_64  OK    OK    ERROR  
palomino3Windows Server 2022 Datacenter / x64  OK    OK    OK    OK  UNNEEDED, same version is already published
merida1macOS 12.6.4 Monterey / x86_64  OK    OK    OK    OK  UNNEEDED, same version is already published
kjohnson2macOS 12.6.1 Monterey / arm64see weekly results here
Package 58/183HostnameOS / ArchINSTALLBUILDCHECKBUILD BIN
DiffBind 3.10.1  (landing page)
Rory Stark
git_last_commit: 5846014
git_last_commit_date: 2023-08-30 08:24:15 -0400
nebbiolo1Linux (Ubuntu 22.04.2 LTS) / x86_64  OK    OK    WARNINGS  UNNEEDED, same version is already published
palomino3Windows Server 2022 Datacenter / x64  OK    OK    OK    OK  UNNEEDED, same version is already published
merida1macOS 12.6.4 Monterey / x86_64  OK    OK    WARNINGS    OK  UNNEEDED, same version is already published
kjohnson2macOS 12.6.1 Monterey / arm64see weekly results here
Package 59/183HostnameOS / ArchINSTALLBUILDCHECKBUILD BIN
diffHic 1.32.0  (landing page)
Aaron Lun
git_last_commit: 6c577d2
git_last_commit_date: 2023-04-25 10:39:29 -0400
nebbiolo1Linux (Ubuntu 22.04.2 LTS) / x86_64  OK    OK    WARNINGS  UNNEEDED, same version is already published
palomino3Windows Server 2022 Datacenter / x64  OK    OK    WARNINGS    OK  UNNEEDED, same version is already published
merida1macOS 12.6.4 Monterey / x86_64  OK    OK    WARNINGS    OK  UNNEEDED, same version is already published
kjohnson2macOS 12.6.1 Monterey / arm64see weekly results here
Package 60/183HostnameOS / ArchINSTALLBUILDCHECKBUILD BIN
DNAfusion 1.2.0  (landing page)
Christoffer Trier Maansson
git_last_commit: aef3ca8
git_last_commit_date: 2023-04-26 05:41:57 -0400
nebbiolo1Linux (Ubuntu 22.04.2 LTS) / x86_64  OK    OK    OK  UNNEEDED, same version is already published
palomino3Windows Server 2022 Datacenter / x64  OK    OK    OK    OK  UNNEEDED, same version is already published
merida1macOS 12.6.4 Monterey / x86_64  OK    OK    OK    OK  UNNEEDED, same version is already published
kjohnson2macOS 12.6.1 Monterey / arm64see weekly results here
Package 61/183HostnameOS / ArchINSTALLBUILDCHECKBUILD BIN
easyRNASeq 2.36.0  (landing page)
Nicolas Delhomme
git_last_commit: e5e1842
git_last_commit_date: 2023-04-25 10:22:04 -0400
nebbiolo1Linux (Ubuntu 22.04.2 LTS) / x86_64  OK    OK    OK  UNNEEDED, same version is already published
palomino3Windows Server 2022 Datacenter / x64  OK    OK    OK    OK  UNNEEDED, same version is already published
merida1macOS 12.6.4 Monterey / x86_64  OK    OK    OK    OK  UNNEEDED, same version is already published
kjohnson2macOS 12.6.1 Monterey / arm64see weekly results here
Package 62/183HostnameOS / ArchINSTALLBUILDCHECKBUILD BIN
EDASeq 2.34.0  (landing page)
Davide Risso
git_last_commit: 71b52e3
git_last_commit_date: 2023-04-25 10:20:57 -0400
nebbiolo1Linux (Ubuntu 22.04.2 LTS) / x86_64  OK    OK    OK  UNNEEDED, same version is already published
palomino3Windows Server 2022 Datacenter / x64  OK    OK    OK    OK  UNNEEDED, same version is already published
merida1macOS 12.6.4 Monterey / x86_64  OK    OK    OK    OK  UNNEEDED, same version is already published
kjohnson2macOS 12.6.1 Monterey / arm64see weekly results here
Package 63/183HostnameOS / ArchINSTALLBUILDCHECKBUILD BIN
ensembldb 2.24.1  (landing page)
Johannes Rainer
git_last_commit: c7713b8
git_last_commit_date: 2023-09-21 11:20:52 -0400
nebbiolo1Linux (Ubuntu 22.04.2 LTS) / x86_64  OK    OK    OK  UNNEEDED, same version is already published
palomino3Windows Server 2022 Datacenter / x64  OK    OK    OK    OK  UNNEEDED, same version is already published
merida1macOS 12.6.4 Monterey / x86_64  OK    OK    OK    OK  UNNEEDED, same version is already published
kjohnson2macOS 12.6.1 Monterey / arm64see weekly results here
Package 64/183HostnameOS / ArchINSTALLBUILDCHECKBUILD BIN
epigenomix 1.40.0  (landing page)
Hans-Ulrich Klein
git_last_commit: 98e9d36
git_last_commit_date: 2023-04-25 10:26:05 -0400
nebbiolo1Linux (Ubuntu 22.04.2 LTS) / x86_64  OK    OK    OK  UNNEEDED, same version is already published
palomino3Windows Server 2022 Datacenter / x64  OK    OK    OK    OK  UNNEEDED, same version is already published
merida1macOS 12.6.4 Monterey / x86_64  OK    OK    OK    OK  UNNEEDED, same version is already published
kjohnson2macOS 12.6.1 Monterey / arm64see weekly results here
Package 65/183HostnameOS / ArchINSTALLBUILDCHECKBUILD BIN
epigraHMM 1.8.3  (landing page)
Pedro Baldoni
git_last_commit: 7a4ec94
git_last_commit_date: 2023-10-04 18:42:56 -0400
nebbiolo1Linux (Ubuntu 22.04.2 LTS) / x86_64  OK    OK    WARNINGS  UNNEEDED, same version is already published
palomino3Windows Server 2022 Datacenter / x64  OK    OK    OK    OK  UNNEEDED, same version is already published
merida1macOS 12.6.4 Monterey / x86_64  OK    OK    WARNINGS    OK  UNNEEDED, same version is already published
kjohnson2macOS 12.6.1 Monterey / arm64see weekly results here
Package 66/183HostnameOS / ArchINSTALLBUILDCHECKBUILD BIN
esATAC 1.22.0  (landing page)
Zheng Wei
git_last_commit: 02846bd
git_last_commit_date: 2023-04-25 10:58:10 -0400
nebbiolo1Linux (Ubuntu 22.04.2 LTS) / x86_64  OK    OK    OK  UNNEEDED, same version is already published
palomino3Windows Server 2022 Datacenter / x64  OK    OK    OK    OK  UNNEEDED, same version is already published
merida1macOS 12.6.4 Monterey / x86_64  OK    OK    OK    OK  UNNEEDED, same version is already published
kjohnson2macOS 12.6.1 Monterey / arm64see weekly results here
Package 67/183HostnameOS / ArchINSTALLBUILDCHECKBUILD BIN
eudysbiome 1.30.0  (landing page)
Xiaoyuan Zhou
git_last_commit: e0e31c8
git_last_commit_date: 2023-04-25 10:40:50 -0400
nebbiolo1Linux (Ubuntu 22.04.2 LTS) / x86_64  OK    OK    OK  UNNEEDED, same version is already published
palomino3Windows Server 2022 Datacenter / x64  OK    OK    OK    OK  UNNEEDED, same version is already published
merida1macOS 12.6.4 Monterey / x86_64  OK    OK    OK    OK  UNNEEDED, same version is already published
kjohnson2macOS 12.6.1 Monterey / arm64see weekly results here
Package 68/183HostnameOS / ArchINSTALLBUILDCHECKBUILD BIN
exomeCopy 1.46.0  (landing page)
Michael Love
git_last_commit: b282adb
git_last_commit_date: 2023-04-25 10:21:32 -0400
nebbiolo1Linux (Ubuntu 22.04.2 LTS) / x86_64  OK    OK    OK  UNNEEDED, same version is already published
palomino3Windows Server 2022 Datacenter / x64  OK    OK    OK    OK  UNNEEDED, same version is already published
merida1macOS 12.6.4 Monterey / x86_64  OK    OK    OK    OK  UNNEEDED, same version is already published
kjohnson2macOS 12.6.1 Monterey / arm64see weekly results here
Package 69/183HostnameOS / ArchINSTALLBUILDCHECKBUILD BIN
exomePeak2 1.12.0  (landing page)
Zhen Wei
git_last_commit: 4843089
git_last_commit_date: 2023-04-25 11:15:50 -0400
nebbiolo1Linux (Ubuntu 22.04.2 LTS) / x86_64  OK    OK    ERROR  
palomino3Windows Server 2022 Datacenter / x64  OK    OK    OK    OK  UNNEEDED, same version is already published
merida1macOS 12.6.4 Monterey / x86_64  OK    OK    OK    OK  UNNEEDED, same version is already published
kjohnson2macOS 12.6.1 Monterey / arm64see weekly results here
Package 70/183HostnameOS / ArchINSTALLBUILDCHECKBUILD BIN
extraChIPs 1.4.6  (landing page)
Stephen Pederson
git_last_commit: 099625f
git_last_commit_date: 2023-07-08 04:51:32 -0400
nebbiolo1Linux (Ubuntu 22.04.2 LTS) / x86_64  OK    OK    OK  UNNEEDED, same version is already published
palomino3Windows Server 2022 Datacenter / x64  OK    OK    OK    OK  UNNEEDED, same version is already published
merida1macOS 12.6.4 Monterey / x86_64  OK    OK    OK    OK  UNNEEDED, same version is already published
kjohnson2macOS 12.6.1 Monterey / arm64see weekly results here
Package 71/183HostnameOS / ArchINSTALLBUILDCHECKBUILD BIN
FilterFFPE 1.10.0  (landing page)
Lanying Wei
git_last_commit: acf651f
git_last_commit_date: 2023-04-25 11:22:40 -0400
nebbiolo1Linux (Ubuntu 22.04.2 LTS) / x86_64  OK    OK    OK  UNNEEDED, same version is already published
palomino3Windows Server 2022 Datacenter / x64  OK    OK    OK    OK  UNNEEDED, same version is already published
merida1macOS 12.6.4 Monterey / x86_64  OK    OK    OK    OK  UNNEEDED, same version is already published
kjohnson2macOS 12.6.1 Monterey / arm64see weekly results here
Package 72/183HostnameOS / ArchINSTALLBUILDCHECKBUILD BIN
FLAMES 1.6.0  (landing page)
Oliver Voogd
git_last_commit: 31277b6
git_last_commit_date: 2023-04-25 11:31:20 -0400
nebbiolo1Linux (Ubuntu 22.04.2 LTS) / x86_64  OK    OK    WARNINGS  UNNEEDED, same version is already published
palomino3Windows Server 2022 Datacenter / x64  OK    OK    OK    OK  UNNEEDED, same version is already published
merida1macOS 12.6.4 Monterey / x86_64  OK    OK    WARNINGS    OK  UNNEEDED, same version is already published
kjohnson2macOS 12.6.1 Monterey / arm64see weekly results here
Package 73/183HostnameOS / ArchINSTALLBUILDCHECKBUILD BIN
FRASER 1.12.1  (landing page)
Christian Mertes
git_last_commit: 72d97bf
git_last_commit_date: 2023-05-01 20:07:22 -0400
nebbiolo1Linux (Ubuntu 22.04.2 LTS) / x86_64  OK    OK    OK  UNNEEDED, same version is already published
palomino3Windows Server 2022 Datacenter / x64  OK    OK    OK    OK  UNNEEDED, same version is already published
merida1macOS 12.6.4 Monterey / x86_64  OK    OK    OK    OK  UNNEEDED, same version is already published
kjohnson2macOS 12.6.1 Monterey / arm64see weekly results here
Package 74/183HostnameOS / ArchINSTALLBUILDCHECKBUILD BIN
FunChIP 1.26.0  (landing page)
Alice Parodi
git_last_commit: de91900
git_last_commit_date: 2023-04-25 10:47:22 -0400
nebbiolo1Linux (Ubuntu 22.04.2 LTS) / x86_64  OK    OK    WARNINGS  UNNEEDED, same version is already published
palomino3Windows Server 2022 Datacenter / x64  OK    OK    WARNINGS    OK  UNNEEDED, same version is already published
merida1macOS 12.6.4 Monterey / x86_64  OK    OK    OK    OK  UNNEEDED, same version is already published
kjohnson2macOS 12.6.1 Monterey / arm64see weekly results here
Package 75/183HostnameOS / ArchINSTALLBUILDCHECKBUILD BIN
gcapc 1.24.0  (landing page)
Mingxiang Teng
git_last_commit: e7a1d17
git_last_commit_date: 2023-04-25 10:51:22 -0400
nebbiolo1Linux (Ubuntu 22.04.2 LTS) / x86_64  OK    OK    OK  UNNEEDED, same version is already published
palomino3Windows Server 2022 Datacenter / x64  OK    OK    OK    OK  UNNEEDED, same version is already published
merida1macOS 12.6.4 Monterey / x86_64  OK    OK    OK    OK  UNNEEDED, same version is already published
kjohnson2macOS 12.6.1 Monterey / arm64see weekly results here
Package 76/183HostnameOS / ArchINSTALLBUILDCHECKBUILD BIN
GeneGeneInteR 1.26.0  (landing page)
Mathieu Emily
git_last_commit: df80f33
git_last_commit_date: 2023-04-25 10:48:27 -0400
nebbiolo1Linux (Ubuntu 22.04.2 LTS) / x86_64  OK    OK    OK  UNNEEDED, same version is already published
palomino3Windows Server 2022 Datacenter / x64  OK    OK    OK    OK  UNNEEDED, same version is already published
merida1macOS 12.6.4 Monterey / x86_64  OK    OK    OK    OK  UNNEEDED, same version is already published
kjohnson2macOS 12.6.1 Monterey / arm64see weekly results here
Package 77/183HostnameOS / ArchINSTALLBUILDCHECKBUILD BIN
genomation 1.32.0  (landing page)
Altuna Akalin , Vedran Franke
git_last_commit: f8dc939
git_last_commit_date: 2023-04-25 10:36:42 -0400
nebbiolo1Linux (Ubuntu 22.04.2 LTS) / x86_64  OK    OK    WARNINGS  UNNEEDED, same version is already published
palomino3Windows Server 2022 Datacenter / x64  OK    OK    WARNINGS    OK  UNNEEDED, same version is already published
merida1macOS 12.6.4 Monterey / x86_64  OK    OK    WARNINGS    OK  UNNEEDED, same version is already published
kjohnson2macOS 12.6.1 Monterey / arm64see weekly results here
Package 78/183HostnameOS / ArchINSTALLBUILDCHECKBUILD BIN
GenomicAlignments 1.36.0  (landing page)
Hervé Pagès
git_last_commit: cdc1aa4
git_last_commit_date: 2023-04-25 10:29:36 -0400
nebbiolo1Linux (Ubuntu 22.04.2 LTS) / x86_64  OK    OK    WARNINGS  UNNEEDED, same version is already published
palomino3Windows Server 2022 Datacenter / x64  OK    OK    WARNINGS    OK  UNNEEDED, same version is already published
merida1macOS 12.6.4 Monterey / x86_64  OK    OK    WARNINGS    OK  UNNEEDED, same version is already published
kjohnson2macOS 12.6.1 Monterey / arm64see weekly results here
Package 79/183HostnameOS / ArchINSTALLBUILDCHECKBUILD BIN
GenomicFiles 1.36.0  (landing page)
Bioconductor Package Maintainer
git_last_commit: 8697b9a
git_last_commit_date: 2023-04-25 10:31:49 -0400
nebbiolo1Linux (Ubuntu 22.04.2 LTS) / x86_64  OK    OK    WARNINGS  UNNEEDED, same version is already published
palomino3Windows Server 2022 Datacenter / x64  OK    OK    WARNINGS    OK  UNNEEDED, same version is already published
merida1macOS 12.6.4 Monterey / x86_64  OK    OK    WARNINGS    OK  UNNEEDED, same version is already published
kjohnson2macOS 12.6.1 Monterey / arm64see weekly results here
Package 80/183HostnameOS / ArchINSTALLBUILDCHECKBUILD BIN
GenomicInteractions 1.34.0  (landing page)
Liz Ing-Simmons
git_last_commit: 9f6a4ce
git_last_commit_date: 2023-04-25 10:34:50 -0400
nebbiolo1Linux (Ubuntu 22.04.2 LTS) / x86_64  OK    OK    OK  UNNEEDED, same version is already published
palomino3Windows Server 2022 Datacenter / x64  OK    OK    OK    OK  UNNEEDED, same version is already published
merida1macOS 12.6.4 Monterey / x86_64  OK    OK    OK    OK  UNNEEDED, same version is already published
kjohnson2macOS 12.6.1 Monterey / arm64see weekly results here
Package 81/183HostnameOS / ArchINSTALLBUILDCHECKBUILD BIN
GenVisR 1.32.0  (landing page)
Zachary Skidmore
git_last_commit: 8b1b564
git_last_commit_date: 2023-04-25 10:43:51 -0400
nebbiolo1Linux (Ubuntu 22.04.2 LTS) / x86_64  OK    OK    ERROR  
palomino3Windows Server 2022 Datacenter / x64  OK    OK    ERROR    OK  
merida1macOS 12.6.4 Monterey / x86_64  OK    OK    ERROR    OK  
kjohnson2macOS 12.6.1 Monterey / arm64see weekly results here
Package 82/183HostnameOS / ArchINSTALLBUILDCHECKBUILD BIN
ggbio 1.48.0  (landing page)
Michael Lawrence
git_last_commit: fd4ebca
git_last_commit_date: 2023-04-25 10:21:27 -0400
nebbiolo1Linux (Ubuntu 22.04.2 LTS) / x86_64  OK    OK    WARNINGS  UNNEEDED, same version is already published
palomino3Windows Server 2022 Datacenter / x64  OK    OK    WARNINGS    OK  UNNEEDED, same version is already published
merida1macOS 12.6.4 Monterey / x86_64  OK    OK    WARNINGS    OK  UNNEEDED, same version is already published
kjohnson2macOS 12.6.1 Monterey / arm64see weekly results here
Package 83/183HostnameOS / ArchINSTALLBUILDCHECKBUILD BIN
girafe 1.52.0  (landing page)
J. Toedling
git_last_commit: d07f687
git_last_commit_date: 2023-04-25 09:50:34 -0400
nebbiolo1Linux (Ubuntu 22.04.2 LTS) / x86_64  OK    OK    OK  UNNEEDED, same version is already published
palomino3Windows Server 2022 Datacenter / x64  OK    OK    OK    OK  UNNEEDED, same version is already published
merida1macOS 12.6.4 Monterey / x86_64  OK    OK    OK    OK  UNNEEDED, same version is already published
kjohnson2macOS 12.6.1 Monterey / arm64see weekly results here
Package 84/183HostnameOS / ArchINSTALLBUILDCHECKBUILD BIN
gmapR 1.42.0  (landing page)
Michael Lawrence
git_last_commit: 506bc70
git_last_commit_date: 2023-04-25 10:23:34 -0400
nebbiolo1Linux (Ubuntu 22.04.2 LTS) / x86_64  OK    OK    WARNINGS  UNNEEDED, same version is already published
palomino3Windows Server 2022 Datacenter / x64... NOT SUPPORTED ...
merida1macOS 12.6.4 Monterey / x86_64  ERROR    ERROR  skippedskipped
kjohnson2macOS 12.6.1 Monterey / arm64see weekly results here
Package 85/183HostnameOS / ArchINSTALLBUILDCHECKBUILD BIN
gmoviz 1.12.0  (landing page)
Kathleen Zeglinski
git_last_commit: 3f10d0a
git_last_commit_date: 2023-04-25 11:16:28 -0400
nebbiolo1Linux (Ubuntu 22.04.2 LTS) / x86_64  OK    OK    OK  UNNEEDED, same version is already published
palomino3Windows Server 2022 Datacenter / x64  OK    OK    OK    OK  UNNEEDED, same version is already published
merida1macOS 12.6.4 Monterey / x86_64  OK    OK    OK    OK  UNNEEDED, same version is already published
kjohnson2macOS 12.6.1 Monterey / arm64see weekly results here
Package 86/183HostnameOS / ArchINSTALLBUILDCHECKBUILD BIN
GOTHiC 1.36.0  (landing page)
Borbala Mifsud
git_last_commit: ade51bc
git_last_commit_date: 2023-04-25 11:11:06 -0400
nebbiolo1Linux (Ubuntu 22.04.2 LTS) / x86_64  OK    OK    OK  UNNEEDED, same version is already published
palomino3Windows Server 2022 Datacenter / x64  OK    OK    OK    OK  UNNEEDED, same version is already published
merida1macOS 12.6.4 Monterey / x86_64  OK    OK    OK    OK  UNNEEDED, same version is already published
kjohnson2macOS 12.6.1 Monterey / arm64see weekly results here
Package 87/183HostnameOS / ArchINSTALLBUILDCHECKBUILD BIN
GreyListChIP 1.32.1  (landing page)
Matt Eldridge
git_last_commit: 8ebff15
git_last_commit_date: 2023-08-29 09:42:09 -0400
nebbiolo1Linux (Ubuntu 22.04.2 LTS) / x86_64  OK    OK    OK  UNNEEDED, same version is already published
palomino3Windows Server 2022 Datacenter / x64  OK    OK    OK    OK  UNNEEDED, same version is already published
merida1macOS 12.6.4 Monterey / x86_64  OK    OK    OK    OK  UNNEEDED, same version is already published
kjohnson2macOS 12.6.1 Monterey / arm64see weekly results here
Package 88/183HostnameOS / ArchINSTALLBUILDCHECKBUILD BIN
GUIDEseq 1.30.0  (landing page)
Lihua Julie Zhu
git_last_commit: 3970f96
git_last_commit_date: 2023-04-25 10:42:14 -0400
nebbiolo1Linux (Ubuntu 22.04.2 LTS) / x86_64  OK    OK    OK  UNNEEDED, same version is already published
palomino3Windows Server 2022 Datacenter / x64  OK    OK    OK    OK  UNNEEDED, same version is already published
merida1macOS 12.6.4 Monterey / x86_64  OK    OK    OK    OK  UNNEEDED, same version is already published
kjohnson2macOS 12.6.1 Monterey / arm64see weekly results here
Package 89/183HostnameOS / ArchINSTALLBUILDCHECKBUILD BIN
Gviz 1.44.2  (landing page)
Robert Ivanek
git_last_commit: 846307d
git_last_commit_date: 2023-09-29 05:56:24 -0400
nebbiolo1Linux (Ubuntu 22.04.2 LTS) / x86_64  OK    OK    OK  UNNEEDED, same version is already published
palomino3Windows Server 2022 Datacenter / x64  OK    OK    OK    OK  UNNEEDED, same version is already published
merida1macOS 12.6.4 Monterey / x86_64  OK    OK    OK    OK  UNNEEDED, same version is already published
kjohnson2macOS 12.6.1 Monterey / arm64see weekly results here
Package 90/183HostnameOS / ArchINSTALLBUILDCHECKBUILD BIN
h5vc 2.34.0  (landing page)
Paul Theodor Pyl
git_last_commit: 9324f25
git_last_commit_date: 2023-04-25 10:29:31 -0400
nebbiolo1Linux (Ubuntu 22.04.2 LTS) / x86_64  OK    OK    WARNINGS  UNNEEDED, same version is already published
palomino3Windows Server 2022 Datacenter / x64  OK    OK    WARNINGS    OK  UNNEEDED, same version is already published
merida1macOS 12.6.4 Monterey / x86_64  OK    OK    WARNINGS    OK  UNNEEDED, same version is already published
kjohnson2macOS 12.6.1 Monterey / arm64see weekly results here
Package 91/183HostnameOS / ArchINSTALLBUILDCHECKBUILD BIN
HelloRanges 1.26.0  (landing page)
Michael Lawrence
git_last_commit: a20611c
git_last_commit_date: 2023-04-25 10:50:31 -0400
nebbiolo1Linux (Ubuntu 22.04.2 LTS) / x86_64  OK    ERROR  skipped
palomino3Windows Server 2022 Datacenter / x64  OK    OK    OK    OK  UNNEEDED, same version is already published
merida1macOS 12.6.4 Monterey / x86_64  OK    OK    OK    OK  UNNEEDED, same version is already published
kjohnson2macOS 12.6.1 Monterey / arm64see weekly results here
Package 92/183HostnameOS / ArchINSTALLBUILDCHECKBUILD BIN
HTSeqGenie 4.30.0  (landing page)
Jens Reeder
git_last_commit: 27e3630
git_last_commit_date: 2023-04-25 10:24:28 -0400
nebbiolo1Linux (Ubuntu 22.04.2 LTS) / x86_64  OK    OK    ERROR  
palomino3Windows Server 2022 Datacenter / x64... NOT SUPPORTED ...
merida1macOS 12.6.4 Monterey / x86_64... NOT SUPPORTED ...
kjohnson2macOS 12.6.1 Monterey / arm64see weekly results here
Package 93/183HostnameOS / ArchINSTALLBUILDCHECKBUILD BIN
icetea 1.18.1  (landing page)
Vivek Bhardwaj
git_last_commit: 234416f
git_last_commit_date: 2023-06-27 10:02:59 -0400
nebbiolo1Linux (Ubuntu 22.04.2 LTS) / x86_64  OK    OK    WARNINGS  UNNEEDED, same version is already published
palomino3Windows Server 2022 Datacenter / x64  OK    OK    WARNINGS    OK  UNNEEDED, same version is already published
merida1macOS 12.6.4 Monterey / x86_64  OK    OK    WARNINGS    OK  UNNEEDED, same version is already published
kjohnson2macOS 12.6.1 Monterey / arm64see weekly results here
Package 94/183HostnameOS / ArchINSTALLBUILDCHECKBUILD BIN
IMAS 1.24.0  (landing page)
Seonggyun Han
git_last_commit: 2a5c9ed
git_last_commit_date: 2023-04-25 10:53:46 -0400
nebbiolo1Linux (Ubuntu 22.04.2 LTS) / x86_64  OK    OK    OK  UNNEEDED, same version is already published
palomino3Windows Server 2022 Datacenter / x64  OK    OK    OK    OK  UNNEEDED, same version is already published
merida1macOS 12.6.4 Monterey / x86_64  OK    OK    OK    OK  UNNEEDED, same version is already published
kjohnson2macOS 12.6.1 Monterey / arm64see weekly results here
Package 95/183HostnameOS / ArchINSTALLBUILDCHECKBUILD BIN
INSPEcT 1.30.0  (landing page)
Stefano de Pretis
git_last_commit: d98fcb7
git_last_commit_date: 2023-04-25 10:40:18 -0400
nebbiolo1Linux (Ubuntu 22.04.2 LTS) / x86_64  OK    OK    OK  UNNEEDED, same version is already published
palomino3Windows Server 2022 Datacenter / x64  OK    OK    OK    OK  UNNEEDED, same version is already published
merida1macOS 12.6.4 Monterey / x86_64  OK    OK    OK    OK  UNNEEDED, same version is already published
kjohnson2macOS 12.6.1 Monterey / arm64see weekly results here
Package 96/183HostnameOS / ArchINSTALLBUILDCHECKBUILD BIN
IntEREst 1.24.0  (landing page)
Ali Oghabian , Mikko Frilander
git_last_commit: 6d87a26
git_last_commit_date: 2023-04-25 10:52:53 -0400
nebbiolo1Linux (Ubuntu 22.04.2 LTS) / x86_64  OK    OK    OK  UNNEEDED, same version is already published
palomino3Windows Server 2022 Datacenter / x64  OK    OK    OK    OK  UNNEEDED, same version is already published
merida1macOS 12.6.4 Monterey / x86_64  OK    OK    OK    OK  UNNEEDED, same version is already published
kjohnson2macOS 12.6.1 Monterey / arm64see weekly results here
Package 97/183HostnameOS / ArchINSTALLBUILDCHECKBUILD BIN
karyoploteR 1.26.0  (landing page)
Bernat Gel
git_last_commit: 473f8eb
git_last_commit_date: 2023-04-25 10:52:09 -0400
nebbiolo1Linux (Ubuntu 22.04.2 LTS) / x86_64  OK    OK    OK  UNNEEDED, same version is already published
palomino3Windows Server 2022 Datacenter / x64  OK    OK    OK    OK  UNNEEDED, same version is already published
merida1macOS 12.6.4 Monterey / x86_64  OK    OK    OK    OK  UNNEEDED, same version is already published
kjohnson2macOS 12.6.1 Monterey / arm64see weekly results here
Package 98/183HostnameOS / ArchINSTALLBUILDCHECKBUILD BIN
MADSEQ 1.26.0  (landing page)
Yu Kong
git_last_commit: 8105206
git_last_commit_date: 2023-04-25 10:47:27 -0400
nebbiolo1Linux (Ubuntu 22.04.2 LTS) / x86_64  OK    OK    OK  UNNEEDED, same version is already published
palomino3Windows Server 2022 Datacenter / x64  OK    OK    OK    OK  UNNEEDED, same version is already published
merida1macOS 12.6.4 Monterey / x86_64  OK    OK    OK    OK  UNNEEDED, same version is already published
kjohnson2macOS 12.6.1 Monterey / arm64see weekly results here
Package 99/183HostnameOS / ArchINSTALLBUILDCHECKBUILD BIN
magpie 1.0.0  (landing page)
Daoyu Duan
git_last_commit: 6a69484
git_last_commit_date: 2023-04-25 11:43:24 -0400
nebbiolo1Linux (Ubuntu 22.04.2 LTS) / x86_64  OK    OK    OK  UNNEEDED, same version is already published
palomino3Windows Server 2022 Datacenter / x64  OK    OK    OK    OK  UNNEEDED, same version is already published
merida1macOS 12.6.4 Monterey / x86_64  OK    OK    OK    OK  UNNEEDED, same version is already published
kjohnson2macOS 12.6.1 Monterey / arm64see weekly results here
Package 100/183HostnameOS / ArchINSTALLBUILDCHECKBUILD BIN
MDTS 1.20.0  (landing page)
Jack M.. Fu
git_last_commit: 61a202d
git_last_commit_date: 2023-04-25 10:59:51 -0400
nebbiolo1Linux (Ubuntu 22.04.2 LTS) / x86_64  OK    OK    OK  UNNEEDED, same version is already published
palomino3Windows Server 2022 Datacenter / x64  OK    OK    OK    OK  UNNEEDED, same version is already published
merida1macOS 12.6.4 Monterey / x86_64  OK    OK    OK    OK  UNNEEDED, same version is already published
kjohnson2macOS 12.6.1 Monterey / arm64see weekly results here
Package 101/183HostnameOS / ArchINSTALLBUILDCHECKBUILD BIN
MEDIPS 1.52.0  (landing page)
Lukas Chavez
git_last_commit: 435df87
git_last_commit_date: 2023-04-25 10:18:20 -0400
nebbiolo1Linux (Ubuntu 22.04.2 LTS) / x86_64  OK    OK    OK  UNNEEDED, same version is already published
palomino3Windows Server 2022 Datacenter / x64  OK    OK    OK    OK  UNNEEDED, same version is already published
merida1macOS 12.6.4 Monterey / x86_64  OK    OK    OK    OK  UNNEEDED, same version is already published
kjohnson2macOS 12.6.1 Monterey / arm64see weekly results here
Package 102/183HostnameOS / ArchINSTALLBUILDCHECKBUILD BIN
metagene 2.32.0  (landing page)
Charles Joly Beauparlant
git_last_commit: db86b4a
git_last_commit_date: 2023-04-25 10:33:38 -0400
nebbiolo1Linux (Ubuntu 22.04.2 LTS) / x86_64  OK    OK    ERROR  
palomino3Windows Server 2022 Datacenter / x64  OK    OK    WARNINGS    OK  UNNEEDED, same version is already published
merida1macOS 12.6.4 Monterey / x86_64  OK    OK    ERROR    OK  
kjohnson2macOS 12.6.1 Monterey / arm64see weekly results here
Package 103/183HostnameOS / ArchINSTALLBUILDCHECKBUILD BIN
metagene2 1.16.0  (landing page)
Eric Fournier
git_last_commit: f0a5b2c
git_last_commit_date: 2023-04-25 11:10:10 -0400
nebbiolo1Linux (Ubuntu 22.04.2 LTS) / x86_64  OK    OK    WARNINGS  UNNEEDED, same version is already published
palomino3Windows Server 2022 Datacenter / x64  OK    OK    WARNINGS    OK  UNNEEDED, same version is already published
merida1macOS 12.6.4 Monterey / x86_64  OK    OK    WARNINGS    OK  UNNEEDED, same version is already published
kjohnson2macOS 12.6.1 Monterey / arm64see weekly results here
Package 104/183HostnameOS / ArchINSTALLBUILDCHECKBUILD BIN
metaseqR2 1.12.0  (landing page)
Panagiotis Moulos
git_last_commit: c37a5a4
git_last_commit_date: 2023-04-25 11:18:06 -0400
nebbiolo1Linux (Ubuntu 22.04.2 LTS) / x86_64  OK    OK    OK  NO, package depends on 'baySeq' which is not available
palomino3Windows Server 2022 Datacenter / x64  OK    OK    OK    OK  NO, package depends on 'baySeq' which is not available
merida1macOS 12.6.4 Monterey / x86_64  OK    OK    OK    OK  NO, package depends on 'baySeq' which is not available
kjohnson2macOS 12.6.1 Monterey / arm64see weekly results here
Package 105/183HostnameOS / ArchINSTALLBUILDCHECKBUILD BIN
methylKit 1.26.0  (landing page)
Altuna Akalin , Alexander Gosdschan
git_last_commit: a15614f
git_last_commit_date: 2023-04-25 10:48:14 -0400
nebbiolo1Linux (Ubuntu 22.04.2 LTS) / x86_64  OK    OK    WARNINGS  UNNEEDED, same version is already published
palomino3Windows Server 2022 Datacenter / x64  OK    OK    WARNINGS    OK  UNNEEDED, same version is already published
merida1macOS 12.6.4 Monterey / x86_64  OK    OK    WARNINGS    OK  UNNEEDED, same version is already published
kjohnson2macOS 12.6.1 Monterey / arm64see weekly results here
Package 106/183HostnameOS / ArchINSTALLBUILDCHECKBUILD BIN
methylPipe 1.34.1  (landing page)
Mattia Furlan
git_last_commit: 3fd2516
git_last_commit_date: 2023-06-12 08:15:24 -0400
nebbiolo1Linux (Ubuntu 22.04.2 LTS) / x86_64  OK    OK    WARNINGS  UNNEEDED, same version is already published
palomino3Windows Server 2022 Datacenter / x64  OK    OK    WARNINGS    OK  UNNEEDED, same version is already published
merida1macOS 12.6.4 Monterey / x86_64  OK    OK    WARNINGS    OK  UNNEEDED, same version is already published
kjohnson2macOS 12.6.1 Monterey / arm64see weekly results here
Package 107/183HostnameOS / ArchINSTALLBUILDCHECKBUILD BIN
MMAPPR2 1.14.0  (landing page)
Jonathon Hill
git_last_commit: d534509
git_last_commit_date: 2023-04-25 11:10:54 -0400
nebbiolo1Linux (Ubuntu 22.04.2 LTS) / x86_64  OK    OK    OK  UNNEEDED, same version is already published
palomino3Windows Server 2022 Datacenter / x64... NOT SUPPORTED ...
merida1macOS 12.6.4 Monterey / x86_64  ERROR    ERROR  skippedskipped
kjohnson2macOS 12.6.1 Monterey / arm64see weekly results here
Package 108/183HostnameOS / ArchINSTALLBUILDCHECKBUILD BIN
MMDiff2 1.28.0  (landing page)
Gabriele Schweikert
git_last_commit: c860c9b
git_last_commit_date: 2023-04-25 10:46:55 -0400
nebbiolo1Linux (Ubuntu 22.04.2 LTS) / x86_64  OK    OK    OK  UNNEEDED, same version is already published
palomino3Windows Server 2022 Datacenter / x64  OK    OK    WARNINGS    OK  UNNEEDED, same version is already published
merida1macOS 12.6.4 Monterey / x86_64  OK    OK    OK    OK  UNNEEDED, same version is already published
kjohnson2macOS 12.6.1 Monterey / arm64see weekly results here
Package 109/183HostnameOS / ArchINSTALLBUILDCHECKBUILD BIN
mosaics 2.38.0  (landing page)
Dongjun Chung
git_last_commit: df7626d
git_last_commit_date: 2023-04-25 10:18:47 -0400
nebbiolo1Linux (Ubuntu 22.04.2 LTS) / x86_64  OK    OK    OK  UNNEEDED, same version is already published
palomino3Windows Server 2022 Datacenter / x64  OK    OK    OK    OK  UNNEEDED, same version is already published
merida1macOS 12.6.4 Monterey / x86_64  OK    OK    OK    OK  UNNEEDED, same version is already published
kjohnson2macOS 12.6.1 Monterey / arm64see weekly results here
Package 110/183HostnameOS / ArchINSTALLBUILDCHECKBUILD BIN
motifmatchr 1.22.0  (landing page)
Alicia Schep
git_last_commit: e765b1d
git_last_commit_date: 2023-04-25 10:54:35 -0400
nebbiolo1Linux (Ubuntu 22.04.2 LTS) / x86_64  OK    OK    OK  UNNEEDED, same version is already published
palomino3Windows Server 2022 Datacenter / x64  OK    OK    OK    OK  UNNEEDED, same version is already published
merida1macOS 12.6.4 Monterey / x86_64  OK    OK    OK    OK  UNNEEDED, same version is already published
kjohnson2macOS 12.6.1 Monterey / arm64see weekly results here
Package 111/183HostnameOS / ArchINSTALLBUILDCHECKBUILD BIN
msgbsR 1.24.0  (landing page)
Benjamin Mayne
git_last_commit: c8508d3
git_last_commit_date: 2023-04-25 10:54:20 -0400
nebbiolo1Linux (Ubuntu 22.04.2 LTS) / x86_64  OK    OK    OK  UNNEEDED, same version is already published
palomino3Windows Server 2022 Datacenter / x64  OK    OK    OK    OK  UNNEEDED, same version is already published
merida1macOS 12.6.4 Monterey / x86_64  OK    OK    OK    OK  UNNEEDED, same version is already published
kjohnson2macOS 12.6.1 Monterey / arm64see weekly results here
Package 112/183HostnameOS / ArchINSTALLBUILDCHECKBUILD BIN
NADfinder 1.24.0  (landing page)
Jianhong Ou
git_last_commit: eb65d7f
git_last_commit_date: 2023-04-25 10:53:25 -0400
nebbiolo1Linux (Ubuntu 22.04.2 LTS) / x86_64  OK    OK    OK  UNNEEDED, same version is already published
palomino3Windows Server 2022 Datacenter / x64  OK    OK    OK    OK  UNNEEDED, same version is already published
merida1macOS 12.6.4 Monterey / x86_64  OK    OK    OK    OK  UNNEEDED, same version is already published
kjohnson2macOS 12.6.1 Monterey / arm64see weekly results here
Package 113/183HostnameOS / ArchINSTALLBUILDCHECKBUILD BIN
NanoMethViz 2.6.0  (landing page)
Shian Su
git_last_commit: 6c72058
git_last_commit_date: 2023-04-25 11:24:26 -0400
nebbiolo1Linux (Ubuntu 22.04.2 LTS) / x86_64  OK    OK    OK  UNNEEDED, same version is already published
palomino3Windows Server 2022 Datacenter / x64  OK    OK    OK    OK  UNNEEDED, same version is already published
merida1macOS 12.6.4 Monterey / x86_64  OK    ERROR  skippedskipped
kjohnson2macOS 12.6.1 Monterey / arm64see weekly results here
Package 114/183HostnameOS / ArchINSTALLBUILDCHECKBUILD BIN
nearBynding 1.10.0  (landing page)
Veronica Busa
git_last_commit: 6367769
git_last_commit_date: 2023-04-25 11:22:45 -0400
nebbiolo1Linux (Ubuntu 22.04.2 LTS) / x86_64  OK    OK    OK  UNNEEDED, same version is already published
palomino3Windows Server 2022 Datacenter / x64  OK    OK    OK    OK  UNNEEDED, same version is already published
merida1macOS 12.6.4 Monterey / x86_64  OK    OK    OK    OK  UNNEEDED, same version is already published
kjohnson2macOS 12.6.1 Monterey / arm64see weekly results here
Package 115/183HostnameOS / ArchINSTALLBUILDCHECKBUILD BIN
nucleR 2.32.0  (landing page)
Alba Sala
git_last_commit: fbbd6e9
git_last_commit_date: 2023-04-25 10:20:23 -0400
nebbiolo1Linux (Ubuntu 22.04.2 LTS) / x86_64  OK    OK    WARNINGS  UNNEEDED, same version is already published
palomino3Windows Server 2022 Datacenter / x64  OK    OK    WARNINGS    OK  UNNEEDED, same version is already published
merida1macOS 12.6.4 Monterey / x86_64  OK    OK    WARNINGS    OK  UNNEEDED, same version is already published
kjohnson2macOS 12.6.1 Monterey / arm64see weekly results here
Package 116/183HostnameOS / ArchINSTALLBUILDCHECKBUILD BIN
ORFik 1.20.2  (landing page)
Haakon Tjeldnes
git_last_commit: 2536088
git_last_commit_date: 2023-08-09 05:14:15 -0400
nebbiolo1Linux (Ubuntu 22.04.2 LTS) / x86_64  OK    OK    OK  UNNEEDED, same version is already published
palomino3Windows Server 2022 Datacenter / x64  OK    ERROR  skippedskipped
merida1macOS 12.6.4 Monterey / x86_64  OK    OK    OK    OK  UNNEEDED, same version is already published
kjohnson2macOS 12.6.1 Monterey / arm64see weekly results here
Package 117/183HostnameOS / ArchINSTALLBUILDCHECKBUILD BIN
panelcn.mops 1.22.0  (landing page)
Gundula Povysil
git_last_commit: df2ce2b
git_last_commit_date: 2023-04-25 10:56:44 -0400
nebbiolo1Linux (Ubuntu 22.04.2 LTS) / x86_64  OK    OK    OK  UNNEEDED, same version is already published
palomino3Windows Server 2022 Datacenter / x64  OK    OK    OK    OK  UNNEEDED, same version is already published
merida1macOS 12.6.4 Monterey / x86_64  OK    OK    OK    OK  UNNEEDED, same version is already published
kjohnson2macOS 12.6.1 Monterey / arm64see weekly results here
Package 118/183HostnameOS / ArchINSTALLBUILDCHECKBUILD BIN
PICS 2.44.0  (landing page)
Renan Sauteraud
git_last_commit: b6a12cc
git_last_commit_date: 2023-04-25 09:50:48 -0400
nebbiolo1Linux (Ubuntu 22.04.2 LTS) / x86_64  OK    OK    OK  UNNEEDED, same version is already published
palomino3Windows Server 2022 Datacenter / x64  OK    OK    OK    OK  UNNEEDED, same version is already published
merida1macOS 12.6.4 Monterey / x86_64  OK    OK    OK    OK  UNNEEDED, same version is already published
kjohnson2macOS 12.6.1 Monterey / arm64see weekly results here
Package 119/183HostnameOS / ArchINSTALLBUILDCHECKBUILD BIN
plyranges 1.20.0  (landing page)
Stuart Lee
git_last_commit: dd4c068
git_last_commit_date: 2023-04-25 11:00:35 -0400
nebbiolo1Linux (Ubuntu 22.04.2 LTS) / x86_64  OK    OK    WARNINGS  UNNEEDED, same version is already published
palomino3Windows Server 2022 Datacenter / x64  OK    OK    WARNINGS    OK  UNNEEDED, same version is already published
merida1macOS 12.6.4 Monterey / x86_64  OK    OK    WARNINGS    OK  UNNEEDED, same version is already published
kjohnson2macOS 12.6.1 Monterey / arm64see weekly results here
Package 120/183HostnameOS / ArchINSTALLBUILDCHECKBUILD BIN
podkat 1.32.0  (landing page)
Ulrich Bodenhofer
git_last_commit: 68a149b
git_last_commit_date: 2023-04-25 10:38:38 -0400
nebbiolo1Linux (Ubuntu 22.04.2 LTS) / x86_64  OK    OK    WARNINGS  UNNEEDED, same version is already published
palomino3Windows Server 2022 Datacenter / x64  OK    OK    OK    OK  UNNEEDED, same version is already published
merida1macOS 12.6.4 Monterey / x86_64  OK    OK    WARNINGS    OK  UNNEEDED, same version is already published
kjohnson2macOS 12.6.1 Monterey / arm64see weekly results here
Package 121/183HostnameOS / ArchINSTALLBUILDCHECKBUILD BIN
pram 1.16.0  (landing page)
Peng Liu
git_last_commit: b641349
git_last_commit_date: 2023-04-25 11:08:29 -0400
nebbiolo1Linux (Ubuntu 22.04.2 LTS) / x86_64  OK    OK    OK  UNNEEDED, same version is already published
palomino3Windows Server 2022 Datacenter / x64  OK    OK    OK    OK  UNNEEDED, same version is already published
merida1macOS 12.6.4 Monterey / x86_64  OK    OK    OK    OK  UNNEEDED, same version is already published
kjohnson2macOS 12.6.1 Monterey / arm64see weekly results here
Package 122/183HostnameOS / ArchINSTALLBUILDCHECKBUILD BIN
profileplyr 1.16.0  (landing page)
Tom Carroll , Doug Barrows
git_last_commit: ec48684
git_last_commit_date: 2023-04-25 11:09:25 -0400
nebbiolo1Linux (Ubuntu 22.04.2 LTS) / x86_64  OK    OK    OK  UNNEEDED, same version is already published
palomino3Windows Server 2022 Datacenter / x64  OK    OK    OK    OK  UNNEEDED, same version is already published
merida1macOS 12.6.4 Monterey / x86_64  OK    OK    OK    OK  UNNEEDED, same version is already published
kjohnson2macOS 12.6.1 Monterey / arm64see weekly results here
Package 123/183HostnameOS / ArchINSTALLBUILDCHECKBUILD BIN
PureCN 2.6.4  (landing page)
Markus Riester
git_last_commit: efeb6db
git_last_commit_date: 2023-06-20 11:03:31 -0400
nebbiolo1Linux (Ubuntu 22.04.2 LTS) / x86_64  OK    OK    OK  UNNEEDED, same version is already published
palomino3Windows Server 2022 Datacenter / x64  OK    OK    OK    OK  UNNEEDED, same version is already published
merida1macOS 12.6.4 Monterey / x86_64  OK    OK    TIMEOUT    OK  
kjohnson2macOS 12.6.1 Monterey / arm64see weekly results here
Package 124/183HostnameOS / ArchINSTALLBUILDCHECKBUILD BIN
QDNAseq 1.36.0  (landing page)
Daoud Sie
git_last_commit: 22a474f
git_last_commit_date: 2023-04-25 10:30:57 -0400
nebbiolo1Linux (Ubuntu 22.04.2 LTS) / x86_64  OK    OK    OK  UNNEEDED, same version is already published
palomino3Windows Server 2022 Datacenter / x64  OK    ERROR  skippedskipped
merida1macOS 12.6.4 Monterey / x86_64  OK    OK    OK    OK  UNNEEDED, same version is already published
kjohnson2macOS 12.6.1 Monterey / arm64see weekly results here
Package 125/183HostnameOS / ArchINSTALLBUILDCHECKBUILD BIN
qsea 1.26.0  (landing page)
Matthias Lienhard
git_last_commit: 5307dd6
git_last_commit_date: 2023-04-25 10:47:53 -0400
nebbiolo1Linux (Ubuntu 22.04.2 LTS) / x86_64  OK    OK    OK  UNNEEDED, same version is already published
palomino3Windows Server 2022 Datacenter / x64  OK    OK    OK    OK  UNNEEDED, same version is already published
merida1macOS 12.6.4 Monterey / x86_64  OK    OK    OK    OK  UNNEEDED, same version is already published
kjohnson2macOS 12.6.1 Monterey / arm64see weekly results here
Package 126/183HostnameOS / ArchINSTALLBUILDCHECKBUILD BIN
QuasR 1.40.1  (landing page)
Michael Stadler
git_last_commit: ededf94
git_last_commit_date: 2023-06-14 02:04:10 -0400
nebbiolo1Linux (Ubuntu 22.04.2 LTS) / x86_64  OK    OK    WARNINGS  UNNEEDED, same version is already published
palomino3Windows Server 2022 Datacenter / x64  OK    OK    OK    OK  UNNEEDED, same version is already published
merida1macOS 12.6.4 Monterey / x86_64  OK    OK    WARNINGS    OK  UNNEEDED, same version is already published
kjohnson2macOS 12.6.1 Monterey / arm64see weekly results here
Package 127/183HostnameOS / ArchINSTALLBUILDCHECKBUILD BIN
r3Cseq 1.46.0  (landing page)
Supat Thongjuea or
git_last_commit: 8f392a0
git_last_commit_date: 2023-04-25 10:21:25 -0400
nebbiolo1Linux (Ubuntu 22.04.2 LTS) / x86_64  OK    OK    OK  UNNEEDED, same version is already published
palomino3Windows Server 2022 Datacenter / x64  OK    OK    OK    OK  UNNEEDED, same version is already published
merida1macOS 12.6.4 Monterey / x86_64  OK    OK    OK    OK  UNNEEDED, same version is already published
kjohnson2macOS 12.6.1 Monterey / arm64see weekly results here
Package 128/183HostnameOS / ArchINSTALLBUILDCHECKBUILD BIN
R453Plus1Toolbox 1.50.0  (landing page)
Hans-Ulrich Klein
git_last_commit: 4064694
git_last_commit_date: 2023-04-25 10:18:15 -0400
nebbiolo1Linux (Ubuntu 22.04.2 LTS) / x86_64  OK    OK    OK  UNNEEDED, same version is already published
palomino3Windows Server 2022 Datacenter / x64  OK    OK    OK    OK  UNNEEDED, same version is already published
merida1macOS 12.6.4 Monterey / x86_64  OK    OK    OK    OK  UNNEEDED, same version is already published
kjohnson2macOS 12.6.1 Monterey / arm64see weekly results here
Package 129/183HostnameOS / ArchINSTALLBUILDCHECKBUILD BIN
ramwas 1.24.0  (landing page)
Andrey A Shabalin
git_last_commit: e459b3f
git_last_commit_date: 2023-04-25 10:51:33 -0400
nebbiolo1Linux (Ubuntu 22.04.2 LTS) / x86_64  OK    OK    OK  UNNEEDED, same version is already published
palomino3Windows Server 2022 Datacenter / x64  OK    OK    OK    OK  UNNEEDED, same version is already published
merida1macOS 12.6.4 Monterey / x86_64  OK    OK    OK    OK  UNNEEDED, same version is already published
kjohnson2macOS 12.6.1 Monterey / arm64see weekly results here
Package 130/183HostnameOS / ArchINSTALLBUILDCHECKBUILD BIN
Rbowtie2 2.6.0  (landing page)
Zheng Wei
git_last_commit: 8c4882b
git_last_commit_date: 2023-04-25 10:56:11 -0400
nebbiolo1Linux (Ubuntu 22.04.2 LTS) / x86_64  OK    OK    OK  UNNEEDED, same version is already published
palomino3Windows Server 2022 Datacenter / x64  OK    OK    OK    OK  UNNEEDED, same version is already published
merida1macOS 12.6.4 Monterey / x86_64  OK    OK    OK    OK  UNNEEDED, same version is already published
kjohnson2macOS 12.6.1 Monterey / arm64see weekly results here
Package 131/183HostnameOS / ArchINSTALLBUILDCHECKBUILD BIN
recoup 1.28.0  (landing page)
Panagiotis Moulos
git_last_commit: 8dc164c
git_last_commit_date: 2023-04-25 10:45:35 -0400
nebbiolo1Linux (Ubuntu 22.04.2 LTS) / x86_64  OK    OK    OK  UNNEEDED, same version is already published
palomino3Windows Server 2022 Datacenter / x64  OK    OK    OK    OK  UNNEEDED, same version is already published
merida1macOS 12.6.4 Monterey / x86_64  OK    OK    OK    OK  UNNEEDED, same version is already published
kjohnson2macOS 12.6.1 Monterey / arm64see weekly results here
Package 132/183HostnameOS / ArchINSTALLBUILDCHECKBUILD BIN
Repitools 1.46.0  (landing page)
Mark Robinson
git_last_commit: 6aa2b27
git_last_commit_date: 2023-04-25 10:20:10 -0400
nebbiolo1Linux (Ubuntu 22.04.2 LTS) / x86_64  OK    OK    WARNINGS  UNNEEDED, same version is already published
palomino3Windows Server 2022 Datacenter / x64  OK    OK    WARNINGS    OK  UNNEEDED, same version is already published
merida1macOS 12.6.4 Monterey / x86_64  OK    OK    WARNINGS    OK  UNNEEDED, same version is already published
kjohnson2macOS 12.6.1 Monterey / arm64see weekly results here
Package 133/183HostnameOS / ArchINSTALLBUILDCHECKBUILD BIN
RepViz 1.16.0  (landing page)
Thomas Faux, Asta Laiho
git_last_commit: e30b36d
git_last_commit_date: 2023-04-25 11:09:36 -0400
nebbiolo1Linux (Ubuntu 22.04.2 LTS) / x86_64  OK    OK    WARNINGS  UNNEEDED, same version is already published
palomino3Windows Server 2022 Datacenter / x64  OK    OK    WARNINGS    OK  UNNEEDED, same version is already published
merida1macOS 12.6.4 Monterey / x86_64  OK    OK    WARNINGS    OK  UNNEEDED, same version is already published
kjohnson2macOS 12.6.1 Monterey / arm64see weekly results here
Package 134/183HostnameOS / ArchINSTALLBUILDCHECKBUILD BIN
ReQON 1.46.0  (landing page)
Christopher Cabanski
git_last_commit: b39e00f
git_last_commit_date: 2023-04-25 10:21:35 -0400
nebbiolo1Linux (Ubuntu 22.04.2 LTS) / x86_64  OK    OK    OK  UNNEEDED, same version is already published
palomino3Windows Server 2022 Datacenter / x64  OK    OK    OK    OK  UNNEEDED, same version is already published
merida1macOS 12.6.4 Monterey / x86_64  ERROR    ERROR  skippedskipped
kjohnson2macOS 12.6.1 Monterey / arm64see weekly results here
Package 135/183HostnameOS / ArchINSTALLBUILDCHECKBUILD BIN
rfPred 1.38.0  (landing page)
Hugo Varet
git_last_commit: 0fe0002
git_last_commit_date: 2023-04-25 10:28:07 -0400
nebbiolo1Linux (Ubuntu 22.04.2 LTS) / x86_64  OK    OK    OK  UNNEEDED, same version is already published
palomino3Windows Server 2022 Datacenter / x64  OK    OK    OK    OK  UNNEEDED, same version is already published
merida1macOS 12.6.4 Monterey / x86_64  OK    OK    OK    OK  UNNEEDED, same version is already published
kjohnson2macOS 12.6.1 Monterey / arm64see weekly results here
Package 136/183HostnameOS / ArchINSTALLBUILDCHECKBUILD BIN
RiboDiPA 1.8.0  (landing page)
Ji-Ping Wang
git_last_commit: 49cff9b
git_last_commit_date: 2023-04-25 11:26:15 -0400
nebbiolo1Linux (Ubuntu 22.04.2 LTS) / x86_64  OK    OK    OK  UNNEEDED, same version is already published
palomino3Windows Server 2022 Datacenter / x64  OK    OK    OK    OK  UNNEEDED, same version is already published
merida1macOS 12.6.4 Monterey / x86_64  OK    OK    OK    OK  UNNEEDED, same version is already published
kjohnson2macOS 12.6.1 Monterey / arm64see weekly results here
Package 137/183HostnameOS / ArchINSTALLBUILDCHECKBUILD BIN
RiboProfiling 1.30.0  (landing page)
A. Popa
git_last_commit: 8eb9915
git_last_commit_date: 2023-04-25 10:42:20 -0400
nebbiolo1Linux (Ubuntu 22.04.2 LTS) / x86_64  OK    OK    WARNINGS  UNNEEDED, same version is already published
palomino3Windows Server 2022 Datacenter / x64  OK    OK    WARNINGS    OK  UNNEEDED, same version is already published
merida1macOS 12.6.4 Monterey / x86_64  OK    OK    WARNINGS    OK  UNNEEDED, same version is already published
kjohnson2macOS 12.6.1 Monterey / arm64see weekly results here
Package 138/183HostnameOS / ArchINSTALLBUILDCHECKBUILD BIN
riboSeqR 1.34.0  (landing page)
Thomas J. Hardcastle
git_last_commit: bd04e8d
git_last_commit_date: 2023-04-25 10:32:48 -0400
nebbiolo1Linux (Ubuntu 22.04.2 LTS) / x86_64  OK    OK    OK  NO, package depends on 'baySeq' which is not available
palomino3Windows Server 2022 Datacenter / x64  OK    OK    OK    OK  NO, package depends on 'baySeq' which is not available
merida1macOS 12.6.4 Monterey / x86_64  OK    OK    OK    OK  NO, package depends on 'baySeq' which is not available
kjohnson2macOS 12.6.1 Monterey / arm64see weekly results here
Package 139/183HostnameOS / ArchINSTALLBUILDCHECKBUILD BIN
ribosomeProfilingQC 1.12.0  (landing page)
Jianhong Ou
git_last_commit: 98f155b
git_last_commit_date: 2023-04-25 11:15:39 -0400
nebbiolo1Linux (Ubuntu 22.04.2 LTS) / x86_64  OK    OK    OK  UNNEEDED, same version is already published
palomino3Windows Server 2022 Datacenter / x64  OK    OK    OK    OK  UNNEEDED, same version is already published
merida1macOS 12.6.4 Monterey / x86_64  OK    OK    OK    OK  UNNEEDED, same version is already published
kjohnson2macOS 12.6.1 Monterey / arm64see weekly results here
Package 140/183HostnameOS / ArchINSTALLBUILDCHECKBUILD BIN
RNAmodR 1.14.0  (landing page)
Felix G.M. Ernst
git_last_commit: d86ff27
git_last_commit_date: 2023-04-25 11:10:45 -0400
nebbiolo1Linux (Ubuntu 22.04.2 LTS) / x86_64  OK    OK    OK  UNNEEDED, same version is already published
palomino3Windows Server 2022 Datacenter / x64  OK    OK    OK    OK  UNNEEDED, same version is already published
merida1macOS 12.6.4 Monterey / x86_64  OK    OK    OK    OK  UNNEEDED, same version is already published
kjohnson2macOS 12.6.1 Monterey / arm64see weekly results here
Package 141/183HostnameOS / ArchINSTALLBUILDCHECKBUILD BIN
Rqc 1.34.0  (landing page)
Welliton Souza
git_last_commit: 3339609
git_last_commit_date: 2023-04-25 10:36:13 -0400
nebbiolo1Linux (Ubuntu 22.04.2 LTS) / x86_64  OK    OK    OK  UNNEEDED, same version is already published
palomino3Windows Server 2022 Datacenter / x64  OK    OK    OK    OK  UNNEEDED, same version is already published
merida1macOS 12.6.4 Monterey / x86_64  OK    OK    OK    OK  UNNEEDED, same version is already published
kjohnson2macOS 12.6.1 Monterey / arm64see weekly results here
Package 142/183HostnameOS / ArchINSTALLBUILDCHECKBUILD BIN
rtracklayer 1.60.1  (landing page)
Michael Lawrence
git_last_commit: 55c0c7a
git_last_commit_date: 2023-08-14 18:18:38 -0400
nebbiolo1Linux (Ubuntu 22.04.2 LTS) / x86_64  OK    OK    WARNINGS  UNNEEDED, same version is already published
palomino3Windows Server 2022 Datacenter / x64  OK    OK    WARNINGS    OK  UNNEEDED, same version is already published
merida1macOS 12.6.4 Monterey / x86_64  OK    OK    WARNINGS    OK  UNNEEDED, same version is already published
kjohnson2macOS 12.6.1 Monterey / arm64see weekly results here
Package 143/183HostnameOS / ArchINSTALLBUILDCHECKBUILD BIN
scDblFinder 1.14.0  (landing page)
Pierre-Luc Germain
git_last_commit: 6191ed0
git_last_commit_date: 2023-04-25 11:13:44 -0400
nebbiolo1Linux (Ubuntu 22.04.2 LTS) / x86_64  OK    OK    OK  UNNEEDED, same version is already published
palomino3Windows Server 2022 Datacenter / x64  OK    OK    OK    OK  UNNEEDED, same version is already published
merida1macOS 12.6.4 Monterey / x86_64  OK    OK    OK    OK  UNNEEDED, same version is already published
kjohnson2macOS 12.6.1 Monterey / arm64see weekly results here
Package 144/183HostnameOS / ArchINSTALLBUILDCHECKBUILD BIN
SCOPE 1.12.0  (landing page)
Rujin Wang
git_last_commit: 6af119f
git_last_commit_date: 2023-04-25 11:15:29 -0400
nebbiolo1Linux (Ubuntu 22.04.2 LTS) / x86_64  OK    OK    OK  UNNEEDED, same version is already published
palomino3Windows Server 2022 Datacenter / x64  OK    OK    OK    OK  UNNEEDED, same version is already published
merida1macOS 12.6.4 Monterey / x86_64  OK    OK    OK    OK  UNNEEDED, same version is already published
kjohnson2macOS 12.6.1 Monterey / arm64see weekly results here
Package 145/183HostnameOS / ArchINSTALLBUILDCHECKBUILD BIN
scPipe 2.0.0  (landing page)
Shian Su
git_last_commit: 2d9cb4c
git_last_commit_date: 2023-04-25 10:57:21 -0400
nebbiolo1Linux (Ubuntu 22.04.2 LTS) / x86_64  OK    OK    WARNINGS  UNNEEDED, same version is already published
palomino3Windows Server 2022 Datacenter / x64  OK    OK    WARNINGS    OK  UNNEEDED, same version is already published
merida1macOS 12.6.4 Monterey / x86_64  OK    OK    WARNINGS    OK  UNNEEDED, same version is already published
kjohnson2macOS 12.6.1 Monterey / arm64see weekly results here
Package 146/183HostnameOS / ArchINSTALLBUILDCHECKBUILD BIN
scRNAseqApp 1.0.1  (landing page)
Jianhong Ou
git_last_commit: f30cd71
git_last_commit_date: 2023-04-25 16:05:12 -0400
nebbiolo1Linux (Ubuntu 22.04.2 LTS) / x86_64  OK    OK    OK  UNNEEDED, same version is already published
palomino3Windows Server 2022 Datacenter / x64  OK    OK    OK    OK  UNNEEDED, same version is already published
merida1macOS 12.6.4 Monterey / x86_64  OK    OK    OK    OK  UNNEEDED, same version is already published
kjohnson2macOS 12.6.1 Monterey / arm64see weekly results here
Package 147/183HostnameOS / ArchINSTALLBUILDCHECKBUILD BIN
scruff 1.18.0  (landing page)
Zhe Wang
git_last_commit: fa92a2c
git_last_commit_date: 2023-04-25 11:03:10 -0400
nebbiolo1Linux (Ubuntu 22.04.2 LTS) / x86_64  OK    OK    OK  UNNEEDED, same version is already published
palomino3Windows Server 2022 Datacenter / x64  OK    OK    OK    OK  UNNEEDED, same version is already published
merida1macOS 12.6.4 Monterey / x86_64  OK    OK    OK    OK  UNNEEDED, same version is already published
kjohnson2macOS 12.6.1 Monterey / arm64see weekly results here
Package 148/183HostnameOS / ArchINSTALLBUILDCHECKBUILD BIN
segmentSeq 2.34.0  (landing page)
Thomas J. Hardcastle
git_last_commit: 1196b04
git_last_commit_date: 2023-04-25 09:50:22 -0400
nebbiolo1Linux (Ubuntu 22.04.2 LTS) / x86_64  OK    OK    OK  NO, package depends on 'baySeq' which is not available
palomino3Windows Server 2022 Datacenter / x64  OK    OK    OK    OK  NO, package depends on 'baySeq' which is not available
merida1macOS 12.6.4 Monterey / x86_64  OK    OK    OK    OK  NO, package depends on 'baySeq' which is not available
kjohnson2macOS 12.6.1 Monterey / arm64see weekly results here
Package 149/183HostnameOS / ArchINSTALLBUILDCHECKBUILD BIN
seqsetvis 1.20.0  (landing page)
Joseph R Boyd
git_last_commit: 99963de
git_last_commit_date: 2023-04-25 11:00:32 -0400
nebbiolo1Linux (Ubuntu 22.04.2 LTS) / x86_64  OK    OK    OK  UNNEEDED, same version is already published
palomino3Windows Server 2022 Datacenter / x64  OK    OK    OK    OK  UNNEEDED, same version is already published
merida1macOS 12.6.4 Monterey / x86_64  OK    OK    OK    OK  UNNEEDED, same version is already published
kjohnson2macOS 12.6.1 Monterey / arm64see weekly results here
Package 150/183HostnameOS / ArchINSTALLBUILDCHECKBUILD BIN
SGSeq 1.34.0  (landing page)
Leonard Goldstein
git_last_commit: 9d8c0f3
git_last_commit_date: 2023-04-25 10:35:48 -0400
nebbiolo1Linux (Ubuntu 22.04.2 LTS) / x86_64  OK    OK    OK  UNNEEDED, same version is already published
palomino3Windows Server 2022 Datacenter / x64  OK    OK    OK    OK  UNNEEDED, same version is already published
merida1macOS 12.6.4 Monterey / x86_64  OK    OK    OK    OK  UNNEEDED, same version is already published
kjohnson2macOS 12.6.1 Monterey / arm64see weekly results here
Package 151/183HostnameOS / ArchINSTALLBUILDCHECKBUILD BIN
ShortRead 1.58.0  (landing page)
Bioconductor Package Maintainer
git_last_commit: 433d182
git_last_commit_date: 2023-04-25 09:46:47 -0400
nebbiolo1Linux (Ubuntu 22.04.2 LTS) / x86_64  OK    OK    WARNINGS  UNNEEDED, same version is already published
palomino3Windows Server 2022 Datacenter / x64  OK    OK    WARNINGS    OK  UNNEEDED, same version is already published
merida1macOS 12.6.4 Monterey / x86_64  OK    OK    WARNINGS    OK  UNNEEDED, same version is already published
kjohnson2macOS 12.6.1 Monterey / arm64see weekly results here
Package 152/183HostnameOS / ArchINSTALLBUILDCHECKBUILD BIN
SICtools 1.30.0  (landing page)
Xiaobin Xing
git_last_commit: 889f561
git_last_commit_date: 2023-04-25 10:42:06 -0400
nebbiolo1Linux (Ubuntu 22.04.2 LTS) / x86_64  OK    OK    WARNINGS  UNNEEDED, same version is already published
palomino3Windows Server 2022 Datacenter / x64... NOT SUPPORTED ...
merida1macOS 12.6.4 Monterey / x86_64  OK    OK    WARNINGS    OK  UNNEEDED, same version is already published
kjohnson2macOS 12.6.1 Monterey / arm64see weekly results here
Package 153/183HostnameOS / ArchINSTALLBUILDCHECKBUILD BIN
SimFFPE 1.12.0  (landing page)
Lanying Wei
git_last_commit: 6510e2a
git_last_commit_date: 2023-04-25 11:15:01 -0400
nebbiolo1Linux (Ubuntu 22.04.2 LTS) / x86_64  OK    OK    OK  UNNEEDED, same version is already published
palomino3Windows Server 2022 Datacenter / x64  OK    OK    OK    OK  UNNEEDED, same version is already published
merida1macOS 12.6.4 Monterey / x86_64  OK    OK    OK    OK  UNNEEDED, same version is already published
kjohnson2macOS 12.6.1 Monterey / arm64see weekly results here
Package 154/183HostnameOS / ArchINSTALLBUILDCHECKBUILD BIN
single 1.4.0  (landing page)
Rocio Espada
git_last_commit: 6df9692
git_last_commit_date: 2023-04-25 11:37:05 -0400
nebbiolo1Linux (Ubuntu 22.04.2 LTS) / x86_64  OK    OK    OK  UNNEEDED, same version is already published
palomino3Windows Server 2022 Datacenter / x64  OK    OK    OK    OK  UNNEEDED, same version is already published
merida1macOS 12.6.4 Monterey / x86_64  OK    OK    OK    OK  UNNEEDED, same version is already published
kjohnson2macOS 12.6.1 Monterey / arm64see weekly results here
Package 155/183HostnameOS / ArchINSTALLBUILDCHECKBUILD BIN
sitadela 1.8.0  (landing page)
Panagiotis Moulos
git_last_commit: b3f853b
git_last_commit_date: 2023-04-25 11:27:34 -0400
nebbiolo1Linux (Ubuntu 22.04.2 LTS) / x86_64  OK    OK    OK  UNNEEDED, same version is already published
palomino3Windows Server 2022 Datacenter / x64  OK    OK    OK    OK  UNNEEDED, same version is already published
merida1macOS 12.6.4 Monterey / x86_64  OK    OK    OK    OK  UNNEEDED, same version is already published
kjohnson2macOS 12.6.1 Monterey / arm64see weekly results here
Package 156/183HostnameOS / ArchINSTALLBUILDCHECKBUILD BIN
SNPhood 1.30.0  (landing page)
Christian Arnold
git_last_commit: c761f49
git_last_commit_date: 2023-04-25 10:42:22 -0400
nebbiolo1Linux (Ubuntu 22.04.2 LTS) / x86_64  OK    OK    OK  UNNEEDED, same version is already published
palomino3Windows Server 2022 Datacenter / x64  OK    OK    OK    OK  UNNEEDED, same version is already published
merida1macOS 12.6.4 Monterey / x86_64  OK    OK    OK    OK  UNNEEDED, same version is already published
kjohnson2macOS 12.6.1 Monterey / arm64see weekly results here
Package 157/183HostnameOS / ArchINSTALLBUILDCHECKBUILD BIN
soGGi 1.32.0  (landing page)
Tom Carroll
git_last_commit: bed0c20
git_last_commit_date: 2023-04-25 10:39:19 -0400
nebbiolo1Linux (Ubuntu 22.04.2 LTS) / x86_64  OK    OK    OK  UNNEEDED, same version is already published
palomino3Windows Server 2022 Datacenter / x64  OK    OK    OK    OK  UNNEEDED, same version is already published
merida1macOS 12.6.4 Monterey / x86_64  OK    OK    OK    OK  UNNEEDED, same version is already published
kjohnson2macOS 12.6.1 Monterey / arm64see weekly results here
Package 158/183HostnameOS / ArchINSTALLBUILDCHECKBUILD BIN
spiky 1.6.0  (landing page)
Tim Triche
git_last_commit: 8d97641
git_last_commit_date: 2023-04-25 11:30:40 -0400
nebbiolo1Linux (Ubuntu 22.04.2 LTS) / x86_64  OK    OK    OK  UNNEEDED, same version is already published
palomino3Windows Server 2022 Datacenter / x64  OK    OK    OK    OK  UNNEEDED, same version is already published
merida1macOS 12.6.4 Monterey / x86_64  OK    OK    OK    OK  UNNEEDED, same version is already published
kjohnson2macOS 12.6.1 Monterey / arm64see weekly results here
Package 159/183HostnameOS / ArchINSTALLBUILDCHECKBUILD BIN
SplicingGraphs 1.40.0  (landing page)
H. Pagès
git_last_commit: f5cc79e
git_last_commit_date: 2023-04-25 10:27:02 -0400
nebbiolo1Linux (Ubuntu 22.04.2 LTS) / x86_64  OK    OK    WARNINGS  UNNEEDED, same version is already published
palomino3Windows Server 2022 Datacenter / x64  OK    OK    WARNINGS    OK  UNNEEDED, same version is already published
merida1macOS 12.6.4 Monterey / x86_64  OK    OK    WARNINGS    OK  UNNEEDED, same version is already published
kjohnson2macOS 12.6.1 Monterey / arm64see weekly results here
Package 160/183HostnameOS / ArchINSTALLBUILDCHECKBUILD BIN
srnadiff 1.20.0  (landing page)
Zytnicki Matthias
git_last_commit: cac64c3
git_last_commit_date: 2023-04-25 10:59:07 -0400
nebbiolo1Linux (Ubuntu 22.04.2 LTS) / x86_64  OK    OK    WARNINGS  NO, package depends on 'baySeq' which is not available
palomino3Windows Server 2022 Datacenter / x64  OK    OK    WARNINGS    OK  NO, package depends on 'baySeq' which is not available
merida1macOS 12.6.4 Monterey / x86_64  OK    OK    WARNINGS    OK  NO, package depends on 'baySeq' which is not available
kjohnson2macOS 12.6.1 Monterey / arm64see weekly results here
Package 161/183HostnameOS / ArchINSTALLBUILDCHECKBUILD BIN
ssviz 1.34.0  (landing page)
Diana Low
git_last_commit: ca7103d
git_last_commit_date: 2023-04-25 10:32:45 -0400
nebbiolo1Linux (Ubuntu 22.04.2 LTS) / x86_64  OK    OK    OK  UNNEEDED, same version is already published
palomino3Windows Server 2022 Datacenter / x64  OK    OK    OK    OK  UNNEEDED, same version is already published
merida1macOS 12.6.4 Monterey / x86_64  OK    OK    OK    OK  UNNEEDED, same version is already published
kjohnson2macOS 12.6.1 Monterey / arm64see weekly results here
Package 162/183HostnameOS / ArchINSTALLBUILDCHECKBUILD BIN
strandCheckR 1.18.0  (landing page)
Thu-Hien To
git_last_commit: 21313d7
git_last_commit_date: 2023-04-25 11:03:17 -0400
nebbiolo1Linux (Ubuntu 22.04.2 LTS) / x86_64  OK    OK    OK  UNNEEDED, same version is already published
palomino3Windows Server 2022 Datacenter / x64  OK    OK    OK    OK  UNNEEDED, same version is already published
merida1macOS 12.6.4 Monterey / x86_64  OK    OK    OK    OK  UNNEEDED, same version is already published
kjohnson2macOS 12.6.1 Monterey / arm64see weekly results here
Package 163/183HostnameOS / ArchINSTALLBUILDCHECKBUILD BIN
systemPipeR 2.6.3  (landing page)
Thomas Girke
git_last_commit: 666420d
git_last_commit_date: 2023-06-20 21:08:31 -0400
nebbiolo1Linux (Ubuntu 22.04.2 LTS) / x86_64  OK    OK    OK  UNNEEDED, same version is already published
palomino3Windows Server 2022 Datacenter / x64  OK    OK    OK    OK  UNNEEDED, same version is already published
merida1macOS 12.6.4 Monterey / x86_64  OK    OK    OK    OK  UNNEEDED, same version is already published
kjohnson2macOS 12.6.1 Monterey / arm64see weekly results here
Package 164/183HostnameOS / ArchINSTALLBUILDCHECKBUILD BIN
TarSeqQC 1.30.0  (landing page)
Gabriela Merino
git_last_commit: 52927c8
git_last_commit_date: 2023-04-25 10:41:42 -0400
nebbiolo1Linux (Ubuntu 22.04.2 LTS) / x86_64  OK    OK    ERROR  
palomino3Windows Server 2022 Datacenter / x64  OK    OK    ERROR    OK  
merida1macOS 12.6.4 Monterey / x86_64  OK    OK    ERROR    OK  
kjohnson2macOS 12.6.1 Monterey / arm64see weekly results here
Package 165/183HostnameOS / ArchINSTALLBUILDCHECKBUILD BIN
TCseq 1.24.3  (landing page)
Mengjun Wu
git_last_commit: bb4cc12
git_last_commit_date: 2023-09-12 15:44:55 -0400
nebbiolo1Linux (Ubuntu 22.04.2 LTS) / x86_64  OK    OK    WARNINGS  UNNEEDED, same version is already published
palomino3Windows Server 2022 Datacenter / x64  OK    OK    WARNINGS    OK  UNNEEDED, same version is already published
merida1macOS 12.6.4 Monterey / x86_64  OK    OK    WARNINGS    OK  UNNEEDED, same version is already published
kjohnson2macOS 12.6.1 Monterey / arm64see weekly results here
Package 166/183HostnameOS / ArchINSTALLBUILDCHECKBUILD BIN
TEQC 4.22.0  (landing page)
Sarah Bonnin
git_last_commit: ece9a2f
git_last_commit_date: 2023-04-25 10:18:30 -0400
nebbiolo1Linux (Ubuntu 22.04.2 LTS) / x86_64  OK    OK    WARNINGS  UNNEEDED, same version is already published
palomino3Windows Server 2022 Datacenter / x64  OK    OK    WARNINGS    OK  UNNEEDED, same version is already published
merida1macOS 12.6.4 Monterey / x86_64  OK    OK    WARNINGS    OK  UNNEEDED, same version is already published
kjohnson2macOS 12.6.1 Monterey / arm64see weekly results here
Package 167/183HostnameOS / ArchINSTALLBUILDCHECKBUILD BIN
TFutils 1.20.0  (landing page)
Vincent Carey
git_last_commit: 1f0a05b
git_last_commit_date: 2023-04-25 11:00:54 -0400
nebbiolo1Linux (Ubuntu 22.04.2 LTS) / x86_64  OK    OK    OK  UNNEEDED, same version is already published
palomino3Windows Server 2022 Datacenter / x64  OK    OK    OK    OK  UNNEEDED, same version is already published
merida1macOS 12.6.4 Monterey / x86_64  OK    OK    OK    OK  UNNEEDED, same version is already published
kjohnson2macOS 12.6.1 Monterey / arm64see weekly results here
Package 168/183HostnameOS / ArchINSTALLBUILDCHECKBUILD BIN
tracktables 1.34.0  (landing page)
Tom Carroll
git_last_commit: deb607c
git_last_commit_date: 2023-04-25 10:36:02 -0400
nebbiolo1Linux (Ubuntu 22.04.2 LTS) / x86_64  OK    OK    WARNINGS  UNNEEDED, same version is already published
palomino3Windows Server 2022 Datacenter / x64  OK    OK    WARNINGS    OK  UNNEEDED, same version is already published
merida1macOS 12.6.4 Monterey / x86_64  OK    OK    WARNINGS    OK  UNNEEDED, same version is already published
kjohnson2macOS 12.6.1 Monterey / arm64see weekly results here
Package 169/183HostnameOS / ArchINSTALLBUILDCHECKBUILD BIN
trackViewer 1.36.2  (landing page)
Jianhong Ou
git_last_commit: 8660ccc
git_last_commit_date: 2023-05-17 09:52:56 -0400
nebbiolo1Linux (Ubuntu 22.04.2 LTS) / x86_64  OK    OK    OK  UNNEEDED, same version is already published
palomino3Windows Server 2022 Datacenter / x64  OK    OK    OK    OK  UNNEEDED, same version is already published
merida1macOS 12.6.4 Monterey / x86_64  OK    OK    OK    OK  UNNEEDED, same version is already published
kjohnson2macOS 12.6.1 Monterey / arm64see weekly results here
Package 170/183HostnameOS / ArchINSTALLBUILDCHECKBUILD BIN
transcriptR 1.28.0  (landing page)
Armen R. Karapetyan
git_last_commit: 7efa5a6
git_last_commit_date: 2023-04-25 10:43:12 -0400
nebbiolo1Linux (Ubuntu 22.04.2 LTS) / x86_64  OK    OK    OK  UNNEEDED, same version is already published
palomino3Windows Server 2022 Datacenter / x64  OK    OK    OK    OK  UNNEEDED, same version is already published
merida1macOS 12.6.4 Monterey / x86_64  OK    OK    OK    OK  UNNEEDED, same version is already published
kjohnson2macOS 12.6.1 Monterey / arm64see weekly results here
Package 171/183HostnameOS / ArchINSTALLBUILDCHECKBUILD BIN
TRESS 1.6.0  (landing page)
Zhenxing Guo
git_last_commit: 1848f25
git_last_commit_date: 2023-04-25 11:33:30 -0400
nebbiolo1Linux (Ubuntu 22.04.2 LTS) / x86_64  OK    OK    OK  UNNEEDED, same version is already published
palomino3Windows Server 2022 Datacenter / x64  OK    ERROR  skippedskipped
merida1macOS 12.6.4 Monterey / x86_64  OK    OK    OK    OK  UNNEEDED, same version is already published
kjohnson2macOS 12.6.1 Monterey / arm64see weekly results here
Package 172/183HostnameOS / ArchINSTALLBUILDCHECKBUILD BIN
tRNAscanImport 1.20.0  (landing page)
Felix G.M. Ernst
git_last_commit: b06feda
git_last_commit_date: 2023-04-25 10:59:46 -0400
nebbiolo1Linux (Ubuntu 22.04.2 LTS) / x86_64  OK    OK    OK  UNNEEDED, same version is already published
palomino3Windows Server 2022 Datacenter / x64  OK    OK    OK    OK  UNNEEDED, same version is already published
merida1macOS 12.6.4 Monterey / x86_64  OK    OK    OK    OK  UNNEEDED, same version is already published
kjohnson2macOS 12.6.1 Monterey / arm64see weekly results here
Package 173/183HostnameOS / ArchINSTALLBUILDCHECKBUILD BIN
TVTB 1.26.0  (landing page)
Kevin Rue-Albrecht
git_last_commit: f28d805
git_last_commit_date: 2023-04-25 10:50:43 -0400
nebbiolo1Linux (Ubuntu 22.04.2 LTS) / x86_64  OK    OK    WARNINGS  UNNEEDED, same version is already published
palomino3Windows Server 2022 Datacenter / x64... NOT SUPPORTED ...
merida1macOS 12.6.4 Monterey / x86_64  OK    OK    WARNINGS    OK  UNNEEDED, same version is already published
kjohnson2macOS 12.6.1 Monterey / arm64see weekly results here
Package 174/183HostnameOS / ArchINSTALLBUILDCHECKBUILD BIN
UMI4Cats 1.10.0  (landing page)
Mireia Ramos-Rodriguez
git_last_commit: a1a1947
git_last_commit_date: 2023-04-25 11:21:41 -0400
nebbiolo1Linux (Ubuntu 22.04.2 LTS) / x86_64  OK    OK    OK  UNNEEDED, same version is already published
palomino3Windows Server 2022 Datacenter / x64  OK    OK    OK    OK  UNNEEDED, same version is already published
merida1macOS 12.6.4 Monterey / x86_64  OK    OK    OK    OK  UNNEEDED, same version is already published
kjohnson2macOS 12.6.1 Monterey / arm64see weekly results here
Package 175/183HostnameOS / ArchINSTALLBUILDCHECKBUILD BIN
uncoverappLib 1.10.0  (landing page)
Emanuela Iovino
git_last_commit: d0a3308
git_last_commit_date: 2023-04-25 11:21:38 -0400
nebbiolo1Linux (Ubuntu 22.04.2 LTS) / x86_64  OK    OK    OK  UNNEEDED, same version is already published
palomino3Windows Server 2022 Datacenter / x64  OK    OK    OK    OK  UNNEEDED, same version is already published
merida1macOS 12.6.4 Monterey / x86_64  OK    OK    OK    OK  UNNEEDED, same version is already published
kjohnson2macOS 12.6.1 Monterey / arm64see weekly results here
Package 176/183HostnameOS / ArchINSTALLBUILDCHECKBUILD BIN
VariantAnnotation 1.46.0  (landing page)
Bioconductor Package Maintainer
git_last_commit: 80d43e0
git_last_commit_date: 2023-04-25 10:20:30 -0400
nebbiolo1Linux (Ubuntu 22.04.2 LTS) / x86_64  OK    OK    WARNINGS  UNNEEDED, same version is already published
palomino3Windows Server 2022 Datacenter / x64  OK    OK    WARNINGS    OK  UNNEEDED, same version is already published
merida1macOS 12.6.4 Monterey / x86_64  OK    OK    WARNINGS    OK  UNNEEDED, same version is already published
kjohnson2macOS 12.6.1 Monterey / arm64see weekly results here
Package 177/183HostnameOS / ArchINSTALLBUILDCHECKBUILD BIN
VariantFiltering 1.36.1  (landing page)
Robert Castelo
git_last_commit: f9846cf
git_last_commit_date: 2023-06-26 07:54:10 -0400
nebbiolo1Linux (Ubuntu 22.04.2 LTS) / x86_64  OK    OK    OK  UNNEEDED, same version is already published
palomino3Windows Server 2022 Datacenter / x64  OK    OK    OK    OK  UNNEEDED, same version is already published
merida1macOS 12.6.4 Monterey / x86_64  OK    OK    OK    OK  UNNEEDED, same version is already published
kjohnson2macOS 12.6.1 Monterey / arm64see weekly results here
Package 178/183HostnameOS / ArchINSTALLBUILDCHECKBUILD BIN
VariantTools 1.42.0  (landing page)
Michael Lawrence
git_last_commit: 9fc1928
git_last_commit_date: 2023-04-25 10:24:35 -0400
nebbiolo1Linux (Ubuntu 22.04.2 LTS) / x86_64  OK    OK    ERROR  
palomino3Windows Server 2022 Datacenter / x64  OK    OK    WARNINGS    OK  UNNEEDED, same version is already published
merida1macOS 12.6.4 Monterey / x86_64  OK    OK    ERROR    OK  
kjohnson2macOS 12.6.1 Monterey / arm64see weekly results here
Package 179/183HostnameOS / ArchINSTALLBUILDCHECKBUILD BIN
VaSP 1.12.0  (landing page)
Huihui Yu
git_last_commit: ab22e7e
git_last_commit_date: 2023-04-25 11:15:37 -0400
nebbiolo1Linux (Ubuntu 22.04.2 LTS) / x86_64  OK    OK    OK  UNNEEDED, same version is already published
palomino3Windows Server 2022 Datacenter / x64  OK    OK    OK    OK  UNNEEDED, same version is already published
merida1macOS 12.6.4 Monterey / x86_64  OK    OK    OK    OK  UNNEEDED, same version is already published
kjohnson2macOS 12.6.1 Monterey / arm64see weekly results here
Package 180/183HostnameOS / ArchINSTALLBUILDCHECKBUILD BIN
VCFArray 1.16.0  (landing page)
Qian Liu
git_last_commit: 3406de5
git_last_commit_date: 2023-04-25 11:06:46 -0400
nebbiolo1Linux (Ubuntu 22.04.2 LTS) / x86_64  OK    OK    OK  UNNEEDED, same version is already published
palomino3Windows Server 2022 Datacenter / x64  OK    OK    OK    OK  UNNEEDED, same version is already published
merida1macOS 12.6.4 Monterey / x86_64  OK    OK    OK    OK  UNNEEDED, same version is already published
kjohnson2macOS 12.6.1 Monterey / arm64see weekly results here
Package 181/183HostnameOS / ArchINSTALLBUILDCHECKBUILD BIN
VplotR 1.10.0  (landing page)
Jacques Serizay
git_last_commit: 6b367d8
git_last_commit_date: 2023-04-25 11:21:54 -0400
nebbiolo1Linux (Ubuntu 22.04.2 LTS) / x86_64  OK    OK    WARNINGS  UNNEEDED, same version is already published
palomino3Windows Server 2022 Datacenter / x64  OK    OK    WARNINGS    OK  UNNEEDED, same version is already published
merida1macOS 12.6.4 Monterey / x86_64  OK    OK    WARNINGS    OK  UNNEEDED, same version is already published
kjohnson2macOS 12.6.1 Monterey / arm64see weekly results here
Package 182/183HostnameOS / ArchINSTALLBUILDCHECKBUILD BIN
wavClusteR 2.34.0  (landing page)
Federico Comoglio
git_last_commit: 42acbc9
git_last_commit_date: 2023-04-25 10:32:30 -0400
nebbiolo1Linux (Ubuntu 22.04.2 LTS) / x86_64  OK    OK    OK  UNNEEDED, same version is already published
palomino3Windows Server 2022 Datacenter / x64  OK    OK    OK    OK  UNNEEDED, same version is already published
merida1macOS 12.6.4 Monterey / x86_64  OK    OK    OK    OK  UNNEEDED, same version is already published
kjohnson2macOS 12.6.1 Monterey / arm64see weekly results here
Package 183/183HostnameOS / ArchINSTALLBUILDCHECKBUILD BIN
ZygosityPredictor 1.0.3  (landing page)
Marco Rheinnecker
git_last_commit: 4bc55da
git_last_commit_date: 2023-06-02 14:10:54 -0400
nebbiolo1Linux (Ubuntu 22.04.2 LTS) / x86_64  OK    OK    OK  UNNEEDED, same version is already published
palomino3Windows Server 2022 Datacenter / x64  OK    OK    OK    OK  UNNEEDED, same version is already published
merida1macOS 12.6.4 Monterey / x86_64  OK    OK    OK    OK  UNNEEDED, same version is already published
kjohnson2macOS 12.6.1 Monterey / arm64see weekly results here