Back to Multiple platform build/check report for BioC 3.17:   simplified   long
ABCDEFGHIJKLMN[O]PQRSTUVWXYZ

This page was generated on 2023-03-23 11:07:00 -0400 (Thu, 23 Mar 2023).

HostnameOSArch (*)R versionInstalled pkgs
nebbiolo1Linux (Ubuntu 22.04.1 LTS)x86_64R Under development (unstable) (2023-03-16 r83996) -- "Unsuffered Consequences" 4536
palomino3Windows Server 2022 Datacenterx64R Under development (unstable) (2023-03-15 r83984 ucrt) -- "Unsuffered Consequences" 4298
merida1macOS 10.14.6 Mojavex86_64R Under development (unstable) (2023-03-16 r83985) -- "Unsuffered Consequences" 4290
Click on any hostname to see more info about the system (e.g. compilers)      (*) as reported by 'uname -p', except on Windows and Mac OS X

CHECK results for octad on merida1


To the developers/maintainers of the octad package:
- Please allow up to 24 hours (and sometimes 48 hours) for your latest push to git@git.bioconductor.org:packages/octad.git to
reflect on this report. See How and When does the builder pull? When will my changes propagate? for more information.
- Make sure to use the following settings in order to reproduce any error or warning you see on this page.

raw results

Package 1383/2189HostnameOS / ArchINSTALLBUILDCHECKBUILD BIN
octad 1.1.0  (landing page)
E. Chekalin
Snapshot Date: 2023-03-22 14:00:17 -0400 (Wed, 22 Mar 2023)
git_url: https://git.bioconductor.org/packages/octad
git_branch: devel
git_last_commit: 35348e5
git_last_commit_date: 2022-11-01 11:27:51 -0400 (Tue, 01 Nov 2022)
nebbiolo1Linux (Ubuntu 22.04.1 LTS) / x86_64  OK    OK    OK  UNNEEDED, same version is already published
palomino3Windows Server 2022 Datacenter / x64  OK    OK    OK    OK  UNNEEDED, same version is already published
merida1macOS 10.14.6 Mojave / x86_64  OK    OK    OK    OK  UNNEEDED, same version is already published

Summary

Package: octad
Version: 1.1.0
Command: /Library/Frameworks/R.framework/Resources/bin/R CMD check --install=check:octad.install-out.txt --library=/Library/Frameworks/R.framework/Resources/library --no-vignettes --timings octad_1.1.0.tar.gz
StartedAt: 2023-03-23 05:07:13 -0400 (Thu, 23 Mar 2023)
EndedAt: 2023-03-23 05:32:38 -0400 (Thu, 23 Mar 2023)
EllapsedTime: 1524.8 seconds
RetCode: 0
Status:   OK  
CheckDir: octad.Rcheck
Warnings: 0

Command output

##############################################################################
##############################################################################
###
### Running command:
###
###   /Library/Frameworks/R.framework/Resources/bin/R CMD check --install=check:octad.install-out.txt --library=/Library/Frameworks/R.framework/Resources/library --no-vignettes --timings octad_1.1.0.tar.gz
###
##############################################################################
##############################################################################


* using log directory ‘/Users/biocbuild/bbs-3.17-bioc/meat/octad.Rcheck’
* using R Under development (unstable) (2023-03-16 r83985)
* using platform: x86_64-apple-darwin17.0 (64-bit)
* R was compiled by
    Apple clang version 12.0.0 (clang-1200.0.32.29)
    GNU Fortran (GCC) 8.2.0
* running under: macOS Mojave 10.14.6
* using session charset: UTF-8
* using option ‘--no-vignettes’
* checking for file ‘octad/DESCRIPTION’ ... OK
* this is package ‘octad’ version ‘1.1.0’
* package encoding: UTF-8
* checking package namespace information ... OK
* checking package dependencies ... NOTE
Depends: includes the non-default packages:
  'magrittr', 'dplyr', 'ggplot2', 'edgeR', 'RUVSeq', 'DESeq2', 'limma',
  'rhdf5', 'foreach', 'Rfast', 'octad.db', 'httr', 'ExperimentHub',
  'AnnotationHub', 'Biobase', 'S4Vectors'
Adding so many packages to the search path is excessive and importing
selectively is preferable.
* checking if this is a source package ... OK
* checking if there is a namespace ... OK
* checking for hidden files and directories ... NOTE
Found the following hidden files and directories:
  .BBSoptions
These were most likely included in error. See section ‘Package
structure’ in the ‘Writing R Extensions’ manual.
* checking for portable file names ... OK
* checking for sufficient/correct file permissions ... OK
* checking whether package ‘octad’ can be installed ... OK
* checking installed package size ... OK
* checking package directory ... OK
* checking ‘build’ directory ... OK
* checking DESCRIPTION meta-information ... OK
* checking top-level files ... OK
* checking for left-over files ... OK
* checking index information ... OK
* checking package subdirectories ... OK
* checking R files for non-ASCII characters ... OK
* checking R files for syntax errors ... OK
* checking whether the package can be loaded ... OK
* checking whether the package can be loaded with stated dependencies ... OK
* checking whether the package can be unloaded cleanly ... OK
* checking whether the namespace can be loaded with stated dependencies ... OK
* checking whether the namespace can be unloaded cleanly ... OK
* checking dependencies in R code ... NOTE
Package in Depends field not imported from: ‘httr’
  These packages need to be imported from (in the NAMESPACE file)
  for when this namespace is loaded but not attached.
* checking S3 generic/method consistency ... OK
* checking replacement functions ... OK
* checking foreign function calls ... OK
* checking R code for possible problems ... NOTE
diffExp: no visible binding for global variable ‘case’
diffExp: no visible binding for global variable ‘control’
runsRGES: no visible binding for global variable ‘RGES’
topLineEval: no visible binding for global variable ‘sRGES’
topLineEval: no visible binding for global variable ‘medauc’
Undefined global functions or variables:
  RGES case control medauc sRGES
* checking Rd files ... OK
* checking Rd metadata ... OK
* checking Rd cross-references ... OK
* checking for missing documentation entries ... OK
* checking for code/documentation mismatches ... OK
* checking Rd \usage sections ... OK
* checking Rd contents ... OK
* checking for unstated dependencies in examples ... OK
* checking contents of ‘data’ directory ... OK
* checking data for non-ASCII characters ... OK
* checking data for ASCII and uncompressed saves ... OK
* checking files in ‘vignettes’ ... OK
* checking examples ... OK
Examples with CPU (user + system) or elapsed time > 5s
                       user system elapsed
computeCellLine     106.736  3.712 166.531
octadDrugEnrichment  86.679  6.034 214.150
topLineEval          87.674  0.853 124.450
diffExp              51.238  1.526  99.790
computeRefTissue     12.984  0.609  20.748
loadOctadCounts       4.794  0.106  13.516
* checking for unstated dependencies in vignettes ... OK
* checking package vignettes in ‘inst/doc’ ... OK
* checking running R code from vignettes ... SKIPPED
* checking re-building of vignette outputs ... SKIPPED
* checking PDF version of manual ... OK
* DONE

Status: 4 NOTEs
See
  ‘/Users/biocbuild/bbs-3.17-bioc/meat/octad.Rcheck/00check.log’
for details.



Installation output

octad.Rcheck/00install.out

##############################################################################
##############################################################################
###
### Running command:
###
###   /Library/Frameworks/R.framework/Resources/bin/R CMD INSTALL octad
###
##############################################################################
##############################################################################


* installing to library ‘/Library/Frameworks/R.framework/Versions/4.3/Resources/library’
* installing *source* package ‘octad’ ...
** using staged installation
** R
** data
** inst
** byte-compile and prepare package for lazy loading
** help
*** installing help indices
** building package indices
** installing vignettes
** testing if installed package can be loaded from temporary location
** testing if installed package can be loaded from final location
** testing if installed package keeps a record of temporary installation path
* DONE (octad)

Tests output


Example timings

octad.Rcheck/octad-Ex.timings

nameusersystemelapsed
computeCellLine106.736 3.712166.531
computeRefTissue12.984 0.60920.748
diffExp51.238 1.52699.790
loadOctadCounts 4.794 0.10613.516
octadDrugEnrichment 86.679 6.034214.150
runsRGES0.3710.0330.555
topLineEval 87.674 0.853124.450