Back to Multiple platform build/check report for BioC 3.17: simplified long |
|
This page was generated on 2023-09-26 11:35:45 -0400 (Tue, 26 Sep 2023).
Hostname | OS | Arch (*) | R version | Installed pkgs |
---|---|---|---|---|
nebbiolo1 | Linux (Ubuntu 22.04.2 LTS) | x86_64 | 4.3.1 (2023-06-16) -- "Beagle Scouts" | 4625 |
palomino3 | Windows Server 2022 Datacenter | x64 | 4.3.1 (2023-06-16 ucrt) -- "Beagle Scouts" | 4378 |
merida1 | macOS 12.6.4 Monterey | x86_64 | 4.3.1 (2023-06-16) -- "Beagle Scouts" | 4394 |
Click on any hostname to see more info about the system (e.g. compilers) (*) as reported by 'uname -p', except on Windows and Mac OS X |
Package 1353/2230 | Hostname | OS / Arch | INSTALL | BUILD | CHECK | BUILD BIN | ||||||||
NanoMethViz 2.6.0 (landing page) Shian Su
| nebbiolo1 | Linux (Ubuntu 22.04.2 LTS) / x86_64 | OK | OK | OK | ![]() | ||||||||
palomino3 | Windows Server 2022 Datacenter / x64 | OK | OK | OK | OK | ![]() | ||||||||
merida1 | macOS 12.6.4 Monterey / x86_64 | OK | OK | OK | OK | ![]() | ||||||||
To the developers/maintainers of the NanoMethViz package: - Allow up to 24 hours (and sometimes 48 hours) for your latest push to git@git.bioconductor.org:packages/NanoMethViz.git to reflect on this report. See Troubleshooting Build Report for more information. - Use the following Renviron settings to reproduce errors and warnings. - If 'R CMD check' started to fail recently on the Linux builder(s) over a missing dependency, add the missing dependency to 'Suggests:' in your DESCRIPTION file. See Renviron.bioc for more information. |
Package: NanoMethViz |
Version: 2.6.0 |
Command: /home/biocbuild/bbs-3.17-bioc/R/bin/R CMD check --install=check:NanoMethViz.install-out.txt --library=/home/biocbuild/bbs-3.17-bioc/R/site-library --timings NanoMethViz_2.6.0.tar.gz |
StartedAt: 2023-09-25 23:19:43 -0400 (Mon, 25 Sep 2023) |
EndedAt: 2023-09-25 23:28:46 -0400 (Mon, 25 Sep 2023) |
EllapsedTime: 543.3 seconds |
RetCode: 0 |
Status: OK |
CheckDir: NanoMethViz.Rcheck |
Warnings: 0 |
############################################################################## ############################################################################## ### ### Running command: ### ### /home/biocbuild/bbs-3.17-bioc/R/bin/R CMD check --install=check:NanoMethViz.install-out.txt --library=/home/biocbuild/bbs-3.17-bioc/R/site-library --timings NanoMethViz_2.6.0.tar.gz ### ############################################################################## ############################################################################## * using log directory ‘/home/biocbuild/bbs-3.17-bioc/meat/NanoMethViz.Rcheck’ * using R version 4.3.1 (2023-06-16) * using platform: x86_64-pc-linux-gnu (64-bit) * R was compiled by gcc (Ubuntu 11.3.0-1ubuntu1~22.04.1) 11.3.0 GNU Fortran (Ubuntu 11.3.0-1ubuntu1~22.04.1) 11.3.0 * running under: Ubuntu 22.04.3 LTS * using session charset: UTF-8 * checking for file ‘NanoMethViz/DESCRIPTION’ ... OK * checking extension type ... Package * this is package ‘NanoMethViz’ version ‘2.6.0’ * package encoding: UTF-8 * checking package namespace information ... OK * checking package dependencies ... OK * checking if this is a source package ... OK * checking if there is a namespace ... OK * checking for hidden files and directories ... OK * checking for portable file names ... OK * checking for sufficient/correct file permissions ... OK * checking whether package ‘NanoMethViz’ can be installed ... OK * used C++ compiler: ‘g++ (Ubuntu 11.4.0-1ubuntu1~22.04) 11.4.0’ * checking C++ specification ... OK Not all R platforms support C++20 * checking installed package size ... OK * checking package directory ... OK * checking ‘build’ directory ... OK * checking DESCRIPTION meta-information ... OK * checking top-level files ... OK * checking for left-over files ... NOTE The following files look like leftovers: ‘NanoMethViz/ModBamResults-class.Rd’ Please remove them from your package. * checking index information ... OK * checking package subdirectories ... OK * checking R files for non-ASCII characters ... OK * checking R files for syntax errors ... OK * checking whether the package can be loaded ... OK * checking whether the package can be loaded with stated dependencies ... OK * checking whether the package can be unloaded cleanly ... OK * checking whether the namespace can be loaded with stated dependencies ... OK * checking whether the namespace can be unloaded cleanly ... OK * checking loading without being on the library search path ... OK * checking dependencies in R code ... OK * checking S3 generic/method consistency ... OK * checking replacement functions ... OK * checking foreign function calls ... OK * checking R code for possible problems ... OK * checking Rd files ... OK * checking Rd metadata ... OK * checking Rd cross-references ... OK * checking for missing documentation entries ... OK * checking for code/documentation mismatches ... OK * checking Rd \usage sections ... OK * checking Rd contents ... OK * checking for unstated dependencies in examples ... OK * checking line endings in C/C++/Fortran sources/headers ... OK * checking use of PKG_*FLAGS in Makefiles ... OK * checking compiled code ... NOTE Note: information on .o files is not available * checking files in ‘vignettes’ ... OK * checking examples ... OK Examples with CPU (user + system) or elapsed time > 5s user system elapsed get_exons 34.734 1.976 36.711 get_exons_homo_sapiens 11.890 0.280 12.170 get_exons_mus_musculus 11.520 0.203 11.724 plot_agg_regions 5.192 0.104 5.296 * checking for unstated dependencies in ‘tests’ ... OK * checking tests ... Running ‘testthat.R’ OK * checking for unstated dependencies in vignettes ... OK * checking package vignettes in ‘inst/doc’ ... OK * checking running R code from vignettes ... ‘DimensionalityReduction.Rmd’ using ‘UTF-8’... OK ‘ExonAnnotations.Rmd’ using ‘UTF-8’... OK ‘ImportingExportingData.Rmd’ using ‘UTF-8’... OK ‘Introduction.Rmd’ using ‘UTF-8’... OK NONE * checking re-building of vignette outputs ... OK * checking PDF version of manual ... OK * DONE Status: 2 NOTEs See ‘/home/biocbuild/bbs-3.17-bioc/meat/NanoMethViz.Rcheck/00check.log’ for details.
NanoMethViz.Rcheck/00install.out
############################################################################## ############################################################################## ### ### Running command: ### ### /home/biocbuild/bbs-3.17-bioc/R/bin/R CMD INSTALL NanoMethViz ### ############################################################################## ############################################################################## * installing to library ‘/home/biocbuild/bbs-3.17-bioc/R/site-library’ * installing *source* package ‘NanoMethViz’ ... ** using staged installation ** libs using C++ compiler: ‘g++ (Ubuntu 11.4.0-1ubuntu1~22.04) 11.4.0’ using C++20 g++ -std=gnu++20 -I"/home/biocbuild/bbs-3.17-bioc/R/include" -DNDEBUG -I'/home/biocbuild/bbs-3.17-bioc/R/site-library/Rcpp/include' -I/usr/local/include -fpic -g -O2 -Wall -c RcppExports.cpp -o RcppExports.o g++ -std=gnu++20 -I"/home/biocbuild/bbs-3.17-bioc/R/include" -DNDEBUG -I'/home/biocbuild/bbs-3.17-bioc/R/site-library/Rcpp/include' -I/usr/local/include -fpic -g -O2 -Wall -c convert_methy_to_dss.cpp -o convert_methy_to_dss.o g++ -std=gnu++20 -I"/home/biocbuild/bbs-3.17-bioc/R/include" -DNDEBUG -I'/home/biocbuild/bbs-3.17-bioc/R/site-library/Rcpp/include' -I/usr/local/include -fpic -g -O2 -Wall -c modbam.cpp -o modbam.o g++ -std=gnu++20 -I"/home/biocbuild/bbs-3.17-bioc/R/include" -DNDEBUG -I'/home/biocbuild/bbs-3.17-bioc/R/site-library/Rcpp/include' -I/usr/local/include -fpic -g -O2 -Wall -c utils.cpp -o utils.o g++ -std=gnu++20 -shared -L/home/biocbuild/bbs-3.17-bioc/R/lib -L/usr/local/lib -o NanoMethViz.so RcppExports.o convert_methy_to_dss.o modbam.o utils.o -L/home/biocbuild/bbs-3.17-bioc/R/lib -lR installing to /home/biocbuild/bbs-3.17-bioc/R/site-library/00LOCK-NanoMethViz/00new/NanoMethViz/libs ** R ** inst ** byte-compile and prepare package for lazy loading ** help *** installing help indices ** building package indices ** installing vignettes ** testing if installed package can be loaded from temporary location ** checking absolute paths in shared objects and dynamic libraries ** testing if installed package can be loaded from final location ** testing if installed package keeps a record of temporary installation path * DONE (NanoMethViz)
NanoMethViz.Rcheck/tests/testthat.Rout
R version 4.3.1 (2023-06-16) -- "Beagle Scouts" Copyright (C) 2023 The R Foundation for Statistical Computing Platform: x86_64-pc-linux-gnu (64-bit) R is free software and comes with ABSOLUTELY NO WARRANTY. You are welcome to redistribute it under certain conditions. Type 'license()' or 'licence()' for distribution details. R is a collaborative project with many contributors. Type 'contributors()' for more information and 'citation()' on how to cite R or R packages in publications. Type 'demo()' for some demos, 'help()' for on-line help, or 'help.start()' for an HTML browser interface to help. Type 'q()' to quit R. > library(testthat) > library(NanoMethViz) Loading required package: ggplot2 > > test_check("NanoMethViz") Starting 2 test processes [ FAIL 0 | WARN 0 | SKIP 0 | PASS 97 ] > > proc.time() user system elapsed 101.868 5.180 60.422
NanoMethViz.Rcheck/NanoMethViz-Ex.timings
name | user | system | elapsed | |
NanoMethResult-class | 2.293 | 0.204 | 2.498 | |
bsseq_to_edger | 1.611 | 0.131 | 1.718 | |
bsseq_to_log_methy_ratio | 1.034 | 0.093 | 1.063 | |
cluster_regions | 4.029 | 0.196 | 4.224 | |
create_tabix_file | 0.127 | 0.017 | 0.144 | |
exons_to_genes | 0.256 | 0.000 | 0.255 | |
filter_methy | 1.853 | 0.108 | 1.943 | |
get_example_exons_mus_musculus | 0.218 | 0.040 | 0.258 | |
get_exons | 34.734 | 1.976 | 36.711 | |
get_exons_homo_sapiens | 11.89 | 0.28 | 12.17 | |
get_exons_mus_musculus | 11.520 | 0.203 | 11.724 | |
load_example_nanomethresult | 0.24 | 0.00 | 0.24 | |
methy | 0.002 | 0.000 | 0.002 | |
methy_col_names | 0.001 | 0.000 | 0.000 | |
methy_to_bsseq | 0.944 | 0.091 | 0.946 | |
methy_to_edger | 2.625 | 0.108 | 2.603 | |
plot_agg_genes | 1.780 | 0.028 | 1.807 | |
plot_agg_regions | 5.192 | 0.104 | 5.296 | |
plot_gene | 1.122 | 0.004 | 1.125 | |
plot_gene_heatmap | 1.787 | 0.012 | 1.798 | |
plot_grange | 1.179 | 0.012 | 1.191 | |
plot_grange_heatmap | 1.449 | 0.016 | 1.465 | |
plot_mds | 1.480 | 0.077 | 1.392 | |
plot_pca | 1.607 | 0.107 | 1.515 | |
plot_region | 0.874 | 0.040 | 0.914 | |
plot_region_heatmap | 1.663 | 0.068 | 1.731 | |
query_methy | 0.378 | 0.000 | 0.378 | |
region_methy_stats | 1.082 | 0.008 | 1.089 | |