Back to Multiple platform build/check report for BioC 3.17:   simplified   long
ABCDEFGHIJKLMN[O]PQRSTUVWXYZ

This page was generated on 2023-05-27 11:06:53 -0400 (Sat, 27 May 2023).

HostnameOSArch (*)R versionInstalled pkgs
nebbiolo1Linux (Ubuntu 22.04.2 LTS)x86_644.3.0 RC (2023-04-13 r84269) -- "Already Tomorrow" 4617
palomino3Windows Server 2022 Datacenterx644.3.0 RC (2023-04-13 r84269 ucrt) -- "Already Tomorrow" 4368
merida1macOS 12.6.4 Montereyx86_644.3.0 RC (2023-04-13 r84257) -- "Already Tomorrow" 4326
Click on any hostname to see more info about the system (e.g. compilers)      (*) as reported by 'uname -p', except on Windows and Mac OS X

BUILD results for OMICsPCA on merida1


To the developers/maintainers of the OMICsPCA package:
- Allow up to 24 hours (and sometimes 48 hours) for your latest push to git@git.bioconductor.org:packages/OMICsPCA.git to reflect on this report. See Troubleshooting Build Report for more information.

- Use the following Renviron settings to reproduce errors and warnings.

Note: If "R CMD check" recently failed on the Linux builder over a missing dependency, add the missing dependency to "Suggests" in your DESCRIPTION file. See the Renviron.bioc for details.

raw results

Package 1420/2229HostnameOS / ArchINSTALLBUILDCHECKBUILD BIN
OMICsPCA 1.18.0  (landing page)
Subhadeep Das
Snapshot Date: 2023-05-26 14:00:16 -0400 (Fri, 26 May 2023)
git_url: https://git.bioconductor.org/packages/OMICsPCA
git_branch: RELEASE_3_17
git_last_commit: 141de51
git_last_commit_date: 2023-04-25 11:04:48 -0400 (Tue, 25 Apr 2023)
nebbiolo1Linux (Ubuntu 22.04.2 LTS) / x86_64  OK    OK    OK  UNNEEDED, same version is already published
palomino3Windows Server 2022 Datacenter / x64  OK    OK    OK    OK  UNNEEDED, same version is already published
merida1macOS 12.6.4 Monterey / x86_64  OK    OK    OK    OK  UNNEEDED, same version is already published

Summary

Package: OMICsPCA
Version: 1.18.0
Command: /Library/Frameworks/R.framework/Resources/bin/R CMD build --keep-empty-dirs --no-resave-data OMICsPCA
StartedAt: 2023-05-26 19:58:23 -0400 (Fri, 26 May 2023)
EndedAt: 2023-05-26 20:05:13 -0400 (Fri, 26 May 2023)
EllapsedTime: 410.4 seconds
RetCode: 0
Status:   OK  
PackageFile: OMICsPCA_1.18.0.tar.gz
PackageFileSize: 4.998 MiB

Command output

##############################################################################
##############################################################################
###
### Running command:
###
###   /Library/Frameworks/R.framework/Resources/bin/R CMD build --keep-empty-dirs --no-resave-data OMICsPCA
###
##############################################################################
##############################################################################


* checking for file ‘OMICsPCA/DESCRIPTION’ ... OK
* preparing ‘OMICsPCA’:
* checking DESCRIPTION meta-information ... OK
* installing the package to build vignettes
* creating vignettes ... OK
* checking for LF line-endings in source and make files and shell scripts
* checking for empty or unneeded directories
Omitted ‘LazyData’ from DESCRIPTION
* building ‘OMICsPCA_1.18.0.tar.gz’