Back to Multiple platform build/check report for BioC 3.17:   simplified   long
ABCDEF[G]HIJKLMNOPQRSTUVWXYZ

This page was generated on 2023-06-08 11:06:13 -0400 (Thu, 08 Jun 2023).

HostnameOSArch (*)R versionInstalled pkgs
nebbiolo1Linux (Ubuntu 22.04.2 LTS)x86_644.3.0 RC (2023-04-13 r84269) -- "Already Tomorrow" 4628
palomino3Windows Server 2022 Datacenterx644.3.0 RC (2023-04-13 r84269 ucrt) -- "Already Tomorrow" 4379
merida1macOS 12.6.4 Montereyx86_644.3.0 RC (2023-04-13 r84257) -- "Already Tomorrow" 4385
Click on any hostname to see more info about the system (e.g. compilers)      (*) as reported by 'uname -p', except on Windows and Mac OS X

BUILD results for gep2pep on palomino3


To the developers/maintainers of the gep2pep package:
- Allow up to 24 hours (and sometimes 48 hours) for your latest push to git@git.bioconductor.org:packages/gep2pep.git to reflect on this report. See Troubleshooting Build Report for more information.
- Use the following Renviron settings to reproduce errors and warnings.
- If 'R CMD check' started to fail recently on the Linux builder(s) over a missing dependency, add the missing dependency to 'Suggests:' in your DESCRIPTION file. See Renviron.bioc for more information.

raw results

Package 826/2229HostnameOS / ArchINSTALLBUILDCHECKBUILD BIN
gep2pep 1.20.0  (landing page)
Francesco Napolitano
Snapshot Date: 2023-06-07 14:00:16 -0400 (Wed, 07 Jun 2023)
git_url: https://git.bioconductor.org/packages/gep2pep
git_branch: RELEASE_3_17
git_last_commit: 363168c
git_last_commit_date: 2023-04-25 10:58:13 -0400 (Tue, 25 Apr 2023)
nebbiolo1Linux (Ubuntu 22.04.2 LTS) / x86_64  OK    OK    OK  UNNEEDED, same version is already published
palomino3Windows Server 2022 Datacenter / x64  OK    OK    OK    OK  UNNEEDED, same version is already published
merida1macOS 12.6.4 Monterey / x86_64  OK    OK    OK    OK  UNNEEDED, same version is already published

Summary

Package: gep2pep
Version: 1.20.0
Command: chmod a+r gep2pep -R && F:\biocbuild\bbs-3.17-bioc\R\bin\R.exe CMD build --keep-empty-dirs --no-resave-data gep2pep
StartedAt: 2023-06-07 19:25:14 -0400 (Wed, 07 Jun 2023)
EndedAt: 2023-06-07 19:25:43 -0400 (Wed, 07 Jun 2023)
EllapsedTime: 29.3 seconds
RetCode: 0
Status:   OK  
PackageFile: gep2pep_1.20.0.tar.gz
PackageFileSize: 122.9 KiB

Command output

##############################################################################
##############################################################################
###
### Running command:
###
###   chmod a+r gep2pep -R && F:\biocbuild\bbs-3.17-bioc\R\bin\R.exe CMD build --keep-empty-dirs --no-resave-data gep2pep
###
##############################################################################
##############################################################################


* checking for file 'gep2pep/DESCRIPTION' ... OK
* preparing 'gep2pep':
* checking DESCRIPTION meta-information ... OK
* installing the package to build vignettes
* creating vignettes ... OK
* checking for LF line-endings in source and make files and shell scripts
* checking for empty or unneeded directories
* building 'gep2pep_1.20.0.tar.gz'