Back to Multiple platform build/check report for BioC 3.17:   simplified   long
AB[C]DEFGHIJKLMNOPQRSTUVWXYZ

This page was generated on 2023-09-30 11:36:05 -0400 (Sat, 30 Sep 2023).

HostnameOSArch (*)R versionInstalled pkgs
nebbiolo1Linux (Ubuntu 22.04.2 LTS)x86_644.3.1 (2023-06-16) -- "Beagle Scouts" 4626
palomino3Windows Server 2022 Datacenterx644.3.1 (2023-06-16 ucrt) -- "Beagle Scouts" 4379
merida1macOS 12.6.4 Montereyx86_644.3.1 (2023-06-16) -- "Beagle Scouts" 4395
Click on any hostname to see more info about the system (e.g. compilers)      (*) as reported by 'uname -p', except on Windows and Mac OS X

Package 262/2230HostnameOS / ArchINSTALLBUILDCHECKBUILD BIN
canceR 1.34.0  (landing page)
Karim Mezhoud
Snapshot Date: 2023-09-29 14:00:14 -0400 (Fri, 29 Sep 2023)
git_url: https://git.bioconductor.org/packages/canceR
git_branch: RELEASE_3_17
git_last_commit: c49177f
git_last_commit_date: 2023-04-25 10:38:02 -0400 (Tue, 25 Apr 2023)
nebbiolo1Linux (Ubuntu 22.04.2 LTS) / x86_64  OK    OK    OK  UNNEEDED, same version is already published
palomino3Windows Server 2022 Datacenter / x64  OK    OK    OK    OK  UNNEEDED, same version is already published
merida1macOS 12.6.4 Monterey / x86_64  OK    OK    OK    OK  UNNEEDED, same version is already published

CHECK results for canceR on palomino3


To the developers/maintainers of the canceR package:
- Allow up to 24 hours (and sometimes 48 hours) for your latest push to git@git.bioconductor.org:packages/canceR.git to reflect on this report. See Troubleshooting Build Report for more information.
- Use the following Renviron settings to reproduce errors and warnings.
- If 'R CMD check' started to fail recently on the Linux builder(s) over a missing dependency, add the missing dependency to 'Suggests:' in your DESCRIPTION file. See Renviron.bioc for more information.

raw results


Summary

Package: canceR
Version: 1.34.0
Command: F:\biocbuild\bbs-3.17-bioc\R\bin\R.exe CMD check --no-multiarch --install=check:canceR.install-out.txt --library=F:\biocbuild\bbs-3.17-bioc\R\library --no-vignettes --timings canceR_1.34.0.tar.gz
StartedAt: 2023-09-30 00:12:54 -0400 (Sat, 30 Sep 2023)
EndedAt: 2023-09-30 00:16:46 -0400 (Sat, 30 Sep 2023)
EllapsedTime: 231.9 seconds
RetCode: 0
Status:   OK  
CheckDir: canceR.Rcheck
Warnings: 0

Command output

##############################################################################
##############################################################################
###
### Running command:
###
###   F:\biocbuild\bbs-3.17-bioc\R\bin\R.exe CMD check --no-multiarch --install=check:canceR.install-out.txt --library=F:\biocbuild\bbs-3.17-bioc\R\library --no-vignettes --timings canceR_1.34.0.tar.gz
###
##############################################################################
##############################################################################


* using log directory 'F:/biocbuild/bbs-3.17-bioc/meat/canceR.Rcheck'
* using R version 4.3.1 (2023-06-16 ucrt)
* using platform: x86_64-w64-mingw32 (64-bit)
* R was compiled by
    gcc.exe (GCC) 12.2.0
    GNU Fortran (GCC) 12.2.0
* running under: Windows Server 2022 x64 (build 20348)
* using session charset: UTF-8
* using option '--no-vignettes'
* checking for file 'canceR/DESCRIPTION' ... OK
* checking extension type ... Package
* this is package 'canceR' version '1.34.0'
* package encoding: UTF-8
* checking package namespace information ... OK
* checking package dependencies ... OK
* checking if this is a source package ... OK
* checking if there is a namespace ... OK
* checking for hidden files and directories ... OK
* checking for portable file names ... OK
* checking whether package 'canceR' can be installed ... OK
* checking installed package size ... OK
* checking package directory ... OK
* checking 'build' directory ... OK
* checking DESCRIPTION meta-information ... OK
* checking top-level files ... OK
* checking for left-over files ... OK
* checking index information ... OK
* checking package subdirectories ... OK
* checking R files for non-ASCII characters ... OK
* checking R files for syntax errors ... OK
* checking whether the package can be loaded ... OK
* checking whether the package can be loaded with stated dependencies ... OK
* checking whether the package can be unloaded cleanly ... OK
* checking whether the namespace can be loaded with stated dependencies ... OK
* checking whether the namespace can be unloaded cleanly ... OK
* checking dependencies in R code ... NOTE
Namespace in Imports field not imported from: 'R.methodsS3'
  All declared Imports should be used.
* checking S3 generic/method consistency ... OK
* checking replacement functions ... OK
* checking foreign function calls ... OK
* checking R code for possible problems ... OK
* checking Rd files ... OK
* checking Rd metadata ... OK
* checking Rd cross-references ... OK
* checking for missing documentation entries ... OK
* checking for code/documentation mismatches ... OK
* checking Rd \usage sections ... NOTE
S3 methods shown with full name in documentation object 'cbind.na':
  'cbind.na'

S3 methods shown with full name in documentation object 'rbind.na':
  'rbind.na'

The \usage entries for S3 methods should use the \method markup and not
their full name.
See chapter 'Writing R documentation files' in the 'Writing R
Extensions' manual.
* checking Rd contents ... OK
* checking for unstated dependencies in examples ... OK
* checking files in 'vignettes' ... OK
* checking examples ... OK
* checking for unstated dependencies in 'tests' ... OK
* checking tests ...
  Running 'testthat.R'
 OK
* checking for unstated dependencies in vignettes ... OK
* checking package vignettes in 'inst/doc' ... OK
* checking running R code from vignettes ... SKIPPED
* checking re-building of vignette outputs ... SKIPPED
* checking PDF version of manual ... OK
* DONE

Status: 2 NOTEs
See
  'F:/biocbuild/bbs-3.17-bioc/meat/canceR.Rcheck/00check.log'
for details.



Installation output

canceR.Rcheck/00install.out

##############################################################################
##############################################################################
###
### Running command:
###
###   F:\biocbuild\bbs-3.17-bioc\R\bin\R.exe CMD INSTALL canceR
###
##############################################################################
##############################################################################


* installing to library 'F:/biocbuild/bbs-3.17-bioc/R/library'
* installing *source* package 'canceR' ...
** using staged installation
** R
** inst
** byte-compile and prepare package for lazy loading
** help
*** installing help indices
** building package indices
** installing vignettes
** testing if installed package can be loaded from temporary location
** testing if installed package can be loaded from final location
** testing if installed package keeps a record of temporary installation path
* DONE (canceR)

Tests output

canceR.Rcheck/tests/testthat.Rout


R version 4.3.1 (2023-06-16 ucrt) -- "Beagle Scouts"
Copyright (C) 2023 The R Foundation for Statistical Computing
Platform: x86_64-w64-mingw32/x64 (64-bit)

R is free software and comes with ABSOLUTELY NO WARRANTY.
You are welcome to redistribute it under certain conditions.
Type 'license()' or 'licence()' for distribution details.

R is a collaborative project with many contributors.
Type 'contributors()' for more information and
'citation()' on how to cite R or R packages in publications.

Type 'demo()' for some demos, 'help()' for on-line help, or
'help.start()' for an HTML browser interface to help.
Type 'q()' to quit R.

> library(testthat)
> library(canceR)
Loading required package: tcltk

> 
> test_check("canceR")
getCancerStudies...  OK
getCaseLists (1/2) ...  OK
getCaseLists (2/2) ...  OK
getGeneticProfiles (1/2) ...  OK
getGeneticProfiles (2/2) ...  OK
getClinicalData (1/1) ...  OK
getProfileData (1/6) ...  OK
getProfileData (2/6) ...  OK
getProfileData (3/6) ...  OK
getProfileData (4/6) ...  OK
getProfileData (5/6) ...  OK
getProfileData (6/6) ...  OK
[ FAIL 0 | WARN 0 | SKIP 1 | PASS 0 ]

══ Skipped tests (1) ═══════════════════════════════════════════════════════════
• empty test (1): 'test_funs.R:8:1'

[ FAIL 0 | WARN 0 | SKIP 1 | PASS 0 ]
> 
> proc.time()
   user  system elapsed 
  10.06    0.85   11.09 

Example timings

canceR.Rcheck/canceR-Ex.timings

nameusersystemelapsed
GSEA.Analyze.Sets000
GSEA.ConsPlot000
GSEA.EnrichmentScore000
GSEA.EnrichmentScore2000
GSEA.Gct2Frame000
GSEA.Gct2Frame20.000.020.01
GSEA.GeneRanking000
GSEA.HeatMapPlot000
GSEA.HeatMapPlot2000
GSEA.NormalizeCols000
GSEA.NormalizeRows000
GSEA000
GSEA.ReadClsFile000
GSEA.Res2Frame000
GSEA.Threshold000
GSEA.VarFilter000
GSEA.write.gct0.000.010.02
Match_GeneList_MSigDB000
OLD.GSEA.EnrichmentScore000
Run.GSEA000
about000
canceR000
canceR_Issue000
canceR_Vignette000
cbind.na000
dialogGeneClassifier000
dialogMetOption0.020.000.01
dialogMut000
dialogOptionCircos000
dialogOptionGSEAlm000
dialogOptionPhenoTest000
dialogPlotOption_SkinCor000
dialogSamplingGSEA000
dialogSelectFiles_GSEA000
dialogSpecificMut000
dialogSummary_GSEA000
dialoggetGeneListMSigDB000
displayInTable000
getCases000
getCasesGenProfs000
getCircos000
getClinicData_MultipleCases000
getClinicalDataMatrix000
getCor_ExpCNAMet000
getGCTCLSExample000
getGCT_CLSfiles000
getGSEAlm_Diseases000
getGSEAlm_Variables000
getGenProfs000
getGeneList000
getGeneListExample000
getGeneListFromMSigDB000
getGenesClassifier000
getGenesTree_MultipleCases000
getGenesTree_SingleCase000
getInTable0.000.020.02
getListProfData000
getMSigDB000
getMSigDBExample000
getMSigDBfile000
getMegaProfData000
getMetDataMultipleGenes000
getMutData000
getPhenoTest000
getProfilesDataMultipleGenes000
getProfilesDataSingleGene000
getSpecificMut000
getSummaryGSEA000
getSurvival000
getTextWin000
geteSet000
modalDialog000
myGlobalEnv000
plotModel000
plot_1Gene_2GenProfs000
plot_2Genes_1GenProf000
rbind.na000
setWorkspace0.020.000.01
testCheckedCaseGenProf000