Back to Multiple platform build/check report for BioC 3.17:   simplified   long
ABCDEFGHIJKLMNO[P]QRSTUVWXYZ

This page was generated on 2023-09-23 11:35:14 -0400 (Sat, 23 Sep 2023).

HostnameOSArch (*)R versionInstalled pkgs
nebbiolo1Linux (Ubuntu 22.04.2 LTS)x86_644.3.1 (2023-06-16) -- "Beagle Scouts" 4625
palomino3Windows Server 2022 Datacenterx644.3.1 (2023-06-16 ucrt) -- "Beagle Scouts" 4378
merida1macOS 12.6.4 Montereyx86_644.3.1 (2023-06-16) -- "Beagle Scouts" 4394
Click on any hostname to see more info about the system (e.g. compilers)      (*) as reported by 'uname -p', except on Windows and Mac OS X

Package 1481/2230HostnameOS / ArchINSTALLBUILDCHECKBUILD BIN
pathwayPCA 1.16.1  (landing page)
Gabriel Odom
Snapshot Date: 2023-09-22 14:00:14 -0400 (Fri, 22 Sep 2023)
git_url: https://git.bioconductor.org/packages/pathwayPCA
git_branch: RELEASE_3_17
git_last_commit: 68921ca
git_last_commit_date: 2023-06-29 10:15:15 -0400 (Thu, 29 Jun 2023)
nebbiolo1Linux (Ubuntu 22.04.2 LTS) / x86_64  OK    OK    OK  UNNEEDED, same version is already published
palomino3Windows Server 2022 Datacenter / x64  OK    OK    OK    OK  UNNEEDED, same version is already published
merida1macOS 12.6.4 Monterey / x86_64  OK    OK    OK    OK  UNNEEDED, same version is already published

CHECK results for pathwayPCA on nebbiolo1


To the developers/maintainers of the pathwayPCA package:
- Allow up to 24 hours (and sometimes 48 hours) for your latest push to git@git.bioconductor.org:packages/pathwayPCA.git to reflect on this report. See Troubleshooting Build Report for more information.
- Use the following Renviron settings to reproduce errors and warnings.
- If 'R CMD check' started to fail recently on the Linux builder(s) over a missing dependency, add the missing dependency to 'Suggests:' in your DESCRIPTION file. See Renviron.bioc for more information.

raw results


Summary

Package: pathwayPCA
Version: 1.16.1
Command: /home/biocbuild/bbs-3.17-bioc/R/bin/R CMD check --install=check:pathwayPCA.install-out.txt --library=/home/biocbuild/bbs-3.17-bioc/R/site-library --timings pathwayPCA_1.16.1.tar.gz
StartedAt: 2023-09-23 00:06:58 -0400 (Sat, 23 Sep 2023)
EndedAt: 2023-09-23 00:12:15 -0400 (Sat, 23 Sep 2023)
EllapsedTime: 317.0 seconds
RetCode: 0
Status:   OK  
CheckDir: pathwayPCA.Rcheck
Warnings: 0

Command output

##############################################################################
##############################################################################
###
### Running command:
###
###   /home/biocbuild/bbs-3.17-bioc/R/bin/R CMD check --install=check:pathwayPCA.install-out.txt --library=/home/biocbuild/bbs-3.17-bioc/R/site-library --timings pathwayPCA_1.16.1.tar.gz
###
##############################################################################
##############################################################################


* using log directory ‘/home/biocbuild/bbs-3.17-bioc/meat/pathwayPCA.Rcheck’
* using R version 4.3.1 (2023-06-16)
* using platform: x86_64-pc-linux-gnu (64-bit)
* R was compiled by
    gcc (Ubuntu 11.3.0-1ubuntu1~22.04.1) 11.3.0
    GNU Fortran (Ubuntu 11.3.0-1ubuntu1~22.04.1) 11.3.0
* running under: Ubuntu 22.04.3 LTS
* using session charset: UTF-8
* checking for file ‘pathwayPCA/DESCRIPTION’ ... OK
* checking extension type ... Package
* this is package ‘pathwayPCA’ version ‘1.16.1’
* package encoding: UTF-8
* checking package namespace information ... OK
* checking package dependencies ... OK
* checking if this is a source package ... OK
* checking if there is a namespace ... OK
* checking for hidden files and directories ... OK
* checking for portable file names ... OK
* checking for sufficient/correct file permissions ... OK
* checking whether package ‘pathwayPCA’ can be installed ... OK
* checking installed package size ... OK
* checking package directory ... OK
* checking ‘build’ directory ... OK
* checking DESCRIPTION meta-information ... OK
* checking top-level files ... OK
* checking for left-over files ... OK
* checking index information ... OK
* checking package subdirectories ... OK
* checking R files for non-ASCII characters ... OK
* checking R files for syntax errors ... OK
* checking whether the package can be loaded ... OK
* checking whether the package can be loaded with stated dependencies ... OK
* checking whether the package can be unloaded cleanly ... OK
* checking whether the namespace can be loaded with stated dependencies ... OK
* checking whether the namespace can be unloaded cleanly ... OK
* checking loading without being on the library search path ... OK
* checking dependencies in R code ... OK
* checking S3 generic/method consistency ... OK
* checking replacement functions ... OK
* checking foreign function calls ... OK
* checking R code for possible problems ... OK
* checking Rd files ... OK
* checking Rd metadata ... OK
* checking Rd cross-references ... OK
* checking for missing documentation entries ... OK
* checking for code/documentation mismatches ... OK
* checking Rd \usage sections ... OK
* checking Rd contents ... OK
* checking for unstated dependencies in examples ... OK
* checking contents of ‘data’ directory ... OK
* checking data for non-ASCII characters ... OK
* checking data for ASCII and uncompressed saves ... OK
* checking files in ‘vignettes’ ... OK
* checking examples ... OK
Examples with CPU (user + system) or elapsed time > 5s
                user system elapsed
SE2Tidy        9.299  0.652   9.953
LoadOntoPCs    0.628  0.086   6.996
ExtractAESPCs  0.513  0.111   9.210
AESPCA_pVals   0.369  0.037  10.250
SuperPCA_pVals 0.314  0.021   5.488
getPathPCLs    0.309  0.021   6.891
getPathpVals   0.236  0.004   6.451
* checking for unstated dependencies in ‘tests’ ... OK
* checking tests ...
  Running ‘testthat.R’
 OK
* checking for unstated dependencies in vignettes ... OK
* checking package vignettes in ‘inst/doc’ ... OK
* checking running R code from vignettes ...
  ‘Introduction_to_pathwayPCA.Rmd’ using ‘UTF-8’... OK
  ‘Supplement1-Quickstart_Guide.Rmd’ using ‘UTF-8’... OK
  ‘Supplement2-Importing_Data.Rmd’ using ‘UTF-8’... OK
  ‘Supplement3-Create_Omics_Objects.Rmd’ using ‘UTF-8’... OK
  ‘Supplement4-Methods_Walkthrough.Rmd’ using ‘UTF-8’... OK
  ‘Supplement5-Analyse_Results.Rmd’ using ‘UTF-8’... OK
 NONE
* checking re-building of vignette outputs ... OK
* checking PDF version of manual ... OK
* DONE

Status: OK


Installation output

pathwayPCA.Rcheck/00install.out

##############################################################################
##############################################################################
###
### Running command:
###
###   /home/biocbuild/bbs-3.17-bioc/R/bin/R CMD INSTALL pathwayPCA
###
##############################################################################
##############################################################################


* installing to library ‘/home/biocbuild/bbs-3.17-bioc/R/site-library’
* installing *source* package ‘pathwayPCA’ ...
** using staged installation
** R
** data
** inst
** byte-compile and prepare package for lazy loading
** help
*** installing help indices
** building package indices
** installing vignettes
** testing if installed package can be loaded from temporary location
** testing if installed package can be loaded from final location
** testing if installed package keeps a record of temporary installation path
* DONE (pathwayPCA)

Tests output

pathwayPCA.Rcheck/tests/testthat.Rout


R version 4.3.1 (2023-06-16) -- "Beagle Scouts"
Copyright (C) 2023 The R Foundation for Statistical Computing
Platform: x86_64-pc-linux-gnu (64-bit)

R is free software and comes with ABSOLUTELY NO WARRANTY.
You are welcome to redistribute it under certain conditions.
Type 'license()' or 'licence()' for distribution details.

R is a collaborative project with many contributors.
Type 'contributors()' for more information and
'citation()' on how to cite R or R packages in publications.

Type 'demo()' for some demos, 'help()' for on-line help, or
'help.start()' for an HTML browser interface to help.
Type 'q()' to quit R.

> library(testthat)
> library(pathwayPCA)
> 
> test_check("pathwayPCA")
[ FAIL 0 | WARN 0 | SKIP 0 | PASS 47 ]
> 
> proc.time()
   user  system elapsed 
 12.695   0.771  35.481 

Example timings

pathwayPCA.Rcheck/pathwayPCA-Ex.timings

nameusersystemelapsed
AESPCA_pVals 0.369 0.03710.250
CheckAssay000
CheckPwyColl0.0010.0000.001
CheckSampleIDs000
Contains0.0010.0000.001
ControlFDR0.0010.0000.001
CreateOmics0.6430.1871.121
CreateOmicsPathway0.2520.0040.256
CreatePathwayCollection0.0130.0000.012
ExtractAESPCs0.5130.1119.210
GumbelMixpValues0.0010.0000.000
IntersectOmicsPwyCollct0.0010.0000.001
JoinPhenoAssay0.0010.0000.000
LoadOntoPCs0.6280.0866.996
OptimGumbelMixParams0.0000.0000.001
PathwaytValues0.0000.0000.001
PermTestCateg0.0000.0000.001
PermTestReg0.0000.0000.001
PermTestSurv0.0000.0000.001
SE2Tidy9.2990.6529.953
SubsetPathwayCollection0.0030.0010.003
SubsetPathwayData0.2740.0830.357
SuperPCA_pVals0.3140.0215.488
TabulatepValues0.0000.0010.000
TransposeAssay0.0400.0350.075
WhichPathways0.0060.0000.006
aespca000
coxTrain_fun0.0010.0000.001
getPathPCLs0.3090.0216.891
getPathpVals0.2360.0046.451
get_set_OmicsPathway0.6570.5841.241
get_set_OmicsRegCateg0.190.000.19
get_set_OmicsSurv0.2410.0200.261
glmTrain_fun0.0000.0000.001
lars.lsa0.0010.0000.001
mysvd0.0010.0000.001
normalize000
olsTrain_fun000
pathway_tControl0.0000.0010.000
pathway_tScores0.0000.0010.000
permuteSamps0.0000.0010.001
print.pathwayCollection0.0020.0010.004
read_gmt0.0660.0000.068
show-OmicsPathway-method0.2280.0080.236
superpc.st000
superpc.train000
write_gmt0.0010.0020.002