Back to Multiple platform build/check report for BioC 3.17:   simplified   long
ABCDEFGHIJKL[M]NOPQRSTUVWXYZ

This page was generated on 2023-03-24 11:06:10 -0400 (Fri, 24 Mar 2023).

HostnameOSArch (*)R versionInstalled pkgs
nebbiolo1Linux (Ubuntu 22.04.1 LTS)x86_64R Under development (unstable) (2023-03-16 r83996) -- "Unsuffered Consequences" 4546
palomino3Windows Server 2022 Datacenterx64R Under development (unstable) (2023-03-15 r83984 ucrt) -- "Unsuffered Consequences" 4307
merida1macOS 10.14.6 Mojavex86_64R Under development (unstable) (2023-03-16 r83985) -- "Unsuffered Consequences" 4299
Click on any hostname to see more info about the system (e.g. compilers)      (*) as reported by 'uname -p', except on Windows and Mac OS X

CHECK results for MutationalPatterns on palomino3


To the developers/maintainers of the MutationalPatterns package:
- Please allow up to 24 hours (and sometimes 48 hours) for your latest push to git@git.bioconductor.org:packages/MutationalPatterns.git to
reflect on this report. See How and When does the builder pull? When will my changes propagate? for more information.
- Make sure to use the following settings in order to reproduce any error or warning you see on this page.

raw results

Package 1327/2195HostnameOS / ArchINSTALLBUILDCHECKBUILD BIN
MutationalPatterns 3.9.1  (landing page)
Mark van Roosmalen
Snapshot Date: 2023-03-23 14:00:15 -0400 (Thu, 23 Mar 2023)
git_url: https://git.bioconductor.org/packages/MutationalPatterns
git_branch: devel
git_last_commit: b8898d2
git_last_commit_date: 2023-01-11 01:57:43 -0400 (Wed, 11 Jan 2023)
nebbiolo1Linux (Ubuntu 22.04.1 LTS) / x86_64  OK    OK    OK  UNNEEDED, same version is already published
palomino3Windows Server 2022 Datacenter / x64  OK    OK    OK    OK  UNNEEDED, same version is already published
merida1macOS 10.14.6 Mojave / x86_64  OK    OK    OK    OK  UNNEEDED, same version is already published

Summary

Package: MutationalPatterns
Version: 3.9.1
Command: F:\biocbuild\bbs-3.17-bioc\R\bin\R.exe CMD check --no-multiarch --install=check:MutationalPatterns.install-out.txt --library=F:\biocbuild\bbs-3.17-bioc\R\library --no-vignettes --timings MutationalPatterns_3.9.1.tar.gz
StartedAt: 2023-03-24 04:20:08 -0400 (Fri, 24 Mar 2023)
EndedAt: 2023-03-24 04:30:11 -0400 (Fri, 24 Mar 2023)
EllapsedTime: 603.0 seconds
RetCode: 0
Status:   OK  
CheckDir: MutationalPatterns.Rcheck
Warnings: 0

Command output

##############################################################################
##############################################################################
###
### Running command:
###
###   F:\biocbuild\bbs-3.17-bioc\R\bin\R.exe CMD check --no-multiarch --install=check:MutationalPatterns.install-out.txt --library=F:\biocbuild\bbs-3.17-bioc\R\library --no-vignettes --timings MutationalPatterns_3.9.1.tar.gz
###
##############################################################################
##############################################################################


* using log directory 'F:/biocbuild/bbs-3.17-bioc/meat/MutationalPatterns.Rcheck'
* using R Under development (unstable) (2023-03-15 r83984 ucrt)
* using platform: x86_64-w64-mingw32 (64-bit)
* R was compiled by
    gcc.exe (GCC) 12.2.0
    GNU Fortran (GCC) 12.2.0
* running under: Windows Server 2022 x64 (build 20348)
* using session charset: UTF-8
* using option '--no-vignettes'
* checking for file 'MutationalPatterns/DESCRIPTION' ... OK
* checking extension type ... Package
* this is package 'MutationalPatterns' version '3.9.1'
* package encoding: UTF-8
* checking package namespace information ... OK
* checking package dependencies ... OK
* checking if this is a source package ... OK
* checking if there is a namespace ... OK
* checking for hidden files and directories ... OK
* checking for portable file names ... OK
* checking whether package 'MutationalPatterns' can be installed ... OK
* checking installed package size ... OK
* checking package directory ... OK
* checking 'build' directory ... OK
* checking DESCRIPTION meta-information ... OK
* checking top-level files ... OK
* checking for left-over files ... OK
* checking index information ... OK
* checking package subdirectories ... OK
* checking R files for non-ASCII characters ... OK
* checking R files for syntax errors ... OK
* checking whether the package can be loaded ... OK
* checking whether the package can be loaded with stated dependencies ... OK
* checking whether the package can be unloaded cleanly ... OK
* checking whether the namespace can be loaded with stated dependencies ... OK
* checking whether the namespace can be unloaded cleanly ... OK
* checking dependencies in R code ... OK
* checking S3 generic/method consistency ... OK
* checking replacement functions ... OK
* checking foreign function calls ... OK
* checking R code for possible problems ... OK
* checking Rd files ... OK
* checking Rd metadata ... OK
* checking Rd cross-references ... OK
* checking for missing documentation entries ... OK
* checking for code/documentation mismatches ... OK
* checking Rd \usage sections ... OK
* checking Rd contents ... OK
* checking for unstated dependencies in examples ... OK
* checking files in 'vignettes' ... OK
* checking examples ... OK
Examples with CPU (user + system) or elapsed time > 5s
                                   user system elapsed
context_potential_damage_analysis 24.83   0.50   25.34
read_vcfs_as_granges              21.13   2.14   28.19
plot_lesion_segregation           13.07   0.23   13.31
get_mut_type                      12.28   0.06   12.43
genomic_distribution              10.45   1.18   12.14
calculate_lesion_segregation       9.78   0.35   10.13
bin_mutation_density               9.11   0.42    9.61
plot_compare_indels                8.94   0.09    9.03
get_indel_context                  6.88   0.88    7.75
plot_indel_contexts                7.63   0.09    7.72
fit_to_signatures_bootstrapped     5.06   0.42    5.48
plot_spectrum_region               5.25   0.22    5.54
plot_river                         5.36   0.03    5.39
plot_compare_dbs                   5.22   0.09    5.34
plot_spectrum                      4.82   0.28    5.11
* checking for unstated dependencies in 'tests' ... OK
* checking tests ...
  Running 'testthat.R'
 OK
* checking for unstated dependencies in vignettes ... OK
* checking package vignettes in 'inst/doc' ... OK
* checking running R code from vignettes ... SKIPPED
* checking re-building of vignette outputs ... SKIPPED
* checking PDF version of manual ... OK
* DONE

Status: OK


Installation output

MutationalPatterns.Rcheck/00install.out

##############################################################################
##############################################################################
###
### Running command:
###
###   F:\biocbuild\bbs-3.17-bioc\R\bin\R.exe CMD INSTALL MutationalPatterns
###
##############################################################################
##############################################################################


* installing to library 'F:/biocbuild/bbs-3.17-bioc/R/library'
* installing *source* package 'MutationalPatterns' ...
** using staged installation
** R
** inst
** byte-compile and prepare package for lazy loading
** help
*** installing help indices
** building package indices
** installing vignettes
** testing if installed package can be loaded from temporary location
** testing if installed package can be loaded from final location
** testing if installed package keeps a record of temporary installation path
* DONE (MutationalPatterns)

Tests output

MutationalPatterns.Rcheck/tests/testthat.Rout


R Under development (unstable) (2023-03-15 r83984 ucrt) -- "Unsuffered Consequences"
Copyright (C) 2023 The R Foundation for Statistical Computing
Platform: x86_64-w64-mingw32/x64 (64-bit)

R is free software and comes with ABSOLUTELY NO WARRANTY.
You are welcome to redistribute it under certain conditions.
Type 'license()' or 'licence()' for distribution details.

R is a collaborative project with many contributors.
Type 'contributors()' for more information and
'citation()' on how to cite R or R packages in publications.

Type 'demo()' for some demos, 'help()' for on-line help, or
'help.start()' for an HTML browser interface to help.
Type 'q()' to quit R.

> library(testthat)
> library(MutationalPatterns)
Loading required package: GenomicRanges
Loading required package: stats4
Loading required package: BiocGenerics

Attaching package: 'BiocGenerics'

The following objects are masked from 'package:stats':

    IQR, mad, sd, var, xtabs

The following objects are masked from 'package:base':

    Filter, Find, Map, Position, Reduce, anyDuplicated, aperm, append,
    as.data.frame, basename, cbind, colnames, dirname, do.call,
    duplicated, eval, evalq, get, grep, grepl, intersect, is.unsorted,
    lapply, mapply, match, mget, order, paste, pmax, pmax.int, pmin,
    pmin.int, rank, rbind, rownames, sapply, setdiff, sort, table,
    tapply, union, unique, unsplit, which.max, which.min

Loading required package: S4Vectors

Attaching package: 'S4Vectors'

The following objects are masked from 'package:base':

    I, expand.grid, unname

Loading required package: IRanges

Attaching package: 'IRanges'

The following object is masked from 'package:grDevices':

    windows

Loading required package: GenomeInfoDb
Loading required package: NMF
Loading required package: registry
Loading required package: rngtools
Loading required package: cluster
NMF - BioConductor layer [OK] | Shared memory capabilities [NO: windows] | Cores 2/2

Attaching package: 'NMF'

The following object is masked from 'package:S4Vectors':

    nrun

The following object is masked from 'package:testthat':

    compare

> 
> test_check("MutationalPatterns")
[ FAIL 0 | WARN 5 | SKIP 0 | PASS 474 ]

[ FAIL 0 | WARN 5 | SKIP 0 | PASS 474 ]
> 
> proc.time()
   user  system elapsed 
 211.92   15.46  236.29 

Example timings

MutationalPatterns.Rcheck/MutationalPatterns-Ex.timings

nameusersystemelapsed
bin_mutation_density9.110.429.61
binomial_test0.000.010.02
calculate_lesion_segregation 9.78 0.3510.13
cluster_signatures0.030.010.14
context_potential_damage_analysis24.83 0.5025.34
convert_sigs_to_ref0.040.000.06
cos_sim000
cos_sim_matrix0.030.000.03
count_dbs_contexts0.130.000.13
count_indel_contexts0.170.000.17
count_mbs_contexts0.090.000.09
determine_regional_similarity3.190.303.49
enrichment_depletion_test0.190.000.18
extract_signatures000
fit_to_signatures0.090.030.13
fit_to_signatures_bootstrapped5.060.425.48
fit_to_signatures_strict2.830.112.94
genomic_distribution10.45 1.1812.14
get_dbs_context0.250.010.26
get_indel_context6.880.887.75
get_known_signatures0.420.200.92
get_mut_type12.28 0.0612.43
lengthen_mut_matrix0.020.000.01
merge_signatures1.010.111.13
mut_context1.140.171.31
mut_matrix2.010.282.30
mut_matrix_stranded4.070.634.69
mut_strand1.080.031.11
mut_type0.030.000.03
mut_type_occurrences0.830.201.04
mutations_from_vcf0.030.000.03
plot_192_profile2.990.033.03
plot_96_profile2.640.022.65
plot_bootstrapped_contribution1.980.052.04
plot_compare_dbs5.220.095.34
plot_compare_indels8.940.099.03
plot_compare_mbs0.870.020.89
plot_compare_profiles2.080.002.08
plot_contribution3.950.003.95
plot_contribution_heatmap1.520.061.58
plot_correlation_bootstrap0.530.010.54
plot_cosine_heatmap1.640.101.74
plot_dbs_contexts3.380.013.39
plot_enrichment_depletion3.010.073.08
plot_indel_contexts7.630.097.72
plot_lesion_segregation13.07 0.2313.31
plot_main_dbs_contexts0.50.00.5
plot_main_indel_contexts0.580.020.59
plot_mbs_contexts0.470.020.49
plot_original_vs_reconstructed0.560.000.56
plot_profile_heatmap4.780.124.91
plot_profile_region0.980.051.03
plot_rainfall1.860.051.90
plot_regional_similarity1.570.001.57
plot_river5.360.035.39
plot_signature_strand_bias0.820.000.82
plot_spectrum4.820.285.11
plot_spectrum_region5.250.225.54
plot_strand0.170.030.20
plot_strand_bias0.90.00.9
pool_mut_mat0.050.000.05
read_vcfs_as_granges21.13 2.1428.19
rename_nmf_signatures0.030.030.08
signature_potential_damage_analysis0.090.000.11
split_muts_region4.310.024.36
strand_bias_test0.130.000.12
strand_occurrences0.220.000.25
type_context1.240.281.51