Back to Multiple platform build/check report for BioC 3.17:   simplified   long
[A]BCDEFGHIJKLMNOPQRSTUVWXYZ

This page was generated on 2023-03-27 11:06:23 -0400 (Mon, 27 Mar 2023).

HostnameOSArch (*)R versionInstalled pkgs
nebbiolo1Linux (Ubuntu 22.04.1 LTS)x86_64R Under development (unstable) (2023-03-16 r83996) -- "Unsuffered Consequences" 4547
palomino3Windows Server 2022 Datacenterx64R Under development (unstable) (2023-03-15 r83984 ucrt) -- "Unsuffered Consequences" 4308
merida1macOS 10.14.6 Mojavex86_64R Under development (unstable) (2023-03-16 r83985) -- "Unsuffered Consequences" 4300
Click on any hostname to see more info about the system (e.g. compilers)      (*) as reported by 'uname -p', except on Windows and Mac OS X

BUILD BIN results for ATACseqTFEA on merida1


To the developers/maintainers of the ATACseqTFEA package:
- Please allow up to 24 hours (and sometimes 48 hours) for your latest push to git@git.bioconductor.org:packages/ATACseqTFEA.git to
reflect on this report. See How and When does the builder pull? When will my changes propagate? for more information.
- Make sure to use the following settings in order to reproduce any error or warning you see on this page.

raw results

Package 106/2195HostnameOS / ArchINSTALLBUILDCHECKBUILD BIN
ATACseqTFEA 1.1.1  (landing page)
Jianhong Ou
Snapshot Date: 2023-03-26 14:00:09 -0400 (Sun, 26 Mar 2023)
git_url: https://git.bioconductor.org/packages/ATACseqTFEA
git_branch: devel
git_last_commit: 203524e
git_last_commit_date: 2022-11-04 14:13:13 -0400 (Fri, 04 Nov 2022)
nebbiolo1Linux (Ubuntu 22.04.1 LTS) / x86_64  OK    OK    OK  UNNEEDED, same version is already published
palomino3Windows Server 2022 Datacenter / x64  OK    OK    OK    OK  UNNEEDED, same version is already published
merida1macOS 10.14.6 Mojave / x86_64  OK    OK    OK    OK  UNNEEDED, same version is already published

Summary

Package: ATACseqTFEA
Version: 1.1.1
Command: rm -rf ATACseqTFEA.buildbin-libdir && mkdir ATACseqTFEA.buildbin-libdir && /Users/biocbuild/BBS/utils/build-universal.sh ATACseqTFEA_1.1.1.tar.gz /Library/Frameworks/R.framework/Resources/bin/R ATACseqTFEA.buildbin-libdir
StartedAt: 2023-03-27 08:36:22 -0400 (Mon, 27 Mar 2023)
EndedAt: 2023-03-27 08:38:43 -0400 (Mon, 27 Mar 2023)
EllapsedTime: 140.6 seconds
RetCode: 0
Status:   OK  
PackageFile: ATACseqTFEA_1.1.1.tgz
PackageFileSize: 4.856 MiB

Command output

##############################################################################
##############################################################################
###
### Running command:
###
###   rm -rf ATACseqTFEA.buildbin-libdir && mkdir ATACseqTFEA.buildbin-libdir && /Users/biocbuild/BBS/utils/build-universal.sh ATACseqTFEA_1.1.1.tar.gz /Library/Frameworks/R.framework/Resources/bin/R ATACseqTFEA.buildbin-libdir
###
##############################################################################
##############################################################################


>>>>>>> 
>>>>>>> INSTALLATION WITH 'R CMD INSTALL --preclean --no-multiarch --library=ATACseqTFEA.buildbin-libdir ATACseqTFEA_1.1.1.tar.gz'
>>>>>>> 

* installing *source* package ‘ATACseqTFEA’ ...
** using staged installation
** R
** inst
** byte-compile and prepare package for lazy loading
** help
*** installing help indices
** building package indices
** installing vignettes
** testing if installed package can be loaded from temporary location
** testing if installed package can be loaded from final location
** testing if installed package keeps a record of temporary installation path
* DONE (ATACseqTFEA)