Back to Multiple platform build/check report for BioC 3.17:   simplified   long
ABCDEFGHIJKLMNOPQ[R]STUVWXYZ

This page was generated on 2023-03-23 11:04:43 -0400 (Thu, 23 Mar 2023).

HostnameOSArch (*)R versionInstalled pkgs
nebbiolo1Linux (Ubuntu 22.04.1 LTS)x86_64R Under development (unstable) (2023-03-16 r83996) -- "Unsuffered Consequences" 4536
palomino3Windows Server 2022 Datacenterx64R Under development (unstable) (2023-03-15 r83984 ucrt) -- "Unsuffered Consequences" 4298
merida1macOS 10.14.6 Mojavex86_64R Under development (unstable) (2023-03-16 r83985) -- "Unsuffered Consequences" 4290
Click on any hostname to see more info about the system (e.g. compilers)      (*) as reported by 'uname -p', except on Windows and Mac OS X

All results for package rhdf5


To the developers/maintainers of the rhdf5 package:
- Please allow up to 24 hours (and sometimes 48 hours) for your latest push to git@git.bioconductor.org:packages/rhdf5.git to
reflect on this report. See How and When does the builder pull? When will my changes propagate? for more information.
- Make sure to use the following settings in order to reproduce any error or warning you see on this page.

raw results

Package 1679/2189HostnameOS / ArchINSTALLBUILDCHECKBUILD BIN
rhdf5 2.43.1  (landing page)
Mike Smith
Snapshot Date: 2023-03-22 14:00:17 -0400 (Wed, 22 Mar 2023)
git_url: https://git.bioconductor.org/packages/rhdf5
git_branch: devel
git_last_commit: da93fe0
git_last_commit_date: 2022-12-01 08:15:09 -0400 (Thu, 01 Dec 2022)
nebbiolo1Linux (Ubuntu 22.04.1 LTS) / x86_64  OK    OK    WARNINGS  UNNEEDED, same version is already published
palomino3Windows Server 2022 Datacenter / x64  OK    OK    WARNINGS    OK  UNNEEDED, same version is already published
merida1macOS 10.14.6 Mojave / x86_64  OK    OK    WARNINGS    OK  UNNEEDED, same version is already published

Results for Bioconductor software packages that depend directly on package rhdf5

QUICK STATSOS / ArchINSTALLBUILDCHECKBUILD BIN
nebbiolo1Linux (Ubuntu 22.04.1 LTS) / x86_64
0046
0145
031131
palomino3Windows Server 2022 Datacenter / x64
0145
0343
04732
0043
merida1macOS 10.14.6 Mojave / x86_64
0046
0046
331228
0046
Package 1/46HostnameOS / ArchINSTALLBUILDCHECKBUILD BIN
alabaster.base 0.99.5  (landing page)
Aaron Lun
git_last_commit: ac51a01
git_last_commit_date: 2023-03-05 01:05:35 -0400
nebbiolo1Linux (Ubuntu 22.04.1 LTS) / x86_64  OK    OK    WARNINGS  UNNEEDED, same version is already published
palomino3Windows Server 2022 Datacenter / x64  OK    OK    ERROR    OK  
merida1macOS 10.14.6 Mojave / x86_64  OK    OK    WARNINGS    OK  UNNEEDED, same version is already published
Package 2/46HostnameOS / ArchINSTALLBUILDCHECKBUILD BIN
alabaster.matrix 0.99.1  (landing page)
Aaron Lun
git_last_commit: e77077a
git_last_commit_date: 2023-02-16 17:18:00 -0400
nebbiolo1Linux (Ubuntu 22.04.1 LTS) / x86_64  OK    OK    OK  UNNEEDED, same version is already published
palomino3Windows Server 2022 Datacenter / x64  OK    OK    OK    OK  NO, package depends on 'alabaster.base' which is not available
merida1macOS 10.14.6 Mojave / x86_64  OK    OK    OK    OK  UNNEEDED, same version is already published
Package 3/46HostnameOS / ArchINSTALLBUILDCHECKBUILD BIN
BayesSpace 1.9.0  (landing page)
Matt Stone
git_last_commit: aded313
git_last_commit_date: 2022-11-01 11:23:03 -0400
nebbiolo1Linux (Ubuntu 22.04.1 LTS) / x86_64  OK    OK    OK  UNNEEDED, same version is already published
palomino3Windows Server 2022 Datacenter / x64  OK    OK    OK    OK  UNNEEDED, same version is already published
merida1macOS 10.14.6 Mojave / x86_64  OK    OK    OK    OK  UNNEEDED, same version is already published
Package 4/46HostnameOS / ArchINSTALLBUILDCHECKBUILD BIN
BgeeCall 1.15.0  (landing page)
Julien Wollbrett
git_last_commit: 20b38ca
git_last_commit_date: 2022-11-01 11:21:10 -0400
nebbiolo1Linux (Ubuntu 22.04.1 LTS) / x86_64  OK    OK    OK  UNNEEDED, same version is already published
palomino3Windows Server 2022 Datacenter / x64  OK    OK    OK    OK  UNNEEDED, same version is already published
merida1macOS 10.14.6 Mojave / x86_64  OK    OK    OK    OK  UNNEEDED, same version is already published
Package 5/46HostnameOS / ArchINSTALLBUILDCHECKBUILD BIN
biomformat 1.27.0  (landing page)
Paul J. McMurdie
git_last_commit: e8a0972
git_last_commit_date: 2022-11-01 11:12:36 -0400
nebbiolo1Linux (Ubuntu 22.04.1 LTS) / x86_64  OK    OK    WARNINGS  UNNEEDED, same version is already published
palomino3Windows Server 2022 Datacenter / x64  OK    OK    WARNINGS    OK  UNNEEDED, same version is already published
merida1macOS 10.14.6 Mojave / x86_64  OK    OK    WARNINGS    OK  UNNEEDED, same version is already published
Package 6/46HostnameOS / ArchINSTALLBUILDCHECKBUILD BIN
bnbc 1.21.0  (landing page)
Kipper Fletez-Brant
git_last_commit: 6fcaac4
git_last_commit_date: 2022-11-01 11:16:33 -0400
nebbiolo1Linux (Ubuntu 22.04.1 LTS) / x86_64  OK    OK    WARNINGS  UNNEEDED, same version is already published
palomino3Windows Server 2022 Datacenter / x64  OK    OK    WARNINGS    OK  UNNEEDED, same version is already published
merida1macOS 10.14.6 Mojave / x86_64  OK    OK    WARNINGS    OK  UNNEEDED, same version is already published
Package 7/46HostnameOS / ArchINSTALLBUILDCHECKBUILD BIN
bsseq 1.35.0  (landing page)
Kasper Daniel Hansen
git_last_commit: ed8b19c
git_last_commit_date: 2022-11-01 11:07:09 -0400
nebbiolo1Linux (Ubuntu 22.04.1 LTS) / x86_64  OK    OK    ERROR  
palomino3Windows Server 2022 Datacenter / x64  OK    OK    ERROR    OK  
merida1macOS 10.14.6 Mojave / x86_64  OK    OK    ERROR    OK  
Package 8/46HostnameOS / ArchINSTALLBUILDCHECKBUILD BIN
chihaya 0.99.2  (landing page)
Aaron Lun
git_last_commit: 07c3ab8
git_last_commit_date: 2023-02-20 01:28:57 -0400
nebbiolo1Linux (Ubuntu 22.04.1 LTS) / x86_64  OK    OK    WARNINGS  UNNEEDED, same version is already published
palomino3Windows Server 2022 Datacenter / x64  OK    OK    ERROR    OK  
merida1macOS 10.14.6 Mojave / x86_64  OK    OK    WARNINGS    OK  UNNEEDED, same version is already published
Package 9/46HostnameOS / ArchINSTALLBUILDCHECKBUILD BIN
CiteFuse 1.11.2  (landing page)
Yingxin Lin
git_last_commit: b607586
git_last_commit_date: 2023-02-06 23:19:48 -0400
nebbiolo1Linux (Ubuntu 22.04.1 LTS) / x86_64  OK    OK    OK  UNNEEDED, same version is already published
palomino3Windows Server 2022 Datacenter / x64  OK    OK    OK    OK  UNNEEDED, same version is already published
merida1macOS 10.14.6 Mojave / x86_64  OK    OK    OK    OK  UNNEEDED, same version is already published
Package 10/46HostnameOS / ArchINSTALLBUILDCHECKBUILD BIN
cmapR 1.11.0  (landing page)
Ted Natoli
git_last_commit: 05b06de
git_last_commit_date: 2022-11-01 11:21:36 -0400
nebbiolo1Linux (Ubuntu 22.04.1 LTS) / x86_64  OK    OK    OK  UNNEEDED, same version is already published
palomino3Windows Server 2022 Datacenter / x64  OK    OK    OK    OK  UNNEEDED, same version is already published
merida1macOS 10.14.6 Mojave / x86_64  OK    OK    OK    OK  UNNEEDED, same version is already published
Package 11/46HostnameOS / ArchINSTALLBUILDCHECKBUILD BIN
CoGAPS 3.19.1  (landing page)
Elana J. Fertig
git_last_commit: 9d1e116
git_last_commit_date: 2023-03-21 19:25:42 -0400
nebbiolo1Linux (Ubuntu 22.04.1 LTS) / x86_64  OK    OK    ERROR  
palomino3Windows Server 2022 Datacenter / x64  ERROR    ERROR  skippedskipped
merida1macOS 10.14.6 Mojave / x86_64  OK    OK    ERROR    OK  
Package 12/46HostnameOS / ArchINSTALLBUILDCHECKBUILD BIN
CopyNumberPlots 1.15.0  (landing page)
Bernat Gel
git_last_commit: a3d45ec
git_last_commit_date: 2022-11-01 11:19:46 -0400
nebbiolo1Linux (Ubuntu 22.04.1 LTS) / x86_64  OK    OK    ERROR  
palomino3Windows Server 2022 Datacenter / x64  OK    OK    OK    OK  UNNEEDED, same version is already published
merida1macOS 10.14.6 Mojave / x86_64  OK    OK    OK    OK  UNNEEDED, same version is already published
Package 13/46HostnameOS / ArchINSTALLBUILDCHECKBUILD BIN
CRISPRseek 1.39.0  (landing page)
Lihua Julie Zhu
git_last_commit: 1ce9399
git_last_commit_date: 2022-11-01 11:09:00 -0400
nebbiolo1Linux (Ubuntu 22.04.1 LTS) / x86_64  OK    OK    OK  UNNEEDED, same version is already published
palomino3Windows Server 2022 Datacenter / x64  OK    OK    OK    OK  UNNEEDED, same version is already published
merida1macOS 10.14.6 Mojave / x86_64  OK    OK    TIMEOUT    OK  
Package 14/46HostnameOS / ArchINSTALLBUILDCHECKBUILD BIN
cTRAP 1.17.0  (landing page)
Nuno Saraiva-Agostinho
git_last_commit: abdf502
git_last_commit_date: 2022-11-01 11:18:44 -0400
nebbiolo1Linux (Ubuntu 22.04.1 LTS) / x86_64  OK    OK    OK  UNNEEDED, same version is already published
palomino3Windows Server 2022 Datacenter / x64  OK    OK    WARNINGS    OK  UNNEEDED, same version is already published
merida1macOS 10.14.6 Mojave / x86_64  OK    OK    OK    OK  UNNEEDED, same version is already published
Package 15/46HostnameOS / ArchINSTALLBUILDCHECKBUILD BIN
cytomapper 1.11.1  (landing page)
Nils Eling
git_last_commit: 9957aca
git_last_commit_date: 2023-01-19 07:21:32 -0400
nebbiolo1Linux (Ubuntu 22.04.1 LTS) / x86_64  OK    OK    OK  UNNEEDED, same version is already published
palomino3Windows Server 2022 Datacenter / x64  OK    OK    OK    OK  UNNEEDED, same version is already published
merida1macOS 10.14.6 Mojave / x86_64  OK    OK    TIMEOUT    OK  
Package 16/46HostnameOS / ArchINSTALLBUILDCHECKBUILD BIN
diffHic 1.31.0  (landing page)
Aaron Lun
git_last_commit: d0d608e
git_last_commit_date: 2022-11-01 11:11:37 -0400
nebbiolo1Linux (Ubuntu 22.04.1 LTS) / x86_64  OK    OK    WARNINGS  UNNEEDED, same version is already published
palomino3Windows Server 2022 Datacenter / x64  OK    OK    WARNINGS    OK  UNNEEDED, same version is already published
merida1macOS 10.14.6 Mojave / x86_64  OK    OK    WARNINGS    OK  UNNEEDED, same version is already published
Package 17/46HostnameOS / ArchINSTALLBUILDCHECKBUILD BIN
DropletUtils 1.19.3  (landing page)
Jonathan Griffiths
git_last_commit: e44a19f
git_last_commit_date: 2023-02-06 10:27:08 -0400
nebbiolo1Linux (Ubuntu 22.04.1 LTS) / x86_64  OK    OK    WARNINGS  UNNEEDED, same version is already published
palomino3Windows Server 2022 Datacenter / x64  OK    OK    OK    OK  UNNEEDED, same version is already published
merida1macOS 10.14.6 Mojave / x86_64  OK    OK    WARNINGS    OK  UNNEEDED, same version is already published
Package 18/46HostnameOS / ArchINSTALLBUILDCHECKBUILD BIN
epigraHMM 1.7.0  (landing page)
Pedro Baldoni
git_last_commit: 984b8a3
git_last_commit_date: 2023-01-22 16:08:41 -0400
nebbiolo1Linux (Ubuntu 22.04.1 LTS) / x86_64  OK    OK    WARNINGS  NO, version to propagate (1.7.0) is lower than published version (1.7.1)
palomino3Windows Server 2022 Datacenter / x64  OK    OK    OK    OK  UNNEEDED, same version is already published
merida1macOS 10.14.6 Mojave / x86_64  OK    OK    WARNINGS    OK  NO, version to propagate (1.7.0) is lower than published version (1.7.1)
Package 19/46HostnameOS / ArchINSTALLBUILDCHECKBUILD BIN
EventPointer 3.7.0  (landing page)
Juan A. Ferrer-Bonsoms
git_last_commit: 779db2e
git_last_commit_date: 2023-03-15 11:26:40 -0400
nebbiolo1Linux (Ubuntu 22.04.1 LTS) / x86_64  OK    OK    OK  UNNEEDED, same version is already published
palomino3Windows Server 2022 Datacenter / x64  OK    OK    OK    OK  UNNEEDED, same version is already published
merida1macOS 10.14.6 Mojave / x86_64  OK    OK    OK    OK  UNNEEDED, same version is already published
Package 20/46HostnameOS / ArchINSTALLBUILDCHECKBUILD BIN
FRASER 1.11.0  (landing page)
Christian Mertes
git_last_commit: ab699ed
git_last_commit_date: 2022-11-01 11:21:56 -0400
nebbiolo1Linux (Ubuntu 22.04.1 LTS) / x86_64  OK    OK    OK  UNNEEDED, same version is already published
palomino3Windows Server 2022 Datacenter / x64  OK    OK    OK    OK  UNNEEDED, same version is already published
merida1macOS 10.14.6 Mojave / x86_64  OK    OK    OK    OK  UNNEEDED, same version is already published
Package 21/46HostnameOS / ArchINSTALLBUILDCHECKBUILD BIN
GenomicScores 2.11.0  (landing page)
Robert Castelo
git_last_commit: d78fec9
git_last_commit_date: 2022-11-01 11:15:32 -0400
nebbiolo1Linux (Ubuntu 22.04.1 LTS) / x86_64  OK    OK    WARNINGS  UNNEEDED, same version is already published
palomino3Windows Server 2022 Datacenter / x64  OK    OK    WARNINGS    OK  UNNEEDED, same version is already published
merida1macOS 10.14.6 Mojave / x86_64  OK    OK    WARNINGS    OK  UNNEEDED, same version is already published
Package 22/46HostnameOS / ArchINSTALLBUILDCHECKBUILD BIN
gep2pep 1.19.0  (landing page)
Francesco Napolitano
git_last_commit: f8e66a1
git_last_commit_date: 2022-11-01 11:16:48 -0400
nebbiolo1Linux (Ubuntu 22.04.1 LTS) / x86_64  OK    OK    OK  UNNEEDED, same version is already published
palomino3Windows Server 2022 Datacenter / x64  OK    OK    OK    OK  UNNEEDED, same version is already published
merida1macOS 10.14.6 Mojave / x86_64  OK    OK    OK    OK  UNNEEDED, same version is already published
Package 23/46HostnameOS / ArchINSTALLBUILDCHECKBUILD BIN
GSCA 2.29.0  (landing page)
Zhicheng Ji
git_last_commit: d9ee77a
git_last_commit_date: 2022-11-01 11:09:14 -0400
nebbiolo1Linux (Ubuntu 22.04.1 LTS) / x86_64  OK    OK    OK  UNNEEDED, same version is already published
palomino3Windows Server 2022 Datacenter / x64  OK    OK    OK    OK  UNNEEDED, same version is already published
merida1macOS 10.14.6 Mojave / x86_64  OK    OK    OK    OK  UNNEEDED, same version is already published
Package 24/46HostnameOS / ArchINSTALLBUILDCHECKBUILD BIN
h5vc 2.33.0  (landing page)
Paul Theodor Pyl
git_last_commit: a9ce41f
git_last_commit_date: 2022-11-01 11:08:58 -0400
nebbiolo1Linux (Ubuntu 22.04.1 LTS) / x86_64  OK    ERROR  skipped
palomino3Windows Server 2022 Datacenter / x64  OK    ERROR  skippedskipped
merida1macOS 10.14.6 Mojave / x86_64  OK    OK    WARNINGS    OK  UNNEEDED, same version is already published
Package 25/46HostnameOS / ArchINSTALLBUILDCHECKBUILD BIN
HDF5Array 1.27.0  (landing page)
Hervé Pagès
git_last_commit: 7c1f873
git_last_commit_date: 2022-11-01 11:13:03 -0400
nebbiolo1Linux (Ubuntu 22.04.1 LTS) / x86_64  OK    OK    WARNINGS  UNNEEDED, same version is already published
palomino3Windows Server 2022 Datacenter / x64  OK    OK    OK    OK  UNNEEDED, same version is already published
merida1macOS 10.14.6 Mojave / x86_64  OK    OK    WARNINGS    OK  UNNEEDED, same version is already published
Package 26/46HostnameOS / ArchINSTALLBUILDCHECKBUILD BIN
HiCBricks 1.17.0  (landing page)
Koustav Pal
git_last_commit: d85dbc7
git_last_commit_date: 2022-11-01 11:18:41 -0400
nebbiolo1Linux (Ubuntu 22.04.1 LTS) / x86_64  OK    OK    OK  UNNEEDED, same version is already published
palomino3Windows Server 2022 Datacenter / x64  OK    OK    OK    OK  UNNEEDED, same version is already published
merida1macOS 10.14.6 Mojave / x86_64  OK    OK    OK    OK  UNNEEDED, same version is already published
Package 27/46HostnameOS / ArchINSTALLBUILDCHECKBUILD BIN
HiCcompare 1.21.0  (landing page)
John Stansfield , Mikhail Dozmorov
git_last_commit: e251280
git_last_commit_date: 2022-11-01 11:16:02 -0400
nebbiolo1Linux (Ubuntu 22.04.1 LTS) / x86_64  OK    OK    WARNINGS  UNNEEDED, same version is already published
palomino3Windows Server 2022 Datacenter / x64  OK    OK    WARNINGS    OK  UNNEEDED, same version is already published
merida1macOS 10.14.6 Mojave / x86_64  OK    OK    WARNINGS    OK  UNNEEDED, same version is already published
Package 28/46HostnameOS / ArchINSTALLBUILDCHECKBUILD BIN
HiCDOC 1.1.1  (landing page)
Maigné Élise
git_last_commit: 317e301
git_last_commit_date: 2022-11-30 10:33:16 -0400
nebbiolo1Linux (Ubuntu 22.04.1 LTS) / x86_64  OK    OK    OK  UNNEEDED, same version is already published
palomino3Windows Server 2022 Datacenter / x64  OK    OK    ERROR    OK  
merida1macOS 10.14.6 Mojave / x86_64  OK    OK    OK    OK  UNNEEDED, same version is already published
Package 29/46HostnameOS / ArchINSTALLBUILDCHECKBUILD BIN
HiCExperiment 0.99.11  (landing page)
Jacques Serizay
git_last_commit: b4055e8
git_last_commit_date: 2023-03-09 04:04:35 -0400
nebbiolo1Linux (Ubuntu 22.04.1 LTS) / x86_64  OK    OK    OK  UNNEEDED, same version is already published
palomino3Windows Server 2022 Datacenter / x64  OK    OK    OK    OK  UNNEEDED, same version is already published
merida1macOS 10.14.6 Mojave / x86_64  OK    OK    OK    OK  UNNEEDED, same version is already published
Package 30/46HostnameOS / ArchINSTALLBUILDCHECKBUILD BIN
IONiseR 2.23.0  (landing page)
Mike Smith
git_last_commit: 964eb85
git_last_commit_date: 2022-11-01 11:11:49 -0400
nebbiolo1Linux (Ubuntu 22.04.1 LTS) / x86_64  OK    OK    OK  UNNEEDED, same version is already published
palomino3Windows Server 2022 Datacenter / x64  OK    OK    OK    OK  UNNEEDED, same version is already published
merida1macOS 10.14.6 Mojave / x86_64  OK    OK    OK    OK  UNNEEDED, same version is already published
Package 31/46HostnameOS / ArchINSTALLBUILDCHECKBUILD BIN
LoomExperiment 1.17.0  (landing page)
Bioconductor Package Maintainer
git_last_commit: 089ff7e
git_last_commit_date: 2022-11-01 11:18:53 -0400
nebbiolo1Linux (Ubuntu 22.04.1 LTS) / x86_64  OK    OK    OK  UNNEEDED, same version is already published
palomino3Windows Server 2022 Datacenter / x64  OK    OK    OK    OK  UNNEEDED, same version is already published
merida1macOS 10.14.6 Mojave / x86_64  OK    OK    OK    OK  UNNEEDED, same version is already published
Package 32/46HostnameOS / ArchINSTALLBUILDCHECKBUILD BIN
MOFA2 1.9.2  (landing page)
Ricard Argelaguet
git_last_commit: e605bf2
git_last_commit_date: 2023-03-19 13:41:16 -0400
nebbiolo1Linux (Ubuntu 22.04.1 LTS) / x86_64  OK    OK    OK  UNNEEDED, same version is already published
palomino3Windows Server 2022 Datacenter / x64  OK    OK    OK    OK  UNNEEDED, same version is already published
merida1macOS 10.14.6 Mojave / x86_64  OK    OK    OK    OK  UNNEEDED, same version is already published
Package 33/46HostnameOS / ArchINSTALLBUILDCHECKBUILD BIN
MuData 1.3.0  (landing page)
Danila Bredikhin
git_last_commit: fd13110
git_last_commit_date: 2022-11-01 11:26:30 -0400
nebbiolo1Linux (Ubuntu 22.04.1 LTS) / x86_64  OK    OK    OK  UNNEEDED, same version is already published
palomino3Windows Server 2022 Datacenter / x64  OK    OK    OK    OK  UNNEEDED, same version is already published
merida1macOS 10.14.6 Mojave / x86_64  OK    OK    OK    OK  UNNEEDED, same version is already published
Package 34/46HostnameOS / ArchINSTALLBUILDCHECKBUILD BIN
NxtIRFcore 1.5.0  (landing page)
Alex Chit Hei Wong
git_last_commit: 4bdae9a
git_last_commit_date: 2022-11-01 11:26:02 -0400
nebbiolo1Linux (Ubuntu 22.04.1 LTS) / x86_64  OK    OK    OK  UNNEEDED, same version is already published
palomino3Windows Server 2022 Datacenter / x64  OK    OK    OK    OK  UNNEEDED, same version is already published
merida1macOS 10.14.6 Mojave / x86_64  OK    OK    OK    OK  UNNEEDED, same version is already published
Package 35/46HostnameOS / ArchINSTALLBUILDCHECKBUILD BIN
octad 1.1.0  (landing page)
E. Chekalin
git_last_commit: 35348e5
git_last_commit_date: 2022-11-01 11:27:51 -0400
nebbiolo1Linux (Ubuntu 22.04.1 LTS) / x86_64  OK    OK    OK  UNNEEDED, same version is already published
palomino3Windows Server 2022 Datacenter / x64  OK    OK    OK    OK  UNNEEDED, same version is already published
merida1macOS 10.14.6 Mojave / x86_64  OK    OK    OK    OK  UNNEEDED, same version is already published
Package 36/46HostnameOS / ArchINSTALLBUILDCHECKBUILD BIN
phantasus 1.19.4  (landing page)
Alexey Sergushichev
git_last_commit: 489aa7a
git_last_commit_date: 2022-12-21 17:25:09 -0400
nebbiolo1Linux (Ubuntu 22.04.1 LTS) / x86_64  OK    OK    OK  UNNEEDED, same version is already published
palomino3Windows Server 2022 Datacenter / x64  OK    OK    OK    OK  UNNEEDED, same version is already published
merida1macOS 10.14.6 Mojave / x86_64  OK    OK    ERROR    OK  
Package 37/46HostnameOS / ArchINSTALLBUILDCHECKBUILD BIN
ptairMS 1.7.0  (landing page)
camille Roquencourt
git_last_commit: 3b019b8
git_last_commit_date: 2022-11-01 11:24:34 -0400
nebbiolo1Linux (Ubuntu 22.04.1 LTS) / x86_64  OK    OK    OK  UNNEEDED, same version is already published
palomino3Windows Server 2022 Datacenter / x64  OK    ERROR  skippedskipped
merida1macOS 10.14.6 Mojave / x86_64  OK    OK    OK    OK  UNNEEDED, same version is already published
Package 38/46HostnameOS / ArchINSTALLBUILDCHECKBUILD BIN
PureCN 2.5.0  (landing page)
Markus Riester
git_last_commit: 7d7d59b
git_last_commit_date: 2022-11-01 11:13:36 -0400
nebbiolo1Linux (Ubuntu 22.04.1 LTS) / x86_64  OK    OK    OK  UNNEEDED, same version is already published
palomino3Windows Server 2022 Datacenter / x64  OK    OK    OK    OK  UNNEEDED, same version is already published
merida1macOS 10.14.6 Mojave / x86_64  OK    OK    TIMEOUT    OK  
Package 39/46HostnameOS / ArchINSTALLBUILDCHECKBUILD BIN
recountmethylation 1.9.0  (landing page)
Sean K Maden
git_last_commit: 362fce0
git_last_commit_date: 2022-11-01 11:22:45 -0400
nebbiolo1Linux (Ubuntu 22.04.1 LTS) / x86_64  OK    OK    WARNINGS  UNNEEDED, same version is already published
palomino3Windows Server 2022 Datacenter / x64  OK    OK    WARNINGS    OK  UNNEEDED, same version is already published
merida1macOS 10.14.6 Mojave / x86_64  OK    OK    WARNINGS    OK  UNNEEDED, same version is already published
Package 40/46HostnameOS / ArchINSTALLBUILDCHECKBUILD BIN
ribor 1.11.0  (landing page)
Michael Geng
git_last_commit: b425109
git_last_commit_date: 2022-11-01 11:21:29 -0400
nebbiolo1Linux (Ubuntu 22.04.1 LTS) / x86_64  OK    OK    OK  UNNEEDED, same version is already published
palomino3Windows Server 2022 Datacenter / x64  OK    OK    OK    OK  UNNEEDED, same version is already published
merida1macOS 10.14.6 Mojave / x86_64  OK    OK    OK    OK  UNNEEDED, same version is already published
Package 41/46HostnameOS / ArchINSTALLBUILDCHECKBUILD BIN
scCB2 1.9.0  (landing page)
Zijian Ni
git_last_commit: 320fd52
git_last_commit_date: 2022-11-01 11:22:23 -0400
nebbiolo1Linux (Ubuntu 22.04.1 LTS) / x86_64  OK    OK    OK  UNNEEDED, same version is already published
palomino3Windows Server 2022 Datacenter / x64  OK    OK    OK    OK  UNNEEDED, same version is already published
merida1macOS 10.14.6 Mojave / x86_64  OK    OK    OK    OK  UNNEEDED, same version is already published
Package 42/46HostnameOS / ArchINSTALLBUILDCHECKBUILD BIN
scone 1.23.1  (landing page)
Davide Risso
git_last_commit: 701c577
git_last_commit_date: 2022-11-18 12:12:17 -0400
nebbiolo1Linux (Ubuntu 22.04.1 LTS) / x86_64  OK    OK    OK  UNNEEDED, same version is already published
palomino3Windows Server 2022 Datacenter / x64  OK    OK    OK    OK  UNNEEDED, same version is already published
merida1macOS 10.14.6 Mojave / x86_64  OK    OK    OK    OK  UNNEEDED, same version is already published
Package 43/46HostnameOS / ArchINSTALLBUILDCHECKBUILD BIN
signatureSearch 1.13.0  (landing page)
Brendan Gongol
git_last_commit: 3682150
git_last_commit_date: 2022-11-01 11:20:59 -0400
nebbiolo1Linux (Ubuntu 22.04.1 LTS) / x86_64  OK    OK    OK  UNNEEDED, same version is already published
palomino3Windows Server 2022 Datacenter / x64  OK    OK    OK    OK  UNNEEDED, same version is already published
merida1macOS 10.14.6 Mojave / x86_64  OK    OK    OK    OK  UNNEEDED, same version is already published
Package 44/46HostnameOS / ArchINSTALLBUILDCHECKBUILD BIN
SpliceWiz 1.1.6  (landing page)
Alex Chit Hei Wong
git_last_commit: 9076c49
git_last_commit_date: 2023-03-01 00:40:07 -0400
nebbiolo1Linux (Ubuntu 22.04.1 LTS) / x86_64  OK    OK    OK  UNNEEDED, same version is already published
palomino3Windows Server 2022 Datacenter / x64  OK    OK    OK    OK  UNNEEDED, same version is already published
merida1macOS 10.14.6 Mojave / x86_64  OK    OK    OK    OK  UNNEEDED, same version is already published
Package 45/46HostnameOS / ArchINSTALLBUILDCHECKBUILD BIN
SpotClean 1.1.1  (landing page)
Zijian Ni
git_last_commit: c4e7d1d
git_last_commit_date: 2022-11-22 21:42:11 -0400
nebbiolo1Linux (Ubuntu 22.04.1 LTS) / x86_64  OK    OK    OK  UNNEEDED, same version is already published
palomino3Windows Server 2022 Datacenter / x64  OK    OK    OK    OK  UNNEEDED, same version is already published
merida1macOS 10.14.6 Mojave / x86_64  OK    OK    OK    OK  UNNEEDED, same version is already published
Package 46/46HostnameOS / ArchINSTALLBUILDCHECKBUILD BIN
trackViewer 1.35.4  (landing page)
Jianhong Ou
git_last_commit: aa48248
git_last_commit_date: 2023-02-01 10:40:20 -0400
nebbiolo1Linux (Ubuntu 22.04.1 LTS) / x86_64  OK    OK    OK  UNNEEDED, same version is already published
palomino3Windows Server 2022 Datacenter / x64  OK    OK    OK    OK  UNNEEDED, same version is already published
merida1macOS 10.14.6 Mojave / x86_64  OK    OK    OK    OK  UNNEEDED, same version is already published