Back to Multiple platform build/check report for BioC 3.17: simplified long |
|
This page was generated on 2023-03-22 11:05:43 -0400 (Wed, 22 Mar 2023).
Hostname | OS | Arch (*) | R version | Installed pkgs |
---|---|---|---|---|
nebbiolo1 | Linux (Ubuntu 22.04.1 LTS) | x86_64 | R Under development (unstable) (2023-03-16 r83996) -- "Unsuffered Consequences" | 4508 |
palomino3 | Windows Server 2022 Datacenter | x64 | R Under development (unstable) (2023-03-15 r83984 ucrt) -- "Unsuffered Consequences" | 4293 |
merida1 | macOS 10.14.6 Mojave | x86_64 | R Under development (unstable) (2023-03-16 r83985) -- "Unsuffered Consequences" | 4290 |
Click on any hostname to see more info about the system (e.g. compilers) (*) as reported by 'uname -p', except on Windows and Mac OS X |
To the developers/maintainers of the CINdex package: - Please allow up to 24 hours (and sometimes 48 hours) for your latest push to git@git.bioconductor.org:packages/CINdex.git to reflect on this report. See How and When does the builder pull? When will my changes propagate? for more information. - Make sure to use the following settings in order to reproduce any error or warning you see on this page. |
Package 341/2189 | Hostname | OS / Arch | INSTALL | BUILD | CHECK | BUILD BIN | ||||||||
CINdex 1.27.0 (landing page) Yuriy Gusev
| nebbiolo1 | Linux (Ubuntu 22.04.1 LTS) / x86_64 | OK | OK | WARNINGS | ![]() | ||||||||
palomino3 | Windows Server 2022 Datacenter / x64 | OK | OK | WARNINGS | OK | ![]() | ||||||||
merida1 | macOS 10.14.6 Mojave / x86_64 | OK | OK | WARNINGS | OK | ![]() | ||||||||
Package: CINdex |
Version: 1.27.0 |
Command: rm -rf CINdex.buildbin-libdir && mkdir CINdex.buildbin-libdir && F:\biocbuild\bbs-3.17-bioc\R\bin\R.exe CMD INSTALL --build --library=CINdex.buildbin-libdir CINdex_1.27.0.tar.gz |
StartedAt: 2023-03-22 08:30:06 -0400 (Wed, 22 Mar 2023) |
EndedAt: 2023-03-22 08:30:47 -0400 (Wed, 22 Mar 2023) |
EllapsedTime: 41.5 seconds |
RetCode: 0 |
Status: OK |
PackageFile: CINdex_1.27.0.zip |
PackageFileSize: 17.95 MiB |
############################################################################## ############################################################################## ### ### Running command: ### ### rm -rf CINdex.buildbin-libdir && mkdir CINdex.buildbin-libdir && F:\biocbuild\bbs-3.17-bioc\R\bin\R.exe CMD INSTALL --build --library=CINdex.buildbin-libdir CINdex_1.27.0.tar.gz ### ############################################################################## ############################################################################## * installing *source* package 'CINdex' ... ** using staged installation ** R ** data *** moving datasets to lazyload DB ** inst ** byte-compile and prepare package for lazy loading Warning: replacing previous import 'IRanges::windows' by 'grDevices::windows' when loading 'CINdex' ** help *** installing help indices ** building package indices ** installing vignettes ** testing if installed package can be loaded from temporary location Warning: replacing previous import 'IRanges::windows' by 'grDevices::windows' when loading 'CINdex' ** testing if installed package can be loaded from final location Warning: replacing previous import 'IRanges::windows' by 'grDevices::windows' when loading 'CINdex' ** testing if installed package keeps a record of temporary installation path * MD5 sums packaged installation of 'CINdex' as CINdex_1.27.0.zip * DONE (CINdex)