Back to Multiple platform build/check report for BioC 3.17:   simplified   long
AB[C]DEFGHIJKLMNOPQRSTUVWXYZ

This page was generated on 2023-06-03 14:37:07 -0400 (Sat, 03 Jun 2023).

HostnameOSArch (*)R versionInstalled pkgs
nebbiolo1Linux (Ubuntu 22.04.2 LTS)x86_644.3.0 RC (2023-04-13 r84269) -- "Already Tomorrow" 4623
palomino3Windows Server 2022 Datacenterx644.3.0 RC (2023-04-13 r84269 ucrt) -- "Already Tomorrow" 4374
merida1macOS 12.6.4 Montereyx86_644.3.0 RC (2023-04-13 r84257) -- "Already Tomorrow" 4332
Click on any hostname to see more info about the system (e.g. compilers)      (*) as reported by 'uname -p', except on Windows and Mac OS X

BUILD results for compEpiTools on palomino3


To the developers/maintainers of the compEpiTools package:
- Allow up to 24 hours (and sometimes 48 hours) for your latest push to git@git.bioconductor.org:packages/compEpiTools.git to reflect on this report. See Troubleshooting Build Report for more information.

- Use the following Renviron settings to reproduce errors and warnings.

Note: If "R CMD check" recently failed on the Linux builder over a missing dependency, add the missing dependency to "Suggests" in your DESCRIPTION file. See the Renviron.bioc for details.

raw results

Package 408/2229HostnameOS / ArchINSTALLBUILDCHECKBUILD BIN
compEpiTools 1.34.1  (landing page)
Mattia Furlan
Snapshot Date: 2023-06-02 14:00:14 -0400 (Fri, 02 Jun 2023)
git_url: https://git.bioconductor.org/packages/compEpiTools
git_branch: RELEASE_3_17
git_last_commit: 4f44f42
git_last_commit_date: 2023-05-02 15:23:53 -0400 (Tue, 02 May 2023)
nebbiolo1Linux (Ubuntu 22.04.2 LTS) / x86_64  OK    OK    WARNINGS  UNNEEDED, same version is already published
palomino3Windows Server 2022 Datacenter / x64  OK    OK    WARNINGS    OK  UNNEEDED, same version is already published
merida1macOS 12.6.4 Monterey / x86_64  OK    OK    WARNINGS    OK  NO, package depends on 'methylPipe' which is not available

Summary

Package: compEpiTools
Version: 1.34.1
Command: chmod a+r compEpiTools -R && F:\biocbuild\bbs-3.17-bioc\R\bin\R.exe CMD build --keep-empty-dirs --no-resave-data compEpiTools
StartedAt: 2023-06-02 18:15:37 -0400 (Fri, 02 Jun 2023)
EndedAt: 2023-06-02 18:17:30 -0400 (Fri, 02 Jun 2023)
EllapsedTime: 112.9 seconds
RetCode: 0
Status:   OK  
PackageFile: compEpiTools_1.34.1.tar.gz
PackageFileSize: 2.164 MiB

Command output

##############################################################################
##############################################################################
###
### Running command:
###
###   chmod a+r compEpiTools -R && F:\biocbuild\bbs-3.17-bioc\R\bin\R.exe CMD build --keep-empty-dirs --no-resave-data compEpiTools
###
##############################################################################
##############################################################################


* checking for file 'compEpiTools/DESCRIPTION' ... OK
* preparing 'compEpiTools':
* checking DESCRIPTION meta-information ... OK
* installing the package to build vignettes
* creating vignettes ... OK
* checking for LF line-endings in source and make files and shell scripts
* checking for empty or unneeded directories
  NB: this package now depends on R (>= 3.5.0)
  WARNING: Added dependency on R >= 3.5.0 because serialized objects in
  serialize/load version 3 cannot be read in older versions of R.
  File(s) containing such objects:
    'compEpiTools/inst/extdata/CGIgr_mm9.Rdata'
    'compEpiTools/inst/extdata/H3K4me1GR.Rda'
    'compEpiTools/inst/extdata/H3K4me3GR.Rda'
    'compEpiTools/inst/extdata/Pol2GR.Rda'
* building 'compEpiTools_1.34.1.tar.gz'