Back to Multiple platform build/check report for BioC 3.17:   simplified   long
AB[C]DEFGHIJKLMNOPQRSTUVWXYZ

This page was generated on 2023-03-23 11:06:36 -0400 (Thu, 23 Mar 2023).

HostnameOSArch (*)R versionInstalled pkgs
nebbiolo1Linux (Ubuntu 22.04.1 LTS)x86_64R Under development (unstable) (2023-03-16 r83996) -- "Unsuffered Consequences" 4536
palomino3Windows Server 2022 Datacenterx64R Under development (unstable) (2023-03-15 r83984 ucrt) -- "Unsuffered Consequences" 4298
merida1macOS 10.14.6 Mojavex86_64R Under development (unstable) (2023-03-16 r83985) -- "Unsuffered Consequences" 4290
Click on any hostname to see more info about the system (e.g. compilers)      (*) as reported by 'uname -p', except on Windows and Mac OS X

BUILD BIN results for Cepo on merida1


To the developers/maintainers of the Cepo package:
- Please allow up to 24 hours (and sometimes 48 hours) for your latest push to git@git.bioconductor.org:packages/Cepo.git to
reflect on this report. See How and When does the builder pull? When will my changes propagate? for more information.
- Make sure to use the following settings in order to reproduce any error or warning you see on this page.

raw results

Package 299/2189HostnameOS / ArchINSTALLBUILDCHECKBUILD BIN
Cepo 1.5.0  (landing page)
Hani Jieun Kim
Snapshot Date: 2023-03-22 14:00:17 -0400 (Wed, 22 Mar 2023)
git_url: https://git.bioconductor.org/packages/Cepo
git_branch: devel
git_last_commit: e66ee7f
git_last_commit_date: 2022-11-01 11:26:00 -0400 (Tue, 01 Nov 2022)
nebbiolo1Linux (Ubuntu 22.04.1 LTS) / x86_64  OK    OK    WARNINGS  UNNEEDED, same version is already published
palomino3Windows Server 2022 Datacenter / x64  OK    OK    WARNINGS    OK  UNNEEDED, same version is already published
merida1macOS 10.14.6 Mojave / x86_64  OK    OK    WARNINGS    OK  UNNEEDED, same version is already published

Summary

Package: Cepo
Version: 1.5.0
Command: rm -rf Cepo.buildbin-libdir && mkdir Cepo.buildbin-libdir && /Users/biocbuild/BBS/utils/build-universal.sh Cepo_1.5.0.tar.gz /Library/Frameworks/R.framework/Resources/bin/R Cepo.buildbin-libdir
StartedAt: 2023-03-23 09:34:15 -0400 (Thu, 23 Mar 2023)
EndedAt: 2023-03-23 09:36:03 -0400 (Thu, 23 Mar 2023)
EllapsedTime: 108.8 seconds
RetCode: 0
Status:   OK  
PackageFile: Cepo_1.5.0.tgz
PackageFileSize: 2.923 MiB

Command output

##############################################################################
##############################################################################
###
### Running command:
###
###   rm -rf Cepo.buildbin-libdir && mkdir Cepo.buildbin-libdir && /Users/biocbuild/BBS/utils/build-universal.sh Cepo_1.5.0.tar.gz /Library/Frameworks/R.framework/Resources/bin/R Cepo.buildbin-libdir
###
##############################################################################
##############################################################################


>>>>>>> 
>>>>>>> INSTALLATION WITH 'R CMD INSTALL --preclean --no-multiarch --library=Cepo.buildbin-libdir Cepo_1.5.0.tar.gz'
>>>>>>> 

* installing *source* package ‘Cepo’ ...
** using staged installation
** R
** data
** inst
** byte-compile and prepare package for lazy loading
** help
*** installing help indices
*** copying figures
** building package indices
** installing vignettes
** testing if installed package can be loaded from temporary location
** testing if installed package can be loaded from final location
** testing if installed package keeps a record of temporary installation path
* DONE (Cepo)