Back to Multiple platform build/check report for BioC 3.17:   simplified   long
ABCDEF[G]HIJKLMNOPQRSTUVWXYZ

This page was generated on 2023-03-24 11:05:59 -0400 (Fri, 24 Mar 2023).

HostnameOSArch (*)R versionInstalled pkgs
nebbiolo1Linux (Ubuntu 22.04.1 LTS)x86_64R Under development (unstable) (2023-03-16 r83996) -- "Unsuffered Consequences" 4546
palomino3Windows Server 2022 Datacenterx64R Under development (unstable) (2023-03-15 r83984 ucrt) -- "Unsuffered Consequences" 4307
merida1macOS 10.14.6 Mojavex86_64R Under development (unstable) (2023-03-16 r83985) -- "Unsuffered Consequences" 4299
Click on any hostname to see more info about the system (e.g. compilers)      (*) as reported by 'uname -p', except on Windows and Mac OS X

INSTALL results for GOSim on palomino3


To the developers/maintainers of the GOSim package:
- Please allow up to 24 hours (and sometimes 48 hours) for your latest push to git@git.bioconductor.org:packages/GOSim.git to
reflect on this report. See How and When does the builder pull? When will my changes propagate? for more information.
- Make sure to use the following settings in order to reproduce any error or warning you see on this page.

raw results

Package 849/2195HostnameOS / ArchINSTALLBUILDCHECKBUILD BIN
GOSim 1.37.0  (landing page)
Holger Froehlich
Snapshot Date: 2023-03-23 14:00:15 -0400 (Thu, 23 Mar 2023)
git_url: https://git.bioconductor.org/packages/GOSim
git_branch: devel
git_last_commit: 04d1a87
git_last_commit_date: 2022-11-01 11:08:42 -0400 (Tue, 01 Nov 2022)
nebbiolo1Linux (Ubuntu 22.04.1 LTS) / x86_64  OK    OK    OK  UNNEEDED, same version is already published
palomino3Windows Server 2022 Datacenter / x64  OK    OK    OK    OK  UNNEEDED, same version is already published
merida1macOS 10.14.6 Mojave / x86_64  OK    OK    OK    OK  UNNEEDED, same version is already published

Summary

Package: GOSim
Version: 1.37.0
Command: F:\biocbuild\bbs-3.17-bioc\R\bin\R.exe CMD INSTALL GOSim
StartedAt: 2023-03-23 16:02:54 -0400 (Thu, 23 Mar 2023)
EndedAt: 2023-03-23 16:03:36 -0400 (Thu, 23 Mar 2023)
EllapsedTime: 42.1 seconds
RetCode: 0
Status:   OK  

Command output

##############################################################################
##############################################################################
###
### Running command:
###
###   F:\biocbuild\bbs-3.17-bioc\R\bin\R.exe CMD INSTALL GOSim
###
##############################################################################
##############################################################################


* installing to library 'F:/biocbuild/bbs-3.17-bioc/R/library'
* installing *source* package 'GOSim' ...
** using staged installation
** libs
using C compiler: 'gcc.exe (GCC) 12.2.0'
using C++ compiler: 'G__~1.EXE (GCC) 12.2.0'
g++ -std=gnu++17  -I"F:/biocbuild/bbs-3.17-bioc/R/include" -DNDEBUG  -I'F:/biocbuild/bbs-3.17-bioc/R/library/Rcpp/include'   -I"C:/rtools43/x86_64-w64-mingw32.static.posix/include"  `F:/biocbuild/bbs-3.17-bioc/R/bin/Rscript -e "require(Rcpp); Rcpp:::CxxFlags()"`   -O2 -Wall  -mfpmath=sse -msse2 -mstackrealign  -c OAWrapper.cpp -o OAWrapper.o
Loading required package: Rcpp
gcc  -I"F:/biocbuild/bbs-3.17-bioc/R/include" -DNDEBUG  -I'F:/biocbuild/bbs-3.17-bioc/R/library/Rcpp/include'   -I"C:/rtools43/x86_64-w64-mingw32.static.posix/include"     -O2 -Wall  -mfpmath=sse -msse2 -mstackrealign  -c hungarian2.c -o hungarian2.o
Loading required package: Rcpp
g++ -std=gnu++17 -shared -s -static-libgcc -o GOSim.dll tmp.def OAWrapper.o hungarian2.o -LC:/rtools43/x86_64-w64-mingw32.static.posix/lib/x64 -LC:/rtools43/x86_64-w64-mingw32.static.posix/lib -LF:/biocbuild/bbs-3.17-bioc/R/bin/x64 -lR
Loading required package: Rcpp
installing to F:/biocbuild/bbs-3.17-bioc/R/library/00LOCK-GOSim/00new/GOSim/libs/x64
** R
** data
** inst
** byte-compile and prepare package for lazy loading
** help
*** installing help indices
** building package indices
** installing vignettes
** testing if installed package can be loaded from temporary location
** testing if installed package can be loaded from final location
** testing if installed package keeps a record of temporary installation path
* DONE (GOSim)